BEGIN:VCALENDAR
VERSION:2.0
PRODID:-//South Metro Safety Foundation - ECPv6.15.20//NONSGML v1.0//EN
CALSCALE:GREGORIAN
METHOD:PUBLISH
X-WR-CALNAME:South Metro Safety Foundation
X-ORIGINAL-URL:https://www.southmetrofoundation.org
X-WR-CALDESC:Events for South Metro Safety Foundation
REFRESH-INTERVAL;VALUE=DURATION:PT1H
X-Robots-Tag:noindex
X-PUBLISHED-TTL:PT1H
BEGIN:VTIMEZONE
TZID:America/Denver
BEGIN:DAYLIGHT
TZOFFSETFROM:-0700
TZOFFSETTO:-0600
TZNAME:MDT
DTSTART:20240310T090000
END:DAYLIGHT
BEGIN:STANDARD
TZOFFSETFROM:-0600
TZOFFSETTO:-0700
TZNAME:MST
DTSTART:20241103T080000
END:STANDARD
BEGIN:DAYLIGHT
TZOFFSETFROM:-0700
TZOFFSETTO:-0600
TZNAME:MDT
DTSTART:20250309T090000
END:DAYLIGHT
BEGIN:STANDARD
TZOFFSETFROM:-0600
TZOFFSETTO:-0700
TZNAME:MST
DTSTART:20251102T080000
END:STANDARD
BEGIN:DAYLIGHT
TZOFFSETFROM:-0700
TZOFFSETTO:-0600
TZNAME:MDT
DTSTART:20260308T090000
END:DAYLIGHT
BEGIN:STANDARD
TZOFFSETFROM:-0600
TZOFFSETTO:-0700
TZNAME:MST
DTSTART:20261101T080000
END:STANDARD
END:VTIMEZONE
BEGIN:VEVENT
DTSTART;TZID=America/Denver:20250711T090000
DTEND;TZID=America/Denver:20250711T153000
DTSTAMP:20260424T093236
CREATED:20250604T012433Z
LAST-MODIFIED:20250604T012433Z
UID:10000464-1752224400-1752247800@www.southmetrofoundation.org
SUMMARY:Super Sitter Babysitting Class  07/11/2025
DESCRIPTION:
URL:https://www.southmetrofoundation.org/event/super-sitter-babysitting-class-07-11-2025/
LOCATION:South Metro Fire Station 45\, 16801 Northgate Dr\, Parker\, Colorado\, 80134
CATEGORIES:Babysitting Class
END:VEVENT
BEGIN:VEVENT
DTSTART;TZID=America/Denver:20250712T090000
DTEND;TZID=America/Denver:20250712T153000
DTSTAMP:20260424T093236
CREATED:20250604T015201Z
LAST-MODIFIED:20250604T015201Z
UID:10000465-1752310800-1752334200@www.southmetrofoundation.org
SUMMARY:Super Sitter Babysitting Class  07/12/2025
DESCRIPTION:
URL:https://www.southmetrofoundation.org/event/super-sitter-babysitting-class-07-12-2025/
LOCATION:South Metro Fire Rescue HQ\, 9195 E. Mineral Ave\, Centennial\, CO\, 80112\, United States
CATEGORIES:Babysitting Class
END:VEVENT
BEGIN:VEVENT
DTSTART;TZID=America/Denver:20250713T090000
DTEND;TZID=America/Denver:20250713T153000
DTSTAMP:20260424T093236
CREATED:20250702T164623Z
LAST-MODIFIED:20250711T005936Z
UID:10000475-1752397200-1752420600@www.southmetrofoundation.org
SUMMARY:Super Sitter Babysitting Class 07/13/2025
DESCRIPTION:
URL:https://www.southmetrofoundation.org/event/super-sitter-babysitting-class-07-13-2025/
LOCATION:South Metro Fire Rescue HQ\, 9195 E. Mineral Ave\, Centennial\, CO\, 80112\, United States
CATEGORIES:Babysitting Class
END:VEVENT
BEGIN:VEVENT
DTSTART;TZID=America/Denver:20250719T090000
DTEND;TZID=America/Denver:20250719T153000
DTSTAMP:20260424T093236
CREATED:20250604T142842Z
LAST-MODIFIED:20250604T142842Z
UID:10000466-1752915600-1752939000@www.southmetrofoundation.org
SUMMARY:Super Sitter Babysitting Class  07/19/2025
DESCRIPTION:
URL:https://www.southmetrofoundation.org/event/super-sitter-babysitting-class-07-19-2025/
LOCATION:South Metro Fire Station 45\, 16801 Northgate Dr\, Parker\, Colorado\, 80134
CATEGORIES:Babysitting Class
END:VEVENT
BEGIN:VEVENT
DTSTART;TZID=America/Denver:20250720T090000
DTEND;TZID=America/Denver:20250720T153000
DTSTAMP:20260424T093236
CREATED:20250703T233853Z
LAST-MODIFIED:20250703T233853Z
UID:10000476-1753002000-1753025400@www.southmetrofoundation.org
SUMMARY:Super Sitter Babysitting Class  07/20/2025
DESCRIPTION:
URL:https://www.southmetrofoundation.org/event/super-sitter-babysitting-class-07-20-2025/
LOCATION:South Metro Fire Station 45\, 16801 Northgate Dr\, Parker\, Colorado\, 80134
CATEGORIES:Babysitting Class
END:VEVENT
END:VCALENDAR