BEGIN:VCALENDAR
VERSION:2.0
PRODID:-//South Metro Safety Foundation - ECPv6.15.20//NONSGML v1.0//EN
CALSCALE:GREGORIAN
METHOD:PUBLISH
X-WR-CALNAME:South Metro Safety Foundation
X-ORIGINAL-URL:https://www.southmetrofoundation.org
X-WR-CALDESC:Events for South Metro Safety Foundation
REFRESH-INTERVAL;VALUE=DURATION:PT1H
X-Robots-Tag:noindex
X-PUBLISHED-TTL:PT1H
BEGIN:VTIMEZONE
TZID:America/Denver
BEGIN:DAYLIGHT
TZOFFSETFROM:-0700
TZOFFSETTO:-0600
TZNAME:MDT
DTSTART:20240310T090000
END:DAYLIGHT
BEGIN:STANDARD
TZOFFSETFROM:-0600
TZOFFSETTO:-0700
TZNAME:MST
DTSTART:20241103T080000
END:STANDARD
BEGIN:DAYLIGHT
TZOFFSETFROM:-0700
TZOFFSETTO:-0600
TZNAME:MDT
DTSTART:20250309T090000
END:DAYLIGHT
BEGIN:STANDARD
TZOFFSETFROM:-0600
TZOFFSETTO:-0700
TZNAME:MST
DTSTART:20251102T080000
END:STANDARD
BEGIN:DAYLIGHT
TZOFFSETFROM:-0700
TZOFFSETTO:-0600
TZNAME:MDT
DTSTART:20260308T090000
END:DAYLIGHT
BEGIN:STANDARD
TZOFFSETFROM:-0600
TZOFFSETTO:-0700
TZNAME:MST
DTSTART:20261101T080000
END:STANDARD
END:VTIMEZONE
BEGIN:VEVENT
DTSTART;TZID=America/Denver:20251108T090000
DTEND;TZID=America/Denver:20251108T153000
DTSTAMP:20260424T024445
CREATED:20251003T215552Z
LAST-MODIFIED:20251107T170602Z
UID:10000512-1762592400-1762615800@www.southmetrofoundation.org
SUMMARY:Super Sitter Babysitting Class 11/08/2025
DESCRIPTION:
URL:https://www.southmetrofoundation.org/event/super-sitter-babysitting-class-11-08-2025/
LOCATION:South Metro Fire Station 45\, 16801 Northgate Dr\, Parker\, Colorado\, 80134
CATEGORIES:Babysitting Class
END:VEVENT
BEGIN:VEVENT
DTSTART;TZID=America/Denver:20251109T090000
DTEND;TZID=America/Denver:20251109T153000
DTSTAMP:20260424T024445
CREATED:20251003T220246Z
LAST-MODIFIED:20251010T153926Z
UID:10000513-1762678800-1762702200@www.southmetrofoundation.org
SUMMARY:Super Sitter Babysitting Class 11/09/2025
DESCRIPTION:
URL:https://www.southmetrofoundation.org/event/super-sitter-babysitting-class-11-09-2025/
LOCATION:South Metro Fire Station 45\, 16801 Northgate Dr\, Parker\, Colorado\, 80134
CATEGORIES:Babysitting Class
END:VEVENT
BEGIN:VEVENT
DTSTART;TZID=America/Denver:20251123T090000
DTEND;TZID=America/Denver:20251123T153000
DTSTAMP:20260424T024445
CREATED:20251003T221316Z
LAST-MODIFIED:20251120T193220Z
UID:10000515-1763888400-1763911800@www.southmetrofoundation.org
SUMMARY:Super Sitter Babysitting Class 11/23/2025
DESCRIPTION:
URL:https://www.southmetrofoundation.org/event/super-sitter-babysitting-class-11-23-2025/
LOCATION:South Metro Fire Rescue HQ\, 9195 E. Mineral Ave\, Centennial\, CO\, 80112\, United States
CATEGORIES:Babysitting Class
END:VEVENT
END:VCALENDAR