BEGIN:VCALENDAR
VERSION:2.0
PRODID:-//South Metro Safety Foundation - ECPv6.15.20//NONSGML v1.0//EN
CALSCALE:GREGORIAN
METHOD:PUBLISH
X-WR-CALNAME:South Metro Safety Foundation
X-ORIGINAL-URL:https://www.southmetrofoundation.org
X-WR-CALDESC:Events for South Metro Safety Foundation
REFRESH-INTERVAL;VALUE=DURATION:PT1H
X-Robots-Tag:noindex
X-PUBLISHED-TTL:PT1H
BEGIN:VTIMEZONE
TZID:America/Denver
BEGIN:DAYLIGHT
TZOFFSETFROM:-0700
TZOFFSETTO:-0600
TZNAME:MDT
DTSTART:20210314T090000
END:DAYLIGHT
BEGIN:STANDARD
TZOFFSETFROM:-0600
TZOFFSETTO:-0700
TZNAME:MST
DTSTART:20211107T080000
END:STANDARD
BEGIN:DAYLIGHT
TZOFFSETFROM:-0700
TZOFFSETTO:-0600
TZNAME:MDT
DTSTART:20220313T090000
END:DAYLIGHT
BEGIN:STANDARD
TZOFFSETFROM:-0600
TZOFFSETTO:-0700
TZNAME:MST
DTSTART:20221106T080000
END:STANDARD
BEGIN:DAYLIGHT
TZOFFSETFROM:-0700
TZOFFSETTO:-0600
TZNAME:MDT
DTSTART:20230312T090000
END:DAYLIGHT
BEGIN:STANDARD
TZOFFSETFROM:-0600
TZOFFSETTO:-0700
TZNAME:MST
DTSTART:20231105T080000
END:STANDARD
BEGIN:DAYLIGHT
TZOFFSETFROM:-0700
TZOFFSETTO:-0600
TZNAME:MDT
DTSTART:20240310T090000
END:DAYLIGHT
BEGIN:STANDARD
TZOFFSETFROM:-0600
TZOFFSETTO:-0700
TZNAME:MST
DTSTART:20241103T080000
END:STANDARD
END:VTIMEZONE
BEGIN:VEVENT
DTSTART;TZID=America/Denver:20230521T090000
DTEND;TZID=America/Denver:20230521T153000
DTSTAMP:20260424T100207
CREATED:20230313T213336Z
LAST-MODIFIED:20230316T194028Z
UID:10000132-1684659600-1684683000@www.southmetrofoundation.org
SUMMARY:Super Sitter Babysitting Class
DESCRIPTION:
URL:https://www.southmetrofoundation.org/event/super-sitter-babysitting-class-12/
LOCATION:South Metro Fire Rescue HQ\, 9195 E. Mineral Ave\, Centennial\, CO\, 80112\, United States
CATEGORIES:Babysitting Class
END:VEVENT
BEGIN:VEVENT
DTSTART;TZID=America/Denver:20230506T090000
DTEND;TZID=America/Denver:20230506T153000
DTSTAMP:20260424T100207
CREATED:20230420T173646Z
LAST-MODIFIED:20230506T005114Z
UID:10000152-1683363600-1683387000@www.southmetrofoundation.org
SUMMARY:Super Sitter Babysitting Class
DESCRIPTION:
URL:https://www.southmetrofoundation.org/event/super-sitter-babysitting-class-13/
LOCATION:South Metro Fire Station 45\, 16801 Northgate Dr\, Parker\, Colorado\, 80134
CATEGORIES:Babysitting Class
END:VEVENT
BEGIN:VEVENT
DTSTART;TZID=America/Denver:20230429T090000
DTEND;TZID=America/Denver:20230429T153000
DTSTAMP:20260424T100207
CREATED:20230313T212808Z
LAST-MODIFIED:20230417T151101Z
UID:10000133-1682758800-1682782200@www.southmetrofoundation.org
SUMMARY:Super Sitter Babysitting Class
DESCRIPTION:
URL:https://www.southmetrofoundation.org/event/super-sitter-babysitting-class-11/
LOCATION:South Metro Fire Rescue HQ\, 9195 E. Mineral Ave\, Centennial\, CO\, 80112\, United States
CATEGORIES:Babysitting Class
END:VEVENT
BEGIN:VEVENT
DTSTART;TZID=America/Denver:20230423T090000
DTEND;TZID=America/Denver:20230423T153000
DTSTAMP:20260424T100207
CREATED:20230313T214358Z
LAST-MODIFIED:20230421T193411Z
UID:10000131-1682240400-1682263800@www.southmetrofoundation.org
SUMMARY:Super Sitter Babysitting Class
DESCRIPTION:
URL:https://www.southmetrofoundation.org/event/kids-home-alone-safety-class-13/
LOCATION:South Metro Fire Station 45\, 16801 Northgate Dr\, Parker\, Colorado\, 80134
CATEGORIES:Babysitting Class
END:VEVENT
BEGIN:VEVENT
DTSTART;TZID=America/Denver:20230416T090000
DTEND;TZID=America/Denver:20230416T153000
DTSTAMP:20260424T100207
CREATED:20230313T205805Z
LAST-MODIFIED:20230414T223431Z
UID:10000134-1681635600-1681659000@www.southmetrofoundation.org
SUMMARY:Super Sitter Babysitting Class
DESCRIPTION:
URL:https://www.southmetrofoundation.org/event/super-sitter-babysitting-class-10/
LOCATION:South Metro Fire Station 45\, 16801 Northgate Dr\, Parker\, Colorado\, 80134
CATEGORIES:Babysitting Class
END:VEVENT
BEGIN:VEVENT
DTSTART;TZID=America/Denver:20230325T090000
DTEND;TZID=America/Denver:20230325T153000
DTSTAMP:20260424T100207
CREATED:20230209T210706Z
LAST-MODIFIED:20230210T161055Z
UID:10000051-1679734800-1679758200@www.southmetrofoundation.org
SUMMARY:Super Sitter Babysitting Class - 3/25/23
DESCRIPTION:
URL:https://www.southmetrofoundation.org/event/super-sitter-babysitting-class-8/
LOCATION:South Metro Fire Station 45\, 16801 Northgate Dr\, Parker\, Colorado\, 80134
CATEGORIES:Babysitting Class
END:VEVENT
BEGIN:VEVENT
DTSTART;TZID=America/Denver:20230305T090000
DTEND;TZID=America/Denver:20230305T153000
DTSTAMP:20260424T100207
CREATED:20230209T205705Z
LAST-MODIFIED:20230210T162039Z
UID:10000049-1678006800-1678030200@www.southmetrofoundation.org
SUMMARY:Super Sitter Babysitting Class - 3/5/23
DESCRIPTION:
URL:https://www.southmetrofoundation.org/event/super-sitter-babysitting-class-7/
LOCATION:South Metro Fire Station 45\, 16801 Northgate Dr\, Parker\, Colorado\, 80134
CATEGORIES:Babysitting Class
END:VEVENT
BEGIN:VEVENT
DTSTART;TZID=America/Denver:20230226T090000
DTEND;TZID=America/Denver:20230226T153000
DTSTAMP:20260424T100207
CREATED:20221209T023055Z
LAST-MODIFIED:20221230T055645Z
UID:10000108-1677402000-1677425400@www.southmetrofoundation.org
SUMMARY:Super Sitter Babysitting Class
DESCRIPTION:
URL:https://www.southmetrofoundation.org/event/super-sitter-babysitting-class-5/
LOCATION:South Metro Fire Station 45\, 16801 Northgate Dr\, Parker\, Colorado\, 80134
CATEGORIES:Babysitting Class
END:VEVENT
BEGIN:VEVENT
DTSTART;TZID=America/Denver:20230225T090000
DTEND;TZID=America/Denver:20230225T153000
DTSTAMP:20260424T100207
CREATED:20230209T030644Z
LAST-MODIFIED:20230222T221012Z
UID:10000047-1677315600-1677339000@www.southmetrofoundation.org
SUMMARY:Super Sitter Babysitting Class
DESCRIPTION:
URL:https://www.southmetrofoundation.org/event/super-sitter-babysitting-class-6/
LOCATION:South Metro Fire Station 45\, 16801 Northgate Dr\, Parker\, Colorado\, 80134
CATEGORIES:Babysitting Class
END:VEVENT
BEGIN:VEVENT
DTSTART;TZID=America/Denver:20230211T090000
DTEND;TZID=America/Denver:20230211T153000
DTSTAMP:20260424T100207
CREATED:20221209T021843Z
LAST-MODIFIED:20230209T031526Z
UID:10000105-1676106000-1676129400@www.southmetrofoundation.org
SUMMARY:Super Sitter Babysitting Class
DESCRIPTION:
URL:https://www.southmetrofoundation.org/event/super-sitter-babysitting-class-4/
LOCATION:South Metro Fire Rescue HQ\, 9195 E. Mineral Ave\, Centennial\, CO\, 80112\, United States
CATEGORIES:Babysitting Class
END:VEVENT
BEGIN:VEVENT
DTSTART;TZID=America/Denver:20230205T090000
DTEND;TZID=America/Denver:20230205T153000
DTSTAMP:20260424T100207
CREATED:20221209T021523Z
LAST-MODIFIED:20221230T054947Z
UID:10000103-1675587600-1675611000@www.southmetrofoundation.org
SUMMARY:Super Sitter Babysitting Class
DESCRIPTION:
URL:https://www.southmetrofoundation.org/event/super-sitter-babysitting-class-3/
LOCATION:South Metro Fire Station 45\, 16801 Northgate Dr\, Parker\, Colorado\, 80134
CATEGORIES:Babysitting Class
END:VEVENT
BEGIN:VEVENT
DTSTART;TZID=America/Denver:20230128T090000
DTEND;TZID=America/Denver:20230128T153000
DTSTAMP:20260424T100207
CREATED:20221209T015558Z
LAST-MODIFIED:20221230T053355Z
UID:10000101-1674896400-1674919800@www.southmetrofoundation.org
SUMMARY:Super Sitter Babysitting Class
DESCRIPTION:
URL:https://www.southmetrofoundation.org/event/super-sitter-babysitting-class-2/
LOCATION:South Metro Fire Rescue HQ\, 9195 E. Mineral Ave\, Centennial\, CO\, 80112\, United States
CATEGORIES:Babysitting Class
END:VEVENT
BEGIN:VEVENT
DTSTART;TZID=America/Denver:20230122T090000
DTEND;TZID=America/Denver:20230122T153000
DTSTAMP:20260424T100207
CREATED:20221209T011553Z
LAST-MODIFIED:20230120T191104Z
UID:10000097-1674378000-1674401400@www.southmetrofoundation.org
SUMMARY:Super Sitter Babysitting Class
DESCRIPTION:
URL:https://www.southmetrofoundation.org/event/super-sitter-babysitting-class/
LOCATION:South Metro Fire Station 45\, 16801 Northgate Dr\, Parker\, Colorado\, 80134
CATEGORIES:Babysitting Class
END:VEVENT
BEGIN:VEVENT
DTSTART;TZID=America/Denver:20221230T090000
DTEND;TZID=America/Denver:20221230T153000
DTSTAMP:20260424T100207
CREATED:20221004T040353Z
LAST-MODIFIED:20221004T040353Z
UID:10000011-1672390800-1672414200@www.southmetrofoundation.org
SUMMARY:Babysitting
DESCRIPTION:
URL:https://www.southmetrofoundation.org/event/babysitting-11/
LOCATION:South Metro Fire Station 45\, 16801 Northgate Dr\, Parker\, Colorado\, 80134
CATEGORIES:Babysitting Class
END:VEVENT
BEGIN:VEVENT
DTSTART;TZID=America/Denver:20221218T090000
DTEND;TZID=America/Denver:20221218T153000
DTSTAMP:20260424T100207
CREATED:20221004T040009Z
LAST-MODIFIED:20221004T040009Z
UID:10000090-1671354000-1671377400@www.southmetrofoundation.org
SUMMARY:Babysitting
DESCRIPTION:
URL:https://www.southmetrofoundation.org/event/babysitting-10/
LOCATION:South Metro Fire Station 45\, 16801 Northgate Dr\, Parker\, Colorado\, 80134
CATEGORIES:Babysitting Class
END:VEVENT
BEGIN:VEVENT
DTSTART;TZID=America/Denver:20221211T090000
DTEND;TZID=America/Denver:20221211T153000
DTSTAMP:20260424T100207
CREATED:20221004T035215Z
LAST-MODIFIED:20221211T193318Z
UID:10000088-1670749200-1670772600@www.southmetrofoundation.org
SUMMARY:Babysitting
DESCRIPTION:
URL:https://www.southmetrofoundation.org/event/babysitting-9/
LOCATION:South Metro Fire Rescue HQ\, 9195 E. Mineral Ave\, Centennial\, CO\, 80112\, United States
CATEGORIES:Babysitting Class
END:VEVENT
BEGIN:VEVENT
DTSTART;TZID=America/Denver:20221203T090000
DTEND;TZID=America/Denver:20221203T153000
DTSTAMP:20260424T100207
CREATED:20221004T033950Z
LAST-MODIFIED:20221004T033950Z
UID:10000085-1670058000-1670081400@www.southmetrofoundation.org
SUMMARY:Babysitting
DESCRIPTION:
URL:https://www.southmetrofoundation.org/event/babysitting-8/
LOCATION:South Metro Fire Rescue HQ\, 9195 E. Mineral Ave\, Centennial\, CO\, 80112\, United States
CATEGORIES:Babysitting Class
END:VEVENT
BEGIN:VEVENT
DTSTART;TZID=America/Denver:20221127T090000
DTEND;TZID=America/Denver:20221127T153000
DTSTAMP:20260424T100207
CREATED:20221004T033215Z
LAST-MODIFIED:20221004T033215Z
UID:10000084-1669539600-1669563000@www.southmetrofoundation.org
SUMMARY:Babysitting
DESCRIPTION:
URL:https://www.southmetrofoundation.org/event/babysitting-7/
LOCATION:South Metro Fire Station 45\, 16801 Northgate Dr\, Parker\, Colorado\, 80134
CATEGORIES:Babysitting Class
END:VEVENT
BEGIN:VEVENT
DTSTART;TZID=America/Denver:20221113T090000
DTEND;TZID=America/Denver:20221113T153000
DTSTAMP:20260424T100207
CREATED:20220927T163811Z
LAST-MODIFIED:20220927T163811Z
UID:10000010-1668330000-1668353400@www.southmetrofoundation.org
SUMMARY:Babysitting
DESCRIPTION:
URL:https://www.southmetrofoundation.org/event/babysitting-5/
LOCATION:South Metro Fire Rescue HQ\, 9195 E. Mineral Ave\, Centennial\, CO\, 80112\, United States
CATEGORIES:Babysitting Class
END:VEVENT
BEGIN:VEVENT
DTSTART;TZID=America/Denver:20221105T090000
DTEND;TZID=America/Denver:20221105T153000
DTSTAMP:20260424T100207
CREATED:20221004T032113Z
LAST-MODIFIED:20221004T032113Z
UID:10000082-1667638800-1667662200@www.southmetrofoundation.org
SUMMARY:Babysitting
DESCRIPTION:
URL:https://www.southmetrofoundation.org/event/babysitting-6/
LOCATION:South Metro Fire Rescue HQ\, 9195 E. Mineral Ave\, Centennial\, CO\, 80112\, United States
CATEGORIES:Babysitting Class
END:VEVENT
BEGIN:VEVENT
DTSTART;TZID=America/Denver:20221016T090000
DTEND;TZID=America/Denver:20221016T153000
DTSTAMP:20260424T100207
CREATED:20220906T165200Z
LAST-MODIFIED:20220906T165200Z
UID:10000065-1665910800-1665934200@www.southmetrofoundation.org
SUMMARY:Babysitting
DESCRIPTION:
URL:https://www.southmetrofoundation.org/event/babysitting-4/
LOCATION:South Metro Fire Rescue HQ\, 9195 E. Mineral Ave\, Centennial\, CO\, 80112\, United States
CATEGORIES:Babysitting Class
END:VEVENT
BEGIN:VEVENT
DTSTART;TZID=America/Denver:20221009T090000
DTEND;TZID=America/Denver:20221009T153000
DTSTAMP:20260424T100207
CREATED:20220906T164752Z
LAST-MODIFIED:20220908T234156Z
UID:10000064-1665306000-1665329400@www.southmetrofoundation.org
SUMMARY:Babysitting
DESCRIPTION:
URL:https://www.southmetrofoundation.org/event/babysitting-3/
LOCATION:South Metro Fire Station 45\, 16801 Northgate Dr\, Parker\, Colorado\, 80134
CATEGORIES:Babysitting Class
END:VEVENT
BEGIN:VEVENT
DTSTART;TZID=America/Denver:20220918T090000
DTEND;TZID=America/Denver:20220918T153000
DTSTAMP:20260424T100207
CREATED:20220805T233340Z
LAST-MODIFIED:20220805T233340Z
UID:10000057-1663491600-1663515000@www.southmetrofoundation.org
SUMMARY:Babysitting
DESCRIPTION:
URL:https://www.southmetrofoundation.org/event/babysitting-2/
LOCATION:South Metro Fire Rescue HQ\, 9195 E. Mineral Ave\, Centennial\, CO\, 80112\, United States
CATEGORIES:Babysitting Class
END:VEVENT
BEGIN:VEVENT
DTSTART;TZID=America/Denver:20220821T090000
DTEND;TZID=America/Denver:20220821T153000
DTSTAMP:20260424T100207
CREATED:20220726T074444Z
LAST-MODIFIED:20220729T011659Z
UID:10000034-1661072400-1661095800@www.southmetrofoundation.org
SUMMARY:Babysitting Class - Centennial
DESCRIPTION:
URL:https://www.southmetrofoundation.org/event/babysitting-class-parker-3/
LOCATION:South Metro Fire Rescue HQ\, 9195 E. Mineral Ave\, Centennial\, CO\, 80112\, United States
CATEGORIES:Babysitting Class
ATTACH;FMTTYPE=image/png:https://www.southmetrofoundation.org/wp-content/uploads/2022/03/6.png
END:VEVENT
BEGIN:VEVENT
DTSTART;TZID=America/Denver:20220813T090000
DTEND;TZID=America/Denver:20220813T153000
DTSTAMP:20260424T100207
CREATED:20220726T073045Z
LAST-MODIFIED:20220730T041553Z
UID:10000033-1660381200-1660404600@www.southmetrofoundation.org
SUMMARY:Babysitting Class - Parker
DESCRIPTION:
URL:https://www.southmetrofoundation.org/event/babysitting-class-parker-2/
LOCATION:South Metro Fire Station 45\, 16801 Northgate Dr\, Parker\, Colorado\, 80134
CATEGORIES:Babysitting Class
ATTACH;FMTTYPE=image/png:https://www.southmetrofoundation.org/wp-content/uploads/2022/03/3.png
END:VEVENT
BEGIN:VEVENT
DTSTART;TZID=America/Denver:20220807T090000
DTEND;TZID=America/Denver:20220807T153000
DTSTAMP:20260424T100207
CREATED:20220726T050021Z
LAST-MODIFIED:20220730T042016Z
UID:10000032-1659862800-1659886200@www.southmetrofoundation.org
SUMMARY:Babysitting Class - Parker
DESCRIPTION:
URL:https://www.southmetrofoundation.org/event/babysitting-class-parker/
LOCATION:South Metro Fire Station 45\, 16801 Northgate Dr\, Parker\, Colorado\, 80134
CATEGORIES:Babysitting Class
END:VEVENT
BEGIN:VEVENT
DTSTART;TZID=America/Denver:20220805T090000
DTEND;TZID=America/Denver:20220805T153000
DTSTAMP:20260424T100207
CREATED:20220726T022442Z
LAST-MODIFIED:20220730T042146Z
UID:10000031-1659690000-1659713400@www.southmetrofoundation.org
SUMMARY:Babysitting Class
DESCRIPTION:
URL:https://www.southmetrofoundation.org/event/babysitting-class/
LOCATION:South Metro Fire Station 45\, 16801 Northgate Dr\, Parker\, Colorado\, 80134
CATEGORIES:Babysitting Class
END:VEVENT
END:VCALENDAR