BEGIN:VCALENDAR
VERSION:2.0
PRODID:-//South Metro Safety Foundation - ECPv6.15.20//NONSGML v1.0//EN
CALSCALE:GREGORIAN
METHOD:PUBLISH
X-WR-CALNAME:South Metro Safety Foundation
X-ORIGINAL-URL:https://www.southmetrofoundation.org
X-WR-CALDESC:Events for South Metro Safety Foundation
REFRESH-INTERVAL;VALUE=DURATION:PT1H
X-Robots-Tag:noindex
X-PUBLISHED-TTL:PT1H
BEGIN:VTIMEZONE
TZID:America/Denver
BEGIN:DAYLIGHT
TZOFFSETFROM:-0700
TZOFFSETTO:-0600
TZNAME:MDT
DTSTART:20250309T090000
END:DAYLIGHT
BEGIN:STANDARD
TZOFFSETFROM:-0600
TZOFFSETTO:-0700
TZNAME:MST
DTSTART:20251102T080000
END:STANDARD
BEGIN:DAYLIGHT
TZOFFSETFROM:-0700
TZOFFSETTO:-0600
TZNAME:MDT
DTSTART:20260308T090000
END:DAYLIGHT
BEGIN:STANDARD
TZOFFSETFROM:-0600
TZOFFSETTO:-0700
TZNAME:MST
DTSTART:20261101T080000
END:STANDARD
BEGIN:DAYLIGHT
TZOFFSETFROM:-0700
TZOFFSETTO:-0600
TZNAME:MDT
DTSTART:20270314T090000
END:DAYLIGHT
BEGIN:STANDARD
TZOFFSETFROM:-0600
TZOFFSETTO:-0700
TZNAME:MST
DTSTART:20271107T080000
END:STANDARD
END:VTIMEZONE
BEGIN:VEVENT
DTSTART;TZID=America/Denver:20260418T090000
DTEND;TZID=America/Denver:20260418T153000
DTSTAMP:20260424T041924
CREATED:20260327T195116Z
LAST-MODIFIED:20260327T195116Z
UID:10000586-1776502800-1776526200@www.southmetrofoundation.org
SUMMARY:Super Sitter Babysitting Class 04/18/2026
DESCRIPTION:
URL:https://www.southmetrofoundation.org/event/super-sitter-babysitting-class-04-18-2026/
LOCATION:South Metro Fire Rescue HQ\, 9195 E. Mineral Ave\, Centennial\, CO\, 80112\, United States
CATEGORIES:Babysitting Class
END:VEVENT
BEGIN:VEVENT
DTSTART;TZID=America/Denver:20260419T090000
DTEND;TZID=America/Denver:20260419T153000
DTSTAMP:20260424T041924
CREATED:20260211T174056Z
LAST-MODIFIED:20260211T174359Z
UID:10000572-1776589200-1776612600@www.southmetrofoundation.org
SUMMARY:Super Sitter Babysitting Class 04/19/2026
DESCRIPTION:
URL:https://www.southmetrofoundation.org/event/super-sitter-babysitting-class-04-19-2026/
LOCATION:South Metro Fire Rescue HQ\, 9195 E. Mineral Ave\, Centennial\, CO\, 80112\, United States
CATEGORIES:Babysitting Class
END:VEVENT
BEGIN:VEVENT
DTSTART;TZID=America/Denver:20260426T090000
DTEND;TZID=America/Denver:20260426T153000
DTSTAMP:20260424T041924
CREATED:20260211T175508Z
LAST-MODIFIED:20260415T211554Z
UID:10000573-1777194000-1777217400@www.southmetrofoundation.org
SUMMARY:Super Sitter Babysitting Class 04/26/2026
DESCRIPTION:
URL:https://www.southmetrofoundation.org/event/super-sitter-babysitting-class-04-26-2026/
LOCATION:South Metro Fire Station 45\, 16801 Northgate Dr\, Parker\, Colorado\, 80134
CATEGORIES:Babysitting Class
END:VEVENT
BEGIN:VEVENT
DTSTART;TZID=America/Denver:20260503T090000
DTEND;TZID=America/Denver:20260503T153000
DTSTAMP:20260424T041924
CREATED:20260327T195900Z
LAST-MODIFIED:20260415T212007Z
UID:10000587-1777798800-1777822200@www.southmetrofoundation.org
SUMMARY:Super Sitter Babysitting Class 05/03/2026
DESCRIPTION:
URL:https://www.southmetrofoundation.org/event/super-sitter-babysitting-class-05-03-2026/
LOCATION:South Metro Fire Station 45\, 16801 Northgate Dr\, Parker\, Colorado\, 80134
CATEGORIES:Babysitting Class
END:VEVENT
BEGIN:VEVENT
DTSTART;TZID=America/Denver:20260516T090000
DTEND;TZID=America/Denver:20260516T153000
DTSTAMP:20260424T041924
CREATED:20260327T203021Z
LAST-MODIFIED:20260415T212130Z
UID:10000589-1778922000-1778945400@www.southmetrofoundation.org
SUMMARY:Super Sitter Babysitting Class 05/16/2026
DESCRIPTION:
URL:https://www.southmetrofoundation.org/event/super-sitter-babysitting-class-05-16-2026/
LOCATION:South Metro Fire Rescue HQ\, 9195 E. Mineral Ave\, Centennial\, CO\, 80112\, United States
CATEGORIES:Babysitting Class
END:VEVENT
END:VCALENDAR