BEGIN:VCALENDAR
VERSION:2.0
PRODID:-//South Metro Safety Foundation - ECPv6.15.20//NONSGML v1.0//EN
CALSCALE:GREGORIAN
METHOD:PUBLISH
X-WR-CALNAME:South Metro Safety Foundation
X-ORIGINAL-URL:https://www.southmetrofoundation.org
X-WR-CALDESC:Events for South Metro Safety Foundation
REFRESH-INTERVAL;VALUE=DURATION:PT1H
X-Robots-Tag:noindex
X-PUBLISHED-TTL:PT1H
BEGIN:VTIMEZONE
TZID:America/Denver
BEGIN:DAYLIGHT
TZOFFSETFROM:-0700
TZOFFSETTO:-0600
TZNAME:MDT
DTSTART:20230312T090000
END:DAYLIGHT
BEGIN:STANDARD
TZOFFSETFROM:-0600
TZOFFSETTO:-0700
TZNAME:MST
DTSTART:20231105T080000
END:STANDARD
BEGIN:DAYLIGHT
TZOFFSETFROM:-0700
TZOFFSETTO:-0600
TZNAME:MDT
DTSTART:20240310T090000
END:DAYLIGHT
BEGIN:STANDARD
TZOFFSETFROM:-0600
TZOFFSETTO:-0700
TZNAME:MST
DTSTART:20241103T080000
END:STANDARD
BEGIN:DAYLIGHT
TZOFFSETFROM:-0700
TZOFFSETTO:-0600
TZNAME:MDT
DTSTART:20250309T090000
END:DAYLIGHT
BEGIN:STANDARD
TZOFFSETFROM:-0600
TZOFFSETTO:-0700
TZNAME:MST
DTSTART:20251102T080000
END:STANDARD
BEGIN:DAYLIGHT
TZOFFSETFROM:-0700
TZOFFSETTO:-0600
TZNAME:MDT
DTSTART:20260308T090000
END:DAYLIGHT
BEGIN:STANDARD
TZOFFSETFROM:-0600
TZOFFSETTO:-0700
TZNAME:MST
DTSTART:20261101T080000
END:STANDARD
END:VTIMEZONE
BEGIN:VEVENT
DTSTART;TZID=America/Denver:20250105T090000
DTEND;TZID=America/Denver:20250105T153000
DTSTAMP:20260424T012627
CREATED:20241111T171052Z
LAST-MODIFIED:20241111T171052Z
UID:10000385-1736067600-1736091000@www.southmetrofoundation.org
SUMMARY:Super Sitter Babysitting Class  01/05/2025
DESCRIPTION:
URL:https://www.southmetrofoundation.org/event/super-sitter-babysitting-class-01-05-2025/
LOCATION:South Metro Fire Station 45\, 16801 Northgate Dr\, Parker\, Colorado\, 80134
CATEGORIES:Babysitting Class
END:VEVENT
BEGIN:VEVENT
DTSTART;TZID=America/Denver:20250103T090000
DTEND;TZID=America/Denver:20250103T153000
DTSTAMP:20260424T012627
CREATED:20241105T171514Z
LAST-MODIFIED:20241108T004230Z
UID:10000379-1735894800-1735918200@www.southmetrofoundation.org
SUMMARY:Super Sitter Babysitting Class  01/03/2025
DESCRIPTION:
URL:https://www.southmetrofoundation.org/event/super-sitter-babysitting-class-01-03-2025/
LOCATION:South Metro Fire Station 45\, 16801 Northgate Dr\, Parker\, Colorado\, 80134
CATEGORIES:Babysitting Class
END:VEVENT
BEGIN:VEVENT
DTSTART;TZID=America/Denver:20241229T090000
DTEND;TZID=America/Denver:20241229T153000
DTSTAMP:20260424T012627
CREATED:20241105T165944Z
LAST-MODIFIED:20241204T162650Z
UID:10000377-1735462800-1735486200@www.southmetrofoundation.org
SUMMARY:Super Sitter Babysitting Class  12/29/2024
DESCRIPTION:
URL:https://www.southmetrofoundation.org/event/super-sitter-babysitting-class-12-29-2024/
LOCATION:South Metro Fire Rescue HQ\, 9195 E. Mineral Ave\, Centennial\, CO\, 80112\, United States
CATEGORIES:Babysitting Class
END:VEVENT
BEGIN:VEVENT
DTSTART;TZID=America/Denver:20241214T090000
DTEND;TZID=America/Denver:20241214T153000
DTSTAMP:20260424T012627
CREATED:20241108T003847Z
LAST-MODIFIED:20241108T004013Z
UID:10000383-1734166800-1734190200@www.southmetrofoundation.org
SUMMARY:Super Sitter Babysitting Class  12/14/2024
DESCRIPTION:
URL:https://www.southmetrofoundation.org/event/super-sitter-babysitting-class-12-14-2024/
LOCATION:South Metro Fire Station 45\, 16801 Northgate Dr\, Parker\, Colorado\, 80134
CATEGORIES:Babysitting Class
END:VEVENT
BEGIN:VEVENT
DTSTART;TZID=America/Denver:20241207T090000
DTEND;TZID=America/Denver:20241207T153000
DTSTAMP:20260424T012627
CREATED:20241105T164745Z
LAST-MODIFIED:20241105T164745Z
UID:10000376-1733562000-1733585400@www.southmetrofoundation.org
SUMMARY:Super Sitter Babysitting Class  12/07/2024
DESCRIPTION:
URL:https://www.southmetrofoundation.org/event/super-sitter-babysitting-class-12-07-2024/
LOCATION:South Metro Fire Rescue HQ\, 9195 E. Mineral Ave\, Centennial\, CO\, 80112\, United States
CATEGORIES:Babysitting Class
END:VEVENT
BEGIN:VEVENT
DTSTART;TZID=America/Denver:20241116T090000
DTEND;TZID=America/Denver:20241116T153000
DTSTAMP:20260424T012627
CREATED:20241111T161547Z
LAST-MODIFIED:20241115T175832Z
UID:10000384-1731747600-1731771000@www.southmetrofoundation.org
SUMMARY:Super Sitter Babysitting Class  11/16/2024
DESCRIPTION:
URL:https://www.southmetrofoundation.org/event/super-sitter-babysitting-class-11-16-2024/
LOCATION:South Metro Fire Station 45\, 16801 Northgate Dr\, Parker\, Colorado\, 80134
CATEGORIES:Babysitting Class
END:VEVENT
BEGIN:VEVENT
DTSTART;TZID=America/Denver:20241110T090000
DTEND;TZID=America/Denver:20241110T153000
DTSTAMP:20260424T012627
CREATED:20241010T224321Z
LAST-MODIFIED:20241010T224321Z
UID:10000369-1731229200-1731252600@www.southmetrofoundation.org
SUMMARY:Super Sitter Babysitting Class  11/10/2024
DESCRIPTION:
URL:https://www.southmetrofoundation.org/event/super-sitter-babysitting-class-11-10-2024/
LOCATION:South Metro Fire Rescue HQ\, 9195 E. Mineral Ave\, Centennial\, CO\, 80112\, United States
CATEGORIES:Babysitting Class
END:VEVENT
BEGIN:VEVENT
DTSTART;TZID=America/Denver:20241102T090000
DTEND;TZID=America/Denver:20241102T153000
DTSTAMP:20260424T012627
CREATED:20241010T223050Z
LAST-MODIFIED:20241010T223050Z
UID:10000368-1730538000-1730561400@www.southmetrofoundation.org
SUMMARY:Super Sitter Babysitting Class  11/02/2024
DESCRIPTION:
URL:https://www.southmetrofoundation.org/event/super-sitter-babysitting-class-11-02-2024/
LOCATION:South Metro Fire Station 45\, 16801 Northgate Dr\, Parker\, Colorado\, 80134
CATEGORIES:Babysitting Class
END:VEVENT
BEGIN:VEVENT
DTSTART;TZID=America/Denver:20241012T090000
DTEND;TZID=America/Denver:20241012T153000
DTSTAMP:20260424T012627
CREATED:20240911T215459Z
LAST-MODIFIED:20240911T215459Z
UID:10000361-1728723600-1728747000@www.southmetrofoundation.org
SUMMARY:Super Sitter Babysitting Class  10/12/2024
DESCRIPTION:
URL:https://www.southmetrofoundation.org/event/super-sitter-babysitting-class-10-12-2024/
LOCATION:South Metro Fire Rescue HQ\, 9195 E. Mineral Ave\, Centennial\, CO\, 80112\, United States
CATEGORIES:Babysitting Class
END:VEVENT
BEGIN:VEVENT
DTSTART;TZID=America/Denver:20240922T090000
DTEND;TZID=America/Denver:20240922T153000
DTSTAMP:20260424T012627
CREATED:20240801T175126Z
LAST-MODIFIED:20240801T175126Z
UID:10000341-1726995600-1727019000@www.southmetrofoundation.org
SUMMARY:Super Sitter Babysitting Class  9/22/2024
DESCRIPTION:
URL:https://www.southmetrofoundation.org/event/super-sitter-babysitting-class-9-22-2024/
LOCATION:South Metro Fire Station 45\, 16801 Northgate Dr\, Parker\, Colorado\, 80134
CATEGORIES:Babysitting Class
END:VEVENT
BEGIN:VEVENT
DTSTART;TZID=America/Denver:20240907T090000
DTEND;TZID=America/Denver:20240907T153000
DTSTAMP:20260424T012627
CREATED:20240801T172525Z
LAST-MODIFIED:20240801T172525Z
UID:10000339-1725699600-1725723000@www.southmetrofoundation.org
SUMMARY:Super Sitter Babysitting Class  9/07/2024
DESCRIPTION:
URL:https://www.southmetrofoundation.org/event/super-sitter-babysitting-class-9-07-2024/
LOCATION:South Metro Fire Station 45\, 16801 Northgate Dr\, Parker\, Colorado\, 80134
CATEGORIES:Babysitting Class
END:VEVENT
BEGIN:VEVENT
DTSTART;TZID=America/Denver:20240825T090000
DTEND;TZID=America/Denver:20240825T153000
DTSTAMP:20260424T012627
CREATED:20240626T172645Z
LAST-MODIFIED:20240626T172645Z
UID:10000330-1724576400-1724599800@www.southmetrofoundation.org
SUMMARY:Super Sitter Babysitting Class  8/25/2024
DESCRIPTION:
URL:https://www.southmetrofoundation.org/event/super-sitter-babysitting-class-8-25-2024/
LOCATION:South Metro Fire Rescue HQ\, 9195 E. Mineral Ave\, Centennial\, CO\, 80112\, United States
CATEGORIES:Babysitting Class
END:VEVENT
BEGIN:VEVENT
DTSTART;TZID=America/Denver:20240810T090000
DTEND;TZID=America/Denver:20240810T153000
DTSTAMP:20260424T012627
CREATED:20240626T172247Z
LAST-MODIFIED:20240626T172247Z
UID:10000329-1723280400-1723303800@www.southmetrofoundation.org
SUMMARY:Super Sitter Babysitting Class  8/10/2024
DESCRIPTION:
URL:https://www.southmetrofoundation.org/event/super-sitter-babysitting-class-8-10-2024/
LOCATION:South Metro Fire Rescue HQ\, 9195 E. Mineral Ave\, Centennial\, CO\, 80112\, United States
CATEGORIES:Babysitting Class
END:VEVENT
BEGIN:VEVENT
DTSTART;TZID=America/Denver:20240727T090000
DTEND;TZID=America/Denver:20240727T153000
DTSTAMP:20260424T012627
CREATED:20240522T002736Z
LAST-MODIFIED:20240522T002736Z
UID:10000321-1722070800-1722094200@www.southmetrofoundation.org
SUMMARY:Super Sitter Babysitting Class  7/27/2024
DESCRIPTION:
URL:https://www.southmetrofoundation.org/event/super-sitter-babysitting-class-7-27-2024/
LOCATION:South Metro Fire Rescue HQ\, 9195 E. Mineral Ave\, Centennial\, CO\, 80112\, United States
CATEGORIES:Babysitting Class
END:VEVENT
BEGIN:VEVENT
DTSTART;TZID=America/Denver:20240721T090000
DTEND;TZID=America/Denver:20240721T153000
DTSTAMP:20260424T012627
CREATED:20240710T173810Z
LAST-MODIFIED:20240710T173810Z
UID:10000336-1721552400-1721575800@www.southmetrofoundation.org
SUMMARY:Super Sitter Babysitting Class  7/21/2024
DESCRIPTION:
URL:https://www.southmetrofoundation.org/event/super-sitter-babysitting-class-7-21-2024/
LOCATION:South Metro Fire Station 45\, 16801 Northgate Dr\, Parker\, Colorado\, 80134
CATEGORIES:Babysitting Class
END:VEVENT
BEGIN:VEVENT
DTSTART;TZID=America/Denver:20240720T090000
DTEND;TZID=America/Denver:20240720T153000
DTSTAMP:20260424T012627
CREATED:20240522T155430Z
LAST-MODIFIED:20240522T155430Z
UID:10000323-1721466000-1721489400@www.southmetrofoundation.org
SUMMARY:Super Sitter Babysitting Class  7/20/2024
DESCRIPTION:
URL:https://www.southmetrofoundation.org/event/super-sitter-babysitting-class-7-20-2024/
LOCATION:South Metro Fire Station 45\, 16801 Northgate Dr\, Parker\, Colorado\, 80134
CATEGORIES:Babysitting Class
END:VEVENT
BEGIN:VEVENT
DTSTART;TZID=America/Denver:20240714T090000
DTEND;TZID=America/Denver:20240714T153000
DTSTAMP:20260424T012627
CREATED:20240522T002153Z
LAST-MODIFIED:20240522T004921Z
UID:10000320-1720947600-1720971000@www.southmetrofoundation.org
SUMMARY:Super Sitter Babysitting Class  7/14/2024
DESCRIPTION:
URL:https://www.southmetrofoundation.org/event/super-sitter-babysitting-class-7-14-2024/
LOCATION:South Metro Fire Rescue HQ\, 9195 E. Mineral Ave\, Centennial\, CO\, 80112\, United States
CATEGORIES:Babysitting Class
END:VEVENT
BEGIN:VEVENT
DTSTART;TZID=America/Denver:20240630T090000
DTEND;TZID=America/Denver:20240630T153000
DTSTAMP:20260424T012627
CREATED:20240501T154117Z
LAST-MODIFIED:20240503T154442Z
UID:10000307-1719738000-1719761400@www.southmetrofoundation.org
SUMMARY:Super Sitter Babysitting Class  6/30/2024
DESCRIPTION:
URL:https://www.southmetrofoundation.org/event/super-sitter-babysitting-class-6-30-2024/
LOCATION:South Metro Fire Station 45\, 16801 Northgate Dr\, Parker\, Colorado\, 80134
CATEGORIES:Babysitting Class
END:VEVENT
BEGIN:VEVENT
DTSTART;TZID=America/Denver:20240623T090000
DTEND;TZID=America/Denver:20240623T153000
DTSTAMP:20260424T012627
CREATED:20240414T220057Z
LAST-MODIFIED:20240414T220057Z
UID:10000302-1719133200-1719156600@www.southmetrofoundation.org
SUMMARY:Super Sitter Babysitting Class  6/23/2024
DESCRIPTION:
URL:https://www.southmetrofoundation.org/event/super-sitter-babysitting-class-6-23-2024/
LOCATION:South Metro Fire Rescue HQ\, 9195 E. Mineral Ave\, Centennial\, CO\, 80112\, United States
CATEGORIES:Babysitting Class
END:VEVENT
BEGIN:VEVENT
DTSTART;TZID=America/Denver:20240608T090000
DTEND;TZID=America/Denver:20240608T153000
DTSTAMP:20260424T012627
CREATED:20240503T153154Z
LAST-MODIFIED:20240607T045009Z
UID:10000308-1717837200-1717860600@www.southmetrofoundation.org
SUMMARY:Super Sitter Babysitting Class  6/08/2024
DESCRIPTION:
URL:https://www.southmetrofoundation.org/event/super-sitter-babysitting-class-6-08-2024/
LOCATION:South Metro Fire Rescue HQ\, 9195 E. Mineral Ave\, Centennial\, CO\, 80112\, United States
CATEGORIES:Babysitting Class
END:VEVENT
BEGIN:VEVENT
DTSTART;TZID=America/Denver:20240602T090000
DTEND;TZID=America/Denver:20240602T153000
DTSTAMP:20260424T012627
CREATED:20240414T212207Z
LAST-MODIFIED:20240414T212207Z
UID:10000300-1717318800-1717342200@www.southmetrofoundation.org
SUMMARY:Super Sitter Babysitting Class  6/02/2024
DESCRIPTION:
URL:https://www.southmetrofoundation.org/event/super-sitter-babysitting-class-6-02-2024/
LOCATION:South Metro Fire Station 45\, 16801 Northgate Dr\, Parker\, Colorado\, 80134
CATEGORIES:Babysitting Class
END:VEVENT
BEGIN:VEVENT
DTSTART;TZID=America/Denver:20240505T090000
DTEND;TZID=America/Denver:20240505T153000
DTSTAMP:20260424T012627
CREATED:20240322T191618Z
LAST-MODIFIED:20240322T191618Z
UID:10000293-1714899600-1714923000@www.southmetrofoundation.org
SUMMARY:Super Sitter Babysitting Class  5/05/2024
DESCRIPTION:
URL:https://www.southmetrofoundation.org/event/super-sitter-babysitting-class-5-05-2024/
LOCATION:South Metro Fire Rescue HQ\, 9195 E. Mineral Ave\, Centennial\, CO\, 80112\, United States
CATEGORIES:Babysitting Class
END:VEVENT
BEGIN:VEVENT
DTSTART;TZID=America/Denver:20240414T090000
DTEND;TZID=America/Denver:20240414T153000
DTSTAMP:20260424T012627
CREATED:20240315T163313Z
LAST-MODIFIED:20240315T163313Z
UID:10000289-1713085200-1713108600@www.southmetrofoundation.org
SUMMARY:Super Sitter Babysitting Class  4/14/2024
DESCRIPTION:
URL:https://www.southmetrofoundation.org/event/super-sitter-babysitting-class-4-14-2024/
LOCATION:South Metro Fire Rescue HQ\, 9195 E. Mineral Ave\, Centennial\, CO\, 80112\, United States
CATEGORIES:Babysitting Class
END:VEVENT
BEGIN:VEVENT
DTSTART;TZID=America/Denver:20240407T090000
DTEND;TZID=America/Denver:20240407T153000
DTSTAMP:20260424T012627
CREATED:20240315T171722Z
LAST-MODIFIED:20240315T171722Z
UID:10000291-1712480400-1712503800@www.southmetrofoundation.org
SUMMARY:Super Sitter Babysitting Class  4/07/2024
DESCRIPTION:
URL:https://www.southmetrofoundation.org/event/super-sitter-babysitting-class-4-07-2024/
LOCATION:South Metro Fire Station 45\, 16801 Northgate Dr\, Parker\, Colorado\, 80134
CATEGORIES:Babysitting Class
END:VEVENT
BEGIN:VEVENT
DTSTART;TZID=America/Denver:20240406T090000
DTEND;TZID=America/Denver:20240406T153000
DTSTAMP:20260424T012627
CREATED:20240315T171029Z
LAST-MODIFIED:20240315T171029Z
UID:10000290-1712394000-1712417400@www.southmetrofoundation.org
SUMMARY:Super Sitter Babysitting Class  4/06/2024
DESCRIPTION:
URL:https://www.southmetrofoundation.org/event/super-sitter-babysitting-class-4-06-2024/
LOCATION:South Metro Fire Station 45\, 16801 Northgate Dr\, Parker\, Colorado\, 80134
CATEGORIES:Babysitting Class
END:VEVENT
BEGIN:VEVENT
DTSTART;TZID=America/Denver:20240323T090000
DTEND;TZID=America/Denver:20240323T153000
DTSTAMP:20260424T012627
CREATED:20240214T024350Z
LAST-MODIFIED:20240214T024350Z
UID:10000268-1711184400-1711207800@www.southmetrofoundation.org
SUMMARY:Super Sitter Babysitting Class  3/23/2024
DESCRIPTION:
URL:https://www.southmetrofoundation.org/event/super-sitter-babysitting-class-3-23-2024/
LOCATION:South Metro Fire Station 45\, 16801 Northgate Dr\, Parker\, Colorado\, 80134
CATEGORIES:Babysitting Class
END:VEVENT
BEGIN:VEVENT
DTSTART;TZID=America/Denver:20240317T090000
DTEND;TZID=America/Denver:20240317T153000
DTSTAMP:20260424T012627
CREATED:20240220T204247Z
LAST-MODIFIED:20240220T204247Z
UID:10000276-1710666000-1710689400@www.southmetrofoundation.org
SUMMARY:Super Sitter Babysitting Class  3/17/2024
DESCRIPTION:
URL:https://www.southmetrofoundation.org/event/super-sitter-babysitting-class-3-17-2024/
LOCATION:South Metro Fire Rescue HQ\, 9195 E. Mineral Ave\, Centennial\, CO\, 80112\, United States
CATEGORIES:Babysitting Class
END:VEVENT
BEGIN:VEVENT
DTSTART;TZID=America/Denver:20240316T090000
DTEND;TZID=America/Denver:20240316T153000
DTSTAMP:20260424T012627
CREATED:20240220T203755Z
LAST-MODIFIED:20240220T203755Z
UID:10000275-1710579600-1710603000@www.southmetrofoundation.org
SUMMARY:Super Sitter Babysitting Class  3/16/2024
DESCRIPTION:
URL:https://www.southmetrofoundation.org/event/super-sitter-babysitting-class-3-16-2024/
LOCATION:South Metro Fire Rescue HQ\, 9195 E. Mineral Ave\, Centennial\, CO\, 80112\, United States
CATEGORIES:Babysitting Class
END:VEVENT
BEGIN:VEVENT
DTSTART;TZID=America/Denver:20240225T090000
DTEND;TZID=America/Denver:20240225T153000
DTSTAMP:20260424T012627
CREATED:20240112T174140Z
LAST-MODIFIED:20240127T033025Z
UID:10000257-1708851600-1708875000@www.southmetrofoundation.org
SUMMARY:Super Sitter Babysitting Class  2/25/2024
DESCRIPTION:
URL:https://www.southmetrofoundation.org/event/super-sitter-babysitting-class-2-25-2024/
LOCATION:South Metro Fire Rescue HQ\, 9195 E. Mineral Ave\, Centennial\, CO\, 80112\, United States
CATEGORIES:Babysitting Class
END:VEVENT
BEGIN:VEVENT
DTSTART;TZID=America/Denver:20240218T090000
DTEND;TZID=America/Denver:20240218T153000
DTSTAMP:20260424T012627
CREATED:20240108T194656Z
LAST-MODIFIED:20240127T031820Z
UID:10000254-1708246800-1708270200@www.southmetrofoundation.org
SUMMARY:Super Sitter Babysitting Class  2/18/2024
DESCRIPTION:
URL:https://www.southmetrofoundation.org/event/super-sitter-babysitting-class-2-18-2024/
LOCATION:South Metro Fire Station 45\, 16801 Northgate Dr\, Parker\, Colorado\, 80134
CATEGORIES:Babysitting Class
END:VEVENT
END:VCALENDAR