BEGIN:VCALENDAR
VERSION:2.0
PRODID:-//South Metro Safety Foundation - ECPv6.15.20//NONSGML v1.0//EN
CALSCALE:GREGORIAN
METHOD:PUBLISH
X-WR-CALNAME:South Metro Safety Foundation
X-ORIGINAL-URL:https://www.southmetrofoundation.org
X-WR-CALDESC:Events for South Metro Safety Foundation
REFRESH-INTERVAL;VALUE=DURATION:PT1H
X-Robots-Tag:noindex
X-PUBLISHED-TTL:PT1H
BEGIN:VTIMEZONE
TZID:America/Denver
BEGIN:DAYLIGHT
TZOFFSETFROM:-0700
TZOFFSETTO:-0600
TZNAME:MDT
DTSTART:20220313T090000
END:DAYLIGHT
BEGIN:STANDARD
TZOFFSETFROM:-0600
TZOFFSETTO:-0700
TZNAME:MST
DTSTART:20221106T080000
END:STANDARD
BEGIN:DAYLIGHT
TZOFFSETFROM:-0700
TZOFFSETTO:-0600
TZNAME:MDT
DTSTART:20230312T090000
END:DAYLIGHT
BEGIN:STANDARD
TZOFFSETFROM:-0600
TZOFFSETTO:-0700
TZNAME:MST
DTSTART:20231105T080000
END:STANDARD
BEGIN:DAYLIGHT
TZOFFSETFROM:-0700
TZOFFSETTO:-0600
TZNAME:MDT
DTSTART:20240310T090000
END:DAYLIGHT
BEGIN:STANDARD
TZOFFSETFROM:-0600
TZOFFSETTO:-0700
TZNAME:MST
DTSTART:20241103T080000
END:STANDARD
END:VTIMEZONE
BEGIN:VEVENT
DTSTART;TZID=America/Denver:20231217T090000
DTEND;TZID=America/Denver:20231217T153000
DTSTAMP:20260424T063325
CREATED:20231110T033102Z
LAST-MODIFIED:20231110T033102Z
UID:10000231-1702803600-1702827000@www.southmetrofoundation.org
SUMMARY:Super Sitter Babysitting Class  12/17/2023
DESCRIPTION:
URL:https://www.southmetrofoundation.org/event/super-sitter-babysitting-class-12-17-2023/
LOCATION:South Metro Fire Rescue HQ\, 9195 E. Mineral Ave\, Centennial\, CO\, 80112\, United States
CATEGORIES:Babysitting Class
END:VEVENT
BEGIN:VEVENT
DTSTART;TZID=America/Denver:20231209T090000
DTEND;TZID=America/Denver:20231209T153000
DTSTAMP:20260424T063325
CREATED:20231110T032629Z
LAST-MODIFIED:20231119T194953Z
UID:10000230-1702112400-1702135800@www.southmetrofoundation.org
SUMMARY:Super Sitter Babysitting Class  12/09/2023
DESCRIPTION:
URL:https://www.southmetrofoundation.org/event/super-sitter-babysitting-class-12-09-2023/
LOCATION:South Metro Fire Station 45\, 16801 Northgate Dr\, Parker\, Colorado\, 80134
CATEGORIES:Babysitting Class
END:VEVENT
BEGIN:VEVENT
DTSTART;TZID=America/Denver:20231202T090000
DTEND;TZID=America/Denver:20231202T153000
DTSTAMP:20260424T063325
CREATED:20231110T032033Z
LAST-MODIFIED:20231110T032033Z
UID:10000229-1701507600-1701531000@www.southmetrofoundation.org
SUMMARY:Super Sitter Babysitting Class  12/02/2023
DESCRIPTION:
URL:https://www.southmetrofoundation.org/event/super-sitter-babysitting-class-12-02-2023/
LOCATION:South Metro Fire Rescue HQ\, 9195 E. Mineral Ave\, Centennial\, CO\, 80112\, United States
CATEGORIES:Babysitting Class
END:VEVENT
BEGIN:VEVENT
DTSTART;TZID=America/Denver:20231126T090000
DTEND;TZID=America/Denver:20231126T153000
DTSTAMP:20260424T063325
CREATED:20231010T202753Z
LAST-MODIFIED:20231122T214740Z
UID:10000221-1700989200-1701012600@www.southmetrofoundation.org
SUMMARY:Super Sitter Babysitting Class  11/26/2023
DESCRIPTION:
URL:https://www.southmetrofoundation.org/event/super-sitter-babysitting-class-11-26-2023/
LOCATION:South Metro Fire Station 45\, 16801 Northgate Dr\, Parker\, Colorado\, 80134
CATEGORIES:Babysitting Class
END:VEVENT
BEGIN:VEVENT
DTSTART;TZID=America/Denver:20231119T090000
DTEND;TZID=America/Denver:20231119T153000
DTSTAMP:20260424T063325
CREATED:20231010T202406Z
LAST-MODIFIED:20231117T173211Z
UID:10000220-1700384400-1700407800@www.southmetrofoundation.org
SUMMARY:Super Sitter Babysitting Class  11/19/2023
DESCRIPTION:
URL:https://www.southmetrofoundation.org/event/super-sitter-babysitting-class-11-19-2023/
LOCATION:South Metro Fire Rescue HQ\, 9195 E. Mineral Ave\, Centennial\, CO\, 80112\, United States
CATEGORIES:Babysitting Class
END:VEVENT
BEGIN:VEVENT
DTSTART;TZID=America/Denver:20231112T090000
DTEND;TZID=America/Denver:20231112T153000
DTSTAMP:20260424T063325
CREATED:20231010T201457Z
LAST-MODIFIED:20231010T201645Z
UID:10000219-1699779600-1699803000@www.southmetrofoundation.org
SUMMARY:Super Sitter Babysitting Class  11/12/2023
DESCRIPTION:
URL:https://www.southmetrofoundation.org/event/super-sitter-babysitting-class-11-12-2023/
LOCATION:South Metro Fire Station 45\, 16801 Northgate Dr\, Parker\, Colorado\, 80134
CATEGORIES:Babysitting Class
END:VEVENT
BEGIN:VEVENT
DTSTART;TZID=America/Denver:20231022T090000
DTEND;TZID=America/Denver:20231022T153000
DTSTAMP:20260424T063325
CREATED:20230920T203017Z
LAST-MODIFIED:20230920T203017Z
UID:10000212-1697965200-1697988600@www.southmetrofoundation.org
SUMMARY:Super Sitter Babysitting Class  10/22/2023
DESCRIPTION:
URL:https://www.southmetrofoundation.org/event/super-sitter-babysitting-class-10-22-2023/
LOCATION:South Metro Fire Rescue HQ\, 9195 E. Mineral Ave\, Centennial\, CO\, 80112\, United States
CATEGORIES:Babysitting Class
END:VEVENT
BEGIN:VEVENT
DTSTART;TZID=America/Denver:20231020T090000
DTEND;TZID=America/Denver:20231020T153000
DTSTAMP:20260424T063325
CREATED:20230920T202704Z
LAST-MODIFIED:20230920T202704Z
UID:10000211-1697792400-1697815800@www.southmetrofoundation.org
SUMMARY:Super Sitter Babysitting Class  10/20/2023
DESCRIPTION:
URL:https://www.southmetrofoundation.org/event/super-sitter-babysitting-class-10-20-2023/
LOCATION:South Metro Fire Station 45\, 16801 Northgate Dr\, Parker\, Colorado\, 80134
CATEGORIES:Babysitting Class
END:VEVENT
BEGIN:VEVENT
DTSTART;TZID=America/Denver:20231007T090000
DTEND;TZID=America/Denver:20231007T153000
DTSTAMP:20260424T063325
CREATED:20230920T200522Z
LAST-MODIFIED:20230920T200522Z
UID:10000208-1696669200-1696692600@www.southmetrofoundation.org
SUMMARY:Super Sitter Babysitting Class  10/07/2023
DESCRIPTION:
URL:https://www.southmetrofoundation.org/event/super-sitter-babysitting-class-10-07-2023/
LOCATION:South Metro Fire Rescue HQ\, 9195 E. Mineral Ave\, Centennial\, CO\, 80112\, United States
CATEGORIES:Babysitting Class
END:VEVENT
BEGIN:VEVENT
DTSTART;TZID=America/Denver:20231001T090000
DTEND;TZID=America/Denver:20231001T153000
DTSTAMP:20260424T063325
CREATED:20230920T194849Z
LAST-MODIFIED:20230920T194849Z
UID:10000207-1696150800-1696174200@www.southmetrofoundation.org
SUMMARY:Super Sitter Babysitting Class  10/01/2023
DESCRIPTION:
URL:https://www.southmetrofoundation.org/event/super-sitter-babysitting-class-10-01-2023/
LOCATION:South Metro Fire Station 45\, 16801 Northgate Dr\, Parker\, Colorado\, 80134
CATEGORIES:Babysitting Class
END:VEVENT
BEGIN:VEVENT
DTSTART;TZID=America/Denver:20230917T090000
DTEND;TZID=America/Denver:20230917T153000
DTSTAMP:20260424T063325
CREATED:20230725T182437Z
LAST-MODIFIED:20230725T182437Z
UID:10000188-1694941200-1694964600@www.southmetrofoundation.org
SUMMARY:Super Sitter Babysitting Class  9/17/2023
DESCRIPTION:
URL:https://www.southmetrofoundation.org/event/super-sitter-babysitting-class-9-17-2023/
LOCATION:South Metro Fire Station 45\, 16801 Northgate Dr\, Parker\, Colorado\, 80134
CATEGORIES:Babysitting Class
END:VEVENT
BEGIN:VEVENT
DTSTART;TZID=America/Denver:20230910T090000
DTEND;TZID=America/Denver:20230910T153000
DTSTAMP:20260424T063325
CREATED:20230822T222409Z
LAST-MODIFIED:20230822T222409Z
UID:10000198-1694336400-1694359800@www.southmetrofoundation.org
SUMMARY:Super Sitter Babysitting Class  9/10/2023
DESCRIPTION:
URL:https://www.southmetrofoundation.org/event/super-sitter-babysitting-class-9-10-2023/
LOCATION:South Metro Fire Rescue HQ\, 9195 E. Mineral Ave\, Centennial\, CO\, 80112\, United States
CATEGORIES:Babysitting Class
END:VEVENT
BEGIN:VEVENT
DTSTART;TZID=America/Denver:20230909T090000
DTEND;TZID=America/Denver:20230909T153000
DTSTAMP:20260424T063325
CREATED:20230822T221552Z
LAST-MODIFIED:20230822T222015Z
UID:10000197-1694250000-1694273400@www.southmetrofoundation.org
SUMMARY:Super Sitter Babysitting Class  9/09/2023
DESCRIPTION:
URL:https://www.southmetrofoundation.org/event/super-sitter-babysitting-class-9-17-2023-2/
LOCATION:South Metro Fire Rescue HQ\, 9195 E. Mineral Ave\, Centennial\, CO\, 80112\, United States
CATEGORIES:Babysitting Class
END:VEVENT
BEGIN:VEVENT
DTSTART;TZID=America/Denver:20230827T090000
DTEND;TZID=America/Denver:20230827T153000
DTSTAMP:20260424T063325
CREATED:20230725T180620Z
LAST-MODIFIED:20230725T182734Z
UID:10000187-1693126800-1693150200@www.southmetrofoundation.org
SUMMARY:Super Sitter Babysitting Class  8/27/2023
DESCRIPTION:
URL:https://www.southmetrofoundation.org/event/super-sitter-babysitting-class-8-27-2023/
LOCATION:South Metro Fire Station 45\, 16801 Northgate Dr\, Parker\, Colorado\, 80134
CATEGORIES:Babysitting Class
END:VEVENT
BEGIN:VEVENT
DTSTART;TZID=America/Denver:20230806T090000
DTEND;TZID=America/Denver:20230806T153000
DTSTAMP:20260424T063325
CREATED:20230710T040730Z
LAST-MODIFIED:20230801T230922Z
UID:10000180-1691312400-1691335800@www.southmetrofoundation.org
SUMMARY:Super Sitter Babysitting Class  8/06/2023
DESCRIPTION:
URL:https://www.southmetrofoundation.org/event/super-sitter-babysitting-class-8-06-2023/
LOCATION:South Metro Fire Station 45\, 16801 Northgate Dr\, Parker\, Colorado\, 80134
CATEGORIES:Babysitting Class
END:VEVENT
BEGIN:VEVENT
DTSTART;TZID=America/Denver:20230729T090000
DTEND;TZID=America/Denver:20230729T153000
DTSTAMP:20260424T063325
CREATED:20230710T015446Z
LAST-MODIFIED:20230725T221006Z
UID:10000178-1690621200-1690644600@www.southmetrofoundation.org
SUMMARY:Super Sitter Babysitting Class  7/29/2023
DESCRIPTION:
URL:https://www.southmetrofoundation.org/event/super-sitter-babysitting-class-7-29-2023/
LOCATION:South Metro Fire Rescue HQ\, 9195 E. Mineral Ave\, Centennial\, CO\, 80112\, United States
CATEGORIES:Babysitting Class
END:VEVENT
BEGIN:VEVENT
DTSTART;TZID=America/Denver:20230725T090000
DTEND;TZID=America/Denver:20230725T153000
DTSTAMP:20260424T063325
CREATED:20230608T224949Z
LAST-MODIFIED:20230620T175505Z
UID:10000176-1690275600-1690299000@www.southmetrofoundation.org
SUMMARY:Super Sitter Babysitting Class  7/25/2023
DESCRIPTION:
URL:https://www.southmetrofoundation.org/event/super-sitter-babysitting-class-6-25-2023/
LOCATION:South Metro Fire Station 45\, 16801 Northgate Dr\, Parker\, Colorado\, 80134
CATEGORIES:Babysitting Class
END:VEVENT
BEGIN:VEVENT
DTSTART;TZID=America/Denver:20230723T090000
DTEND;TZID=America/Denver:20230723T153000
DTSTAMP:20260424T063325
CREATED:20230603T205004Z
LAST-MODIFIED:20230606T180345Z
UID:10000171-1690102800-1690126200@www.southmetrofoundation.org
SUMMARY:Super Sitter Babysitting Class 7/23/2023
DESCRIPTION:
URL:https://www.southmetrofoundation.org/event/super-sitter-babysitting-class-18/
LOCATION:South Metro Fire Station 45\, 16801 Northgate Dr\, Parker\, Colorado\, 80134
CATEGORIES:Babysitting Class
END:VEVENT
BEGIN:VEVENT
DTSTART;TZID=America/Denver:20230722T090000
DTEND;TZID=America/Denver:20230722T153000
DTSTAMP:20260424T063326
CREATED:20230712T140742Z
LAST-MODIFIED:20230712T141422Z
UID:10000181-1690016400-1690039800@www.southmetrofoundation.org
SUMMARY:Super Sitter Babysitting Class  7/22/2023
DESCRIPTION:Click below to register for this class. Once you open the registration page you will need to click on the “Donate & Tickets” button to purchase your tickets for the class. Please email theo.mink@southmetro.org with questions.\n\nClick Here to Register for the Class\n  \n 
URL:https://www.southmetrofoundation.org/event/super-sitter-babysitting-class-7-22-2023/
LOCATION:South Metro Fire Station 45\, 16801 Northgate Dr\, Parker\, Colorado\, 80134
CATEGORIES:Babysitting Class
END:VEVENT
BEGIN:VEVENT
DTSTART;TZID=America/Denver:20230708T090000
DTEND;TZID=America/Denver:20230708T153000
DTSTAMP:20260424T063326
CREATED:20230603T204059Z
LAST-MODIFIED:20230606T180638Z
UID:10000170-1688806800-1688830200@www.southmetrofoundation.org
SUMMARY:Super Sitter Babysitting Class  7/8/2023
DESCRIPTION:
URL:https://www.southmetrofoundation.org/event/super-sitter-babysitting-class-17/
LOCATION:South Metro Fire Station 45\, 16801 Northgate Dr\, Parker\, Colorado\, 80134
CATEGORIES:Babysitting Class
END:VEVENT
BEGIN:VEVENT
DTSTART;TZID=America/Denver:20230625T090000
DTEND;TZID=America/Denver:20230625T153000
DTSTAMP:20260424T063326
CREATED:20230426T204922Z
LAST-MODIFIED:20230606T180806Z
UID:10000156-1687683600-1687707000@www.southmetrofoundation.org
SUMMARY:Super Sitter Babysitting Class  6/25/2023
DESCRIPTION:
URL:https://www.southmetrofoundation.org/event/super-sitter-babysitting-class-15/
LOCATION:South Metro Fire Rescue HQ\, 9195 E. Mineral Ave\, Centennial\, CO\, 80112\, United States
CATEGORIES:Babysitting Class
END:VEVENT
BEGIN:VEVENT
DTSTART;TZID=America/Denver:20230624T090000
DTEND;TZID=America/Denver:20230624T153000
DTSTAMP:20260424T063326
CREATED:20230603T182651Z
LAST-MODIFIED:20230606T180917Z
UID:10000168-1687597200-1687620600@www.southmetrofoundation.org
SUMMARY:Supper Sitter Babysitting Class  6/24/2023
DESCRIPTION:
URL:https://www.southmetrofoundation.org/event/supper-sitter-babysitting-class/
LOCATION:South Metro Fire Rescue HQ\, 9195 E. Mineral Ave\, Centennial\, CO\, 80112\, United States
CATEGORIES:Babysitting Class
END:VEVENT
BEGIN:VEVENT
DTSTART;TZID=America/Denver:20230610T090000
DTEND;TZID=America/Denver:20230610T153000
DTSTAMP:20260424T063326
CREATED:20230426T204543Z
LAST-MODIFIED:20230606T181142Z
UID:10000155-1686387600-1686411000@www.southmetrofoundation.org
SUMMARY:Super Sitter Babysitting Class 6/10/2023
DESCRIPTION:
URL:https://www.southmetrofoundation.org/event/super-sitter-babysitting-class-14/
LOCATION:South Metro Fire Rescue HQ\, 9195 E. Mineral Ave\, Centennial\, CO\, 80112\, United States
CATEGORIES:Babysitting Class
END:VEVENT
BEGIN:VEVENT
DTSTART;TZID=America/Denver:20230603T090000
DTEND;TZID=America/Denver:20230603T153000
DTSTAMP:20260424T063326
CREATED:20230428T235111Z
LAST-MODIFIED:20230502T145026Z
UID:10000157-1685782800-1685806200@www.southmetrofoundation.org
SUMMARY:Super Sitter Babysitting Class
DESCRIPTION:
URL:https://www.southmetrofoundation.org/event/super-sitter-babysitting-class-16/
LOCATION:South Metro Fire Station 45\, 16801 Northgate Dr\, Parker\, Colorado\, 80134
CATEGORIES:Babysitting Class
END:VEVENT
BEGIN:VEVENT
DTSTART;TZID=America/Denver:20230521T090000
DTEND;TZID=America/Denver:20230521T153000
DTSTAMP:20260424T063326
CREATED:20230313T213336Z
LAST-MODIFIED:20230316T194028Z
UID:10000132-1684659600-1684683000@www.southmetrofoundation.org
SUMMARY:Super Sitter Babysitting Class
DESCRIPTION:
URL:https://www.southmetrofoundation.org/event/super-sitter-babysitting-class-12/
LOCATION:South Metro Fire Rescue HQ\, 9195 E. Mineral Ave\, Centennial\, CO\, 80112\, United States
CATEGORIES:Babysitting Class
END:VEVENT
BEGIN:VEVENT
DTSTART;TZID=America/Denver:20230506T090000
DTEND;TZID=America/Denver:20230506T153000
DTSTAMP:20260424T063326
CREATED:20230420T173646Z
LAST-MODIFIED:20230506T005114Z
UID:10000152-1683363600-1683387000@www.southmetrofoundation.org
SUMMARY:Super Sitter Babysitting Class
DESCRIPTION:
URL:https://www.southmetrofoundation.org/event/super-sitter-babysitting-class-13/
LOCATION:South Metro Fire Station 45\, 16801 Northgate Dr\, Parker\, Colorado\, 80134
CATEGORIES:Babysitting Class
END:VEVENT
BEGIN:VEVENT
DTSTART;TZID=America/Denver:20230429T090000
DTEND;TZID=America/Denver:20230429T153000
DTSTAMP:20260424T063326
CREATED:20230313T212808Z
LAST-MODIFIED:20230417T151101Z
UID:10000133-1682758800-1682782200@www.southmetrofoundation.org
SUMMARY:Super Sitter Babysitting Class
DESCRIPTION:
URL:https://www.southmetrofoundation.org/event/super-sitter-babysitting-class-11/
LOCATION:South Metro Fire Rescue HQ\, 9195 E. Mineral Ave\, Centennial\, CO\, 80112\, United States
CATEGORIES:Babysitting Class
END:VEVENT
BEGIN:VEVENT
DTSTART;TZID=America/Denver:20230423T090000
DTEND;TZID=America/Denver:20230423T153000
DTSTAMP:20260424T063326
CREATED:20230313T214358Z
LAST-MODIFIED:20230421T193411Z
UID:10000131-1682240400-1682263800@www.southmetrofoundation.org
SUMMARY:Super Sitter Babysitting Class
DESCRIPTION:
URL:https://www.southmetrofoundation.org/event/kids-home-alone-safety-class-13/
LOCATION:South Metro Fire Station 45\, 16801 Northgate Dr\, Parker\, Colorado\, 80134
CATEGORIES:Babysitting Class
END:VEVENT
BEGIN:VEVENT
DTSTART;TZID=America/Denver:20230416T090000
DTEND;TZID=America/Denver:20230416T153000
DTSTAMP:20260424T063326
CREATED:20230313T205805Z
LAST-MODIFIED:20230414T223431Z
UID:10000134-1681635600-1681659000@www.southmetrofoundation.org
SUMMARY:Super Sitter Babysitting Class
DESCRIPTION:
URL:https://www.southmetrofoundation.org/event/super-sitter-babysitting-class-10/
LOCATION:South Metro Fire Station 45\, 16801 Northgate Dr\, Parker\, Colorado\, 80134
CATEGORIES:Babysitting Class
END:VEVENT
BEGIN:VEVENT
DTSTART;TZID=America/Denver:20230325T090000
DTEND;TZID=America/Denver:20230325T153000
DTSTAMP:20260424T063326
CREATED:20230209T210706Z
LAST-MODIFIED:20230210T161055Z
UID:10000051-1679734800-1679758200@www.southmetrofoundation.org
SUMMARY:Super Sitter Babysitting Class - 3/25/23
DESCRIPTION:
URL:https://www.southmetrofoundation.org/event/super-sitter-babysitting-class-8/
LOCATION:South Metro Fire Station 45\, 16801 Northgate Dr\, Parker\, Colorado\, 80134
CATEGORIES:Babysitting Class
END:VEVENT
END:VCALENDAR