BEGIN:VCALENDAR
VERSION:2.0
PRODID:-//South Metro Safety Foundation - ECPv6.15.20//NONSGML v1.0//EN
CALSCALE:GREGORIAN
METHOD:PUBLISH
X-ORIGINAL-URL:https://www.southmetrofoundation.org
X-WR-CALDESC:Events for South Metro Safety Foundation
REFRESH-INTERVAL;VALUE=DURATION:PT1H
X-Robots-Tag:noindex
X-PUBLISHED-TTL:PT1H
BEGIN:VTIMEZONE
TZID:America/Denver
BEGIN:DAYLIGHT
TZOFFSETFROM:-0700
TZOFFSETTO:-0600
TZNAME:MDT
DTSTART:20240310T090000
END:DAYLIGHT
BEGIN:STANDARD
TZOFFSETFROM:-0600
TZOFFSETTO:-0700
TZNAME:MST
DTSTART:20241103T080000
END:STANDARD
BEGIN:DAYLIGHT
TZOFFSETFROM:-0700
TZOFFSETTO:-0600
TZNAME:MDT
DTSTART:20250309T090000
END:DAYLIGHT
BEGIN:STANDARD
TZOFFSETFROM:-0600
TZOFFSETTO:-0700
TZNAME:MST
DTSTART:20251102T080000
END:STANDARD
BEGIN:DAYLIGHT
TZOFFSETFROM:-0700
TZOFFSETTO:-0600
TZNAME:MDT
DTSTART:20260308T090000
END:DAYLIGHT
BEGIN:STANDARD
TZOFFSETFROM:-0600
TZOFFSETTO:-0700
TZNAME:MST
DTSTART:20261101T080000
END:STANDARD
END:VTIMEZONE
BEGIN:VEVENT
DTSTART;TZID=America/Denver:20250604T100000
DTEND;TZID=America/Denver:20250604T140000
DTSTAMP:20260424T060724
CREATED:20250501T231436Z
LAST-MODIFIED:20250501T231436Z
UID:10000452-1749031200-1749045600@www.southmetrofoundation.org
SUMMARY:Car Seat Installation Inspection - Lone Tree Station 34
DESCRIPTION:Please RSVP for the 30-minute block that works best for you. RSVP’s are accepted until 8:00 am on the day of the event.
URL:https://www.southmetrofoundation.org/event/car-seat-installation-inspection-lone-tree-station-34-15/
LOCATION:SMFR Station 34\, 8871 Maximus Dr\, Lonetree\, Colorado
CATEGORIES:Car Seat Inspections
END:VEVENT
BEGIN:VEVENT
DTSTART;TZID=America/Denver:20250611T100000
DTEND;TZID=America/Denver:20250611T140000
DTSTAMP:20260424T060724
CREATED:20250501T231826Z
LAST-MODIFIED:20250501T231826Z
UID:10000453-1749636000-1749650400@www.southmetrofoundation.org
SUMMARY:Car Seat Installation Inspection - Parker Station 45
DESCRIPTION:Please RSVP for the 30-minute block that works best for you. RSVP’s are accepted until 8:00 am on the day of the event.
URL:https://www.southmetrofoundation.org/event/car-seat-installation-inspection-parker-station-45-15/
LOCATION:South Metro Fire Station 45\, 16801 Northgate Dr\, Parker\, Colorado\, 80134
CATEGORIES:Car Seat Inspections
END:VEVENT
BEGIN:VEVENT
DTSTART;TZID=America/Denver:20250618T100000
DTEND;TZID=America/Denver:20250618T140000
DTSTAMP:20260424T060724
CREATED:20250501T232228Z
LAST-MODIFIED:20250501T232228Z
UID:10000454-1750240800-1750255200@www.southmetrofoundation.org
SUMMARY:Car Seat Installation Inspection - Centennial Station 35
DESCRIPTION:Please RSVP for the 30-minute block that works best for you. RSVP’s are accepted until 8:00 am on the day of the event.
URL:https://www.southmetrofoundation.org/event/car-seat-installation-inspection-centennial-station-35-15/
LOCATION:South Metro Fire Station #35\, 12080 E. Briarwood Ave\, Centennial\, Colorado
CATEGORIES:Car Seat Inspections
END:VEVENT
BEGIN:VEVENT
DTSTART;TZID=America/Denver:20250625T100000
DTEND;TZID=America/Denver:20250625T140000
DTSTAMP:20260424T060724
CREATED:20250501T232928Z
LAST-MODIFIED:20250501T232928Z
UID:10000455-1750845600-1750860000@www.southmetrofoundation.org
SUMMARY:Car Seat Installation Inspection - Littleton Station 19
DESCRIPTION:Please RSVP for the 30-minute block that works best for you. RSVP’s are accepted until 8:00 am on the day of the event.
URL:https://www.southmetrofoundation.org/event/car-seat-installation-inspection-littleton-station-19-14/
LOCATION:South Metro Fire Station 19\, 8490 W. Trailmark Pkwy\, Littleton\, Colorado
CATEGORIES:Car Seat Inspections
END:VEVENT
END:VCALENDAR