BEGIN:VCALENDAR
VERSION:2.0
PRODID:-//South Metro Safety Foundation - ECPv6.15.20//NONSGML v1.0//EN
CALSCALE:GREGORIAN
METHOD:PUBLISH
X-ORIGINAL-URL:https://www.southmetrofoundation.org
X-WR-CALDESC:Events for South Metro Safety Foundation
REFRESH-INTERVAL;VALUE=DURATION:PT1H
X-Robots-Tag:noindex
X-PUBLISHED-TTL:PT1H
BEGIN:VTIMEZONE
TZID:America/Denver
BEGIN:DAYLIGHT
TZOFFSETFROM:-0700
TZOFFSETTO:-0600
TZNAME:MDT
DTSTART:20250309T090000
END:DAYLIGHT
BEGIN:STANDARD
TZOFFSETFROM:-0600
TZOFFSETTO:-0700
TZNAME:MST
DTSTART:20251102T080000
END:STANDARD
BEGIN:DAYLIGHT
TZOFFSETFROM:-0700
TZOFFSETTO:-0600
TZNAME:MDT
DTSTART:20260308T090000
END:DAYLIGHT
BEGIN:STANDARD
TZOFFSETFROM:-0600
TZOFFSETTO:-0700
TZNAME:MST
DTSTART:20261101T080000
END:STANDARD
BEGIN:DAYLIGHT
TZOFFSETFROM:-0700
TZOFFSETTO:-0600
TZNAME:MDT
DTSTART:20270314T090000
END:DAYLIGHT
BEGIN:STANDARD
TZOFFSETFROM:-0600
TZOFFSETTO:-0700
TZNAME:MST
DTSTART:20271107T080000
END:STANDARD
END:VTIMEZONE
BEGIN:VEVENT
DTSTART;TZID=America/Denver:20260304T100000
DTEND;TZID=America/Denver:20260304T140000
DTSTAMP:20260423T151046
CREATED:20260122T234110Z
LAST-MODIFIED:20260122T234110Z
UID:10000566-1772618400-1772632800@www.southmetrofoundation.org
SUMMARY:Car Seat Installation Inspection - Lone Tree Station 34
DESCRIPTION:Please RSVP for the 30-minute block that works best for you. RSVP’s are accepted until 8:00 am on the day of the event.
URL:https://www.southmetrofoundation.org/event/car-seat-installation-inspection-lone-tree-station-34-24/
LOCATION:SMFR Station 34\, 8871 Maximus Dr\, Lonetree\, Colorado
CATEGORIES:Car Seat Inspections
END:VEVENT
BEGIN:VEVENT
DTSTART;TZID=America/Denver:20260311T100000
DTEND;TZID=America/Denver:20260311T140000
DTSTAMP:20260423T151046
CREATED:20260122T234725Z
LAST-MODIFIED:20260122T234725Z
UID:10000567-1773223200-1773237600@www.southmetrofoundation.org
SUMMARY:Car Seat Installation Inspection - Parker Station 45
DESCRIPTION:Please RSVP for the 30-minute block that works best for you. RSVP’s are accepted until 8:00 am on the day of the event.
URL:https://www.southmetrofoundation.org/event/car-seat-installation-inspection-parker-station-45-24/
LOCATION:South Metro Fire Station 45\, 16801 Northgate Dr\, Parker\, Colorado\, 80134
CATEGORIES:Car Seat Inspections
END:VEVENT
BEGIN:VEVENT
DTSTART;TZID=America/Denver:20260318T100000
DTEND;TZID=America/Denver:20260318T140000
DTSTAMP:20260423T151046
CREATED:20260122T235045Z
LAST-MODIFIED:20260122T235045Z
UID:10000568-1773828000-1773842400@www.southmetrofoundation.org
SUMMARY:Car Seat Installation Inspection - Centennial Station 35
DESCRIPTION:Please RSVP for the 30-minute block that works best for you. RSVP’s are accepted until 8:00 am on the day of the event.
URL:https://www.southmetrofoundation.org/event/car-seat-installation-inspection-centennial-station-35-24/
LOCATION:South Metro Fire Station #35\, 12080 E. Briarwood Ave\, Centennial\, Colorado
CATEGORIES:Car Seat Inspections
END:VEVENT
BEGIN:VEVENT
DTSTART;TZID=America/Denver:20260325T100000
DTEND;TZID=America/Denver:20260325T140000
DTSTAMP:20260423T151046
CREATED:20260122T235400Z
LAST-MODIFIED:20260122T235400Z
UID:10000569-1774432800-1774447200@www.southmetrofoundation.org
SUMMARY:Car Seat Installation Inspection - Littleton Station 19
DESCRIPTION:Please RSVP for the 30-minute block that works best for you. RSVP’s are accepted until 8:00 am on the day of the event.
URL:https://www.southmetrofoundation.org/event/car-seat-installation-inspection-littleton-station-19-21/
LOCATION:South Metro Fire Station 19\, 8490 W. Trailmark Pkwy\, Littleton\, Colorado
CATEGORIES:Car Seat Inspections
END:VEVENT
END:VCALENDAR