BEGIN:VCALENDAR
VERSION:2.0
PRODID:-//South Metro Safety Foundation - ECPv6.15.20//NONSGML v1.0//EN
CALSCALE:GREGORIAN
METHOD:PUBLISH
X-WR-CALNAME:South Metro Safety Foundation
X-ORIGINAL-URL:https://www.southmetrofoundation.org
X-WR-CALDESC:Events for South Metro Safety Foundation
REFRESH-INTERVAL;VALUE=DURATION:PT1H
X-Robots-Tag:noindex
X-PUBLISHED-TTL:PT1H
BEGIN:VTIMEZONE
TZID:America/Denver
BEGIN:DAYLIGHT
TZOFFSETFROM:-0700
TZOFFSETTO:-0600
TZNAME:MDT
DTSTART:20240310T090000
END:DAYLIGHT
BEGIN:STANDARD
TZOFFSETFROM:-0600
TZOFFSETTO:-0700
TZNAME:MST
DTSTART:20241103T080000
END:STANDARD
BEGIN:DAYLIGHT
TZOFFSETFROM:-0700
TZOFFSETTO:-0600
TZNAME:MDT
DTSTART:20250309T090000
END:DAYLIGHT
BEGIN:STANDARD
TZOFFSETFROM:-0600
TZOFFSETTO:-0700
TZNAME:MST
DTSTART:20251102T080000
END:STANDARD
BEGIN:DAYLIGHT
TZOFFSETFROM:-0700
TZOFFSETTO:-0600
TZNAME:MDT
DTSTART:20260308T090000
END:DAYLIGHT
BEGIN:STANDARD
TZOFFSETFROM:-0600
TZOFFSETTO:-0700
TZNAME:MST
DTSTART:20261101T080000
END:STANDARD
BEGIN:DAYLIGHT
TZOFFSETFROM:-0700
TZOFFSETTO:-0600
TZNAME:MDT
DTSTART:20270314T090000
END:DAYLIGHT
BEGIN:STANDARD
TZOFFSETFROM:-0600
TZOFFSETTO:-0700
TZNAME:MST
DTSTART:20271107T080000
END:STANDARD
END:VTIMEZONE
BEGIN:VEVENT
DTSTART;TZID=America/Denver:20260128T100000
DTEND;TZID=America/Denver:20260128T140000
DTSTAMP:20260423T151016
CREATED:20251124T021407Z
LAST-MODIFIED:20251124T021407Z
UID:10000536-1769594400-1769608800@www.southmetrofoundation.org
SUMMARY:Car Seat Installation Inspection - Littleton Station 19
DESCRIPTION:Please RSVP for the 30-minute block that works best for you. RSVP’s are accepted until 8:00 am on the day of the event.
URL:https://www.southmetrofoundation.org/event/car-seat-installation-inspection-littleton-station-19-19/
LOCATION:South Metro Fire Station 19\, 8490 W. Trailmark Pkwy\, Littleton\, Colorado
CATEGORIES:Car Seat Inspections
END:VEVENT
BEGIN:VEVENT
DTSTART;TZID=America/Denver:20260121T100000
DTEND;TZID=America/Denver:20260121T140000
DTSTAMP:20260423T151016
CREATED:20251124T020719Z
LAST-MODIFIED:20251124T020719Z
UID:10000535-1768989600-1769004000@www.southmetrofoundation.org
SUMMARY:Car Seat Installation Inspection - Centennial Station 35
DESCRIPTION:Please RSVP for the 30-minute block that works best for you. RSVP’s are accepted until 8:00 am on the day of the event.
URL:https://www.southmetrofoundation.org/event/car-seat-installation-inspection-centennial-station-35-22/
LOCATION:South Metro Fire Station #35\, 12080 E. Briarwood Ave\, Centennial\, Colorado
CATEGORIES:Car Seat Inspections
END:VEVENT
BEGIN:VEVENT
DTSTART;TZID=America/Denver:20260114T100000
DTEND;TZID=America/Denver:20260114T140000
DTSTAMP:20260423T151016
CREATED:20251124T015658Z
LAST-MODIFIED:20251124T015658Z
UID:10000534-1768384800-1768399200@www.southmetrofoundation.org
SUMMARY:Car Seat Installation Inspection - Parker Station 45
DESCRIPTION:Please RSVP for the 30-minute block that works best for you. RSVP’s are accepted until 8:00 am on the day of the event.
URL:https://www.southmetrofoundation.org/event/car-seat-installation-inspection-parker-station-45-22/
LOCATION:South Metro Fire Station 45\, 16801 Northgate Dr\, Parker\, Colorado\, 80134
CATEGORIES:Car Seat Inspections
END:VEVENT
BEGIN:VEVENT
DTSTART;TZID=America/Denver:20260107T100000
DTEND;TZID=America/Denver:20260107T140000
DTSTAMP:20260423T151016
CREATED:20251124T015232Z
LAST-MODIFIED:20251124T015232Z
UID:10000533-1767780000-1767794400@www.southmetrofoundation.org
SUMMARY:Car Seat Installation Inspection - Lone Tree Station 34
DESCRIPTION:Please RSVP for the 30-minute block that works best for you. RSVP’s are accepted until 8:00 am on the day of the event.
URL:https://www.southmetrofoundation.org/event/car-seat-installation-inspection-lone-tree-station-34-22/
LOCATION:SMFR Station 34\, 8871 Maximus Dr\, Lonetree\, Colorado
CATEGORIES:Car Seat Inspections
END:VEVENT
BEGIN:VEVENT
DTSTART;TZID=America/Denver:20251217T100000
DTEND;TZID=America/Denver:20251217T140000
DTSTAMP:20260423T151016
CREATED:20251028T005304Z
LAST-MODIFIED:20251028T005304Z
UID:10000531-1765965600-1765980000@www.southmetrofoundation.org
SUMMARY:Car Seat Installation Inspection - Centennial Station 35
DESCRIPTION:Please RSVP for the 30-minute block that works best for you. RSVP’s are accepted until 8:00 am on the day of the event.
URL:https://www.southmetrofoundation.org/event/car-seat-installation-inspection-centennial-station-35-21/
LOCATION:South Metro Fire Station #35\, 12080 E. Briarwood Ave\, Centennial\, Colorado
CATEGORIES:Car Seat Inspections
END:VEVENT
BEGIN:VEVENT
DTSTART;TZID=America/Denver:20251210T100000
DTEND;TZID=America/Denver:20251210T140000
DTSTAMP:20260423T151016
CREATED:20251028T004641Z
LAST-MODIFIED:20251028T004641Z
UID:10000530-1765360800-1765375200@www.southmetrofoundation.org
SUMMARY:Car Seat Installation Inspection - Parker Station 45
DESCRIPTION:Please RSVP for the 30-minute block that works best for you. RSVP’s are accepted until 8:00 am on the day of the event.
URL:https://www.southmetrofoundation.org/event/car-seat-installation-inspection-parker-station-45-21/
LOCATION:South Metro Fire Station 45\, 16801 Northgate Dr\, Parker\, Colorado\, 80134
CATEGORIES:Car Seat Inspections
END:VEVENT
BEGIN:VEVENT
DTSTART;TZID=America/Denver:20251203T100000
DTEND;TZID=America/Denver:20251203T140000
DTSTAMP:20260423T151016
CREATED:20251028T004145Z
LAST-MODIFIED:20251028T004145Z
UID:10000529-1764756000-1764770400@www.southmetrofoundation.org
SUMMARY:Car Seat Installation Inspection - Lone Tree Station 34
DESCRIPTION:Please RSVP for the 30-minute block that works best for you. RSVP’s are accepted until 8:00 am on the day of the event.
URL:https://www.southmetrofoundation.org/event/car-seat-installation-inspection-lone-tree-station-34-21/
LOCATION:SMFR Station 34\, 8871 Maximus Dr\, Lonetree\, Colorado
CATEGORIES:Car Seat Inspections
END:VEVENT
BEGIN:VEVENT
DTSTART;TZID=America/Denver:20251119T100000
DTEND;TZID=America/Denver:20251119T140000
DTSTAMP:20260423T151016
CREATED:20250923T213704Z
LAST-MODIFIED:20250923T213704Z
UID:10000510-1763546400-1763560800@www.southmetrofoundation.org
SUMMARY:Car Seat Installation Inspection - Centennial Station 35
DESCRIPTION:Please RSVP for the 30-minute block that works best for you. RSVP’s are accepted until 8:00 am on the day of the event.
URL:https://www.southmetrofoundation.org/event/car-seat-installation-inspection-centennial-station-35-20/
LOCATION:South Metro Fire Station #35\, 12080 E. Briarwood Ave\, Centennial\, Colorado
CATEGORIES:Car Seat Inspections
END:VEVENT
BEGIN:VEVENT
DTSTART;TZID=America/Denver:20251112T100000
DTEND;TZID=America/Denver:20251112T140000
DTSTAMP:20260423T151016
CREATED:20250923T213230Z
LAST-MODIFIED:20250923T213230Z
UID:10000509-1762941600-1762956000@www.southmetrofoundation.org
SUMMARY:Car Seat Installation Inspection - Parker Station 45
DESCRIPTION:Please RSVP for the 30-minute block that works best for you. RSVP’s are accepted until 8:00 am on the day of the event.
URL:https://www.southmetrofoundation.org/event/car-seat-installation-inspection-parker-station-45-20/
LOCATION:South Metro Fire Station 45\, 16801 Northgate Dr\, Parker\, Colorado\, 80134
CATEGORIES:Car Seat Inspections
END:VEVENT
BEGIN:VEVENT
DTSTART;TZID=America/Denver:20251105T100000
DTEND;TZID=America/Denver:20251105T140000
DTSTAMP:20260423T151016
CREATED:20250923T212554Z
LAST-MODIFIED:20250923T212554Z
UID:10000508-1762336800-1762351200@www.southmetrofoundation.org
SUMMARY:Car Seat Installation Inspection - Lone Tree Station 34
DESCRIPTION:Please RSVP for the 30-minute block that works best for you. RSVP’s are accepted until 8:00 am on the day of the event.
URL:https://www.southmetrofoundation.org/event/car-seat-installation-inspection-lone-tree-station-34-20/
LOCATION:SMFR Station 34\, 8871 Maximus Dr\, Lonetree\, Colorado
CATEGORIES:Car Seat Inspections
END:VEVENT
BEGIN:VEVENT
DTSTART;TZID=America/Denver:20251022T100000
DTEND;TZID=America/Denver:20251022T140000
DTSTAMP:20260423T151016
CREATED:20250823T141136Z
LAST-MODIFIED:20250823T141136Z
UID:10000504-1761127200-1761141600@www.southmetrofoundation.org
SUMMARY:Car Seat Installation Inspection - Littleton Station 19
DESCRIPTION:Please RSVP for the 30-minute block that works best for you. RSVP’s are accepted until 8:00 am on the day of the event.
URL:https://www.southmetrofoundation.org/event/car-seat-installation-inspection-littleton-station-19-18/
LOCATION:South Metro Fire Station 19\, 8490 W. Trailmark Pkwy\, Littleton\, Colorado
CATEGORIES:Car Seat Inspections
END:VEVENT
BEGIN:VEVENT
DTSTART;TZID=America/Denver:20251015T100000
DTEND;TZID=America/Denver:20251015T140000
DTSTAMP:20260423T151016
CREATED:20250823T140724Z
LAST-MODIFIED:20250823T140724Z
UID:10000503-1760522400-1760536800@www.southmetrofoundation.org
SUMMARY:Car Seat Installation Inspection - Centennial Station 35
DESCRIPTION:Please RSVP for the 30-minute block that works best for you. RSVP’s are accepted until 8:00 am on the day of the event.
URL:https://www.southmetrofoundation.org/event/car-seat-installation-inspection-centennial-station-35-19/
LOCATION:South Metro Fire Station #35\, 12080 E. Briarwood Ave\, Centennial\, Colorado
CATEGORIES:Car Seat Inspections
END:VEVENT
BEGIN:VEVENT
DTSTART;TZID=America/Denver:20251008T100000
DTEND;TZID=America/Denver:20251008T140000
DTSTAMP:20260423T151016
CREATED:20250823T140324Z
LAST-MODIFIED:20250823T140324Z
UID:10000502-1759917600-1759932000@www.southmetrofoundation.org
SUMMARY:Car Seat Installation Inspection - Parker Station 45
DESCRIPTION:Please RSVP for the 30-minute block that works best for you. RSVP’s are accepted until 8:00 am on the day of the event.
URL:https://www.southmetrofoundation.org/event/car-seat-installation-inspection-parker-station-45-19/
LOCATION:South Metro Fire Station 45\, 16801 Northgate Dr\, Parker\, Colorado\, 80134
CATEGORIES:Car Seat Inspections
END:VEVENT
BEGIN:VEVENT
DTSTART;TZID=America/Denver:20251001T100000
DTEND;TZID=America/Denver:20251001T140000
DTSTAMP:20260423T151016
CREATED:20250823T135417Z
LAST-MODIFIED:20250823T135417Z
UID:10000501-1759312800-1759327200@www.southmetrofoundation.org
SUMMARY:Car Seat Installation Inspection - Lone Tree Station 34
DESCRIPTION:Please RSVP for the 30-minute block that works best for you. RSVP’s are accepted until 8:00 am on the day of the event.
URL:https://www.southmetrofoundation.org/event/car-seat-installation-inspection-lone-tree-station-34-19/
LOCATION:SMFR Station 34\, 8871 Maximus Dr\, Lonetree\, Colorado
CATEGORIES:Car Seat Inspections
END:VEVENT
BEGIN:VEVENT
DTSTART;TZID=America/Denver:20250924T100000
DTEND;TZID=America/Denver:20250924T140000
DTSTAMP:20260423T151016
CREATED:20250802T005308Z
LAST-MODIFIED:20250802T005308Z
UID:10000488-1758708000-1758722400@www.southmetrofoundation.org
SUMMARY:Car Seat Installation Inspection - Littleton Station 19
DESCRIPTION:Please RSVP for the 30-minute block that works best for you. RSVP’s are accepted until 8:00 am on the day of the event.
URL:https://www.southmetrofoundation.org/event/car-seat-installation-inspection-littleton-station-19-17/
LOCATION:South Metro Fire Station 19\, 8490 W. Trailmark Pkwy\, Littleton\, Colorado
CATEGORIES:Car Seat Inspections
END:VEVENT
BEGIN:VEVENT
DTSTART;TZID=America/Denver:20250917T100000
DTEND;TZID=America/Denver:20250917T140000
DTSTAMP:20260423T151016
CREATED:20250802T004744Z
LAST-MODIFIED:20250802T004744Z
UID:10000487-1758103200-1758117600@www.southmetrofoundation.org
SUMMARY:Car Seat Installation Inspection - Centennial Station 35
DESCRIPTION:Please RSVP for the 30-minute block that works best for you. RSVP’s are accepted until 8:00 am on the day of the event.
URL:https://www.southmetrofoundation.org/event/car-seat-installation-inspection-centennial-station-35-18/
LOCATION:South Metro Fire Station #35\, 12080 E. Briarwood Ave\, Centennial\, Colorado
CATEGORIES:Car Seat Inspections
END:VEVENT
BEGIN:VEVENT
DTSTART;TZID=America/Denver:20250910T100000
DTEND;TZID=America/Denver:20250910T140000
DTSTAMP:20260423T151016
CREATED:20250802T004334Z
LAST-MODIFIED:20250802T004334Z
UID:10000486-1757498400-1757512800@www.southmetrofoundation.org
SUMMARY:Car Seat Installation Inspection - Parker Station 45
DESCRIPTION:Please RSVP for the 30-minute block that works best for you. RSVP’s are accepted until 8:00 am on the day of the event.
URL:https://www.southmetrofoundation.org/event/car-seat-installation-inspection-parker-station-45-18/
LOCATION:South Metro Fire Station 45\, 16801 Northgate Dr\, Parker\, Colorado\, 80134
CATEGORIES:Car Seat Inspections
END:VEVENT
BEGIN:VEVENT
DTSTART;TZID=America/Denver:20250903T100000
DTEND;TZID=America/Denver:20250903T140000
DTSTAMP:20260423T151016
CREATED:20250802T003759Z
LAST-MODIFIED:20250802T003759Z
UID:10000485-1756893600-1756908000@www.southmetrofoundation.org
SUMMARY:Car Seat Installation Inspection - Lone Tree Station 34
DESCRIPTION:Please RSVP for the 30-minute block that works best for you. RSVP’s are accepted until 8:00 am on the day of the event.
URL:https://www.southmetrofoundation.org/event/car-seat-installation-inspection-lone-tree-station-34-18/
LOCATION:SMFR Station 34\, 8871 Maximus Dr\, Lonetree\, Colorado
CATEGORIES:Car Seat Inspections
END:VEVENT
BEGIN:VEVENT
DTSTART;TZID=America/Denver:20250827T100000
DTEND;TZID=America/Denver:20250827T140000
DTSTAMP:20260423T151016
CREATED:20250704T172834Z
LAST-MODIFIED:20250704T172834Z
UID:10000480-1756288800-1756303200@www.southmetrofoundation.org
SUMMARY:Car Seat Installation Inspection - Littleton Station 19
DESCRIPTION:Please RSVP for the 30-minute block that works best for you. RSVP’s are accepted until 8:00 am on the day of the event.
URL:https://www.southmetrofoundation.org/event/car-seat-installation-inspection-littleton-station-19-16/
LOCATION:South Metro Fire Station 19\, 8490 W. Trailmark Pkwy\, Littleton\, Colorado
CATEGORIES:Car Seat Inspections
END:VEVENT
BEGIN:VEVENT
DTSTART;TZID=America/Denver:20250820T100000
DTEND;TZID=America/Denver:20250820T140000
DTSTAMP:20260423T151016
CREATED:20250704T172005Z
LAST-MODIFIED:20250704T172005Z
UID:10000479-1755684000-1755698400@www.southmetrofoundation.org
SUMMARY:Car Seat Installation Inspection - Centennial Station 35
DESCRIPTION:Please RSVP for the 30-minute block that works best for you. RSVP’s are accepted until 8:00 am on the day of the event.
URL:https://www.southmetrofoundation.org/event/car-seat-installation-inspection-centennial-station-35-17/
LOCATION:South Metro Fire Station #35\, 12080 E. Briarwood Ave\, Centennial\, Colorado
CATEGORIES:Car Seat Inspections
END:VEVENT
BEGIN:VEVENT
DTSTART;TZID=America/Denver:20250813T100000
DTEND;TZID=America/Denver:20250813T140000
DTSTAMP:20260423T151016
CREATED:20250704T171444Z
LAST-MODIFIED:20250704T171444Z
UID:10000478-1755079200-1755093600@www.southmetrofoundation.org
SUMMARY:Car Seat Installation Inspection - Parker Station 45
DESCRIPTION:Please RSVP for the 30-minute block that works best for you. RSVP’s are accepted until 8:00 am on the day of the event.
URL:https://www.southmetrofoundation.org/event/car-seat-installation-inspection-parker-station-45-17/
LOCATION:South Metro Fire Station 45\, 16801 Northgate Dr\, Parker\, Colorado\, 80134
CATEGORIES:Car Seat Inspections
END:VEVENT
BEGIN:VEVENT
DTSTART;TZID=America/Denver:20250806T100000
DTEND;TZID=America/Denver:20250806T140000
DTSTAMP:20260423T151016
CREATED:20250704T170305Z
LAST-MODIFIED:20250704T170305Z
UID:10000477-1754474400-1754488800@www.southmetrofoundation.org
SUMMARY:Car Seat Installation Inspection - Lone Tree Station 34
DESCRIPTION:Please RSVP for the 30-minute block that works best for you. RSVP’s are accepted until 8:00 am on the day of the event.
URL:https://www.southmetrofoundation.org/event/car-seat-installation-inspection-lone-tree-station-34-17/
LOCATION:SMFR Station 34\, 8871 Maximus Dr\, Lonetree\, Colorado
CATEGORIES:Car Seat Inspections
END:VEVENT
BEGIN:VEVENT
DTSTART;TZID=America/Denver:20250723T100000
DTEND;TZID=America/Denver:20250723T140000
DTSTAMP:20260423T151016
CREATED:20250603T125857Z
LAST-MODIFIED:20250603T125857Z
UID:10000462-1753264800-1753279200@www.southmetrofoundation.org
SUMMARY:Car Seat Installation Inspection - Littleton Station 19
DESCRIPTION:Please RSVP for the 30-minute block that works best for you. RSVP’s are accepted until 8:00 am on the day of the event.
URL:https://www.southmetrofoundation.org/event/car-seat-installation-inspection-littleton-station-19-15/
LOCATION:South Metro Fire Station 19\, 8490 W. Trailmark Pkwy\, Littleton\, Colorado
CATEGORIES:Car Seat Inspections
END:VEVENT
BEGIN:VEVENT
DTSTART;TZID=America/Denver:20250716T100000
DTEND;TZID=America/Denver:20250716T140000
DTSTAMP:20260423T151016
CREATED:20250602T233802Z
LAST-MODIFIED:20250602T233802Z
UID:10000461-1752660000-1752674400@www.southmetrofoundation.org
SUMMARY:Car Seat Installation Inspection - Centennial Station 35
DESCRIPTION:Please RSVP for the 30-minute block that works best for you. RSVP’s are accepted until 8:00 am on the day of the event.
URL:https://www.southmetrofoundation.org/event/car-seat-installation-inspection-centennial-station-35-16/
LOCATION:South Metro Fire Station #35\, 12080 E. Briarwood Ave\, Centennial\, Colorado
CATEGORIES:Car Seat Inspections
END:VEVENT
BEGIN:VEVENT
DTSTART;TZID=America/Denver:20250709T100000
DTEND;TZID=America/Denver:20250709T140000
DTSTAMP:20260423T151016
CREATED:20250602T232433Z
LAST-MODIFIED:20250602T232433Z
UID:10000460-1752055200-1752069600@www.southmetrofoundation.org
SUMMARY:Car Seat Installation Inspection - Parker Station 45
DESCRIPTION:Please RSVP for the 30-minute block that works best for you. RSVP’s are accepted until 8:00 am on the day of the event.
URL:https://www.southmetrofoundation.org/event/car-seat-installation-inspection-parker-station-45-16/
LOCATION:South Metro Fire Station 45\, 16801 Northgate Dr\, Parker\, Colorado\, 80134
CATEGORIES:Car Seat Inspections
END:VEVENT
BEGIN:VEVENT
DTSTART;TZID=America/Denver:20250702T100000
DTEND;TZID=America/Denver:20250702T140000
DTSTAMP:20260423T151016
CREATED:20250602T231907Z
LAST-MODIFIED:20250602T231907Z
UID:10000459-1751450400-1751464800@www.southmetrofoundation.org
SUMMARY:Car Seat Installation Inspection - Lone Tree Station 34
DESCRIPTION:Please RSVP for the 30-minute block that works best for you. RSVP’s are accepted until 8:00 am on the day of the event.
URL:https://www.southmetrofoundation.org/event/car-seat-installation-inspection-lone-tree-station-34-16/
LOCATION:SMFR Station 34\, 8871 Maximus Dr\, Lonetree\, Colorado
CATEGORIES:Car Seat Inspections
END:VEVENT
BEGIN:VEVENT
DTSTART;TZID=America/Denver:20250625T100000
DTEND;TZID=America/Denver:20250625T140000
DTSTAMP:20260423T151016
CREATED:20250501T232928Z
LAST-MODIFIED:20250501T232928Z
UID:10000455-1750845600-1750860000@www.southmetrofoundation.org
SUMMARY:Car Seat Installation Inspection - Littleton Station 19
DESCRIPTION:Please RSVP for the 30-minute block that works best for you. RSVP’s are accepted until 8:00 am on the day of the event.
URL:https://www.southmetrofoundation.org/event/car-seat-installation-inspection-littleton-station-19-14/
LOCATION:South Metro Fire Station 19\, 8490 W. Trailmark Pkwy\, Littleton\, Colorado
CATEGORIES:Car Seat Inspections
END:VEVENT
BEGIN:VEVENT
DTSTART;TZID=America/Denver:20250618T100000
DTEND;TZID=America/Denver:20250618T140000
DTSTAMP:20260423T151016
CREATED:20250501T232228Z
LAST-MODIFIED:20250501T232228Z
UID:10000454-1750240800-1750255200@www.southmetrofoundation.org
SUMMARY:Car Seat Installation Inspection - Centennial Station 35
DESCRIPTION:Please RSVP for the 30-minute block that works best for you. RSVP’s are accepted until 8:00 am on the day of the event.
URL:https://www.southmetrofoundation.org/event/car-seat-installation-inspection-centennial-station-35-15/
LOCATION:South Metro Fire Station #35\, 12080 E. Briarwood Ave\, Centennial\, Colorado
CATEGORIES:Car Seat Inspections
END:VEVENT
BEGIN:VEVENT
DTSTART;TZID=America/Denver:20250611T100000
DTEND;TZID=America/Denver:20250611T140000
DTSTAMP:20260423T151016
CREATED:20250501T231826Z
LAST-MODIFIED:20250501T231826Z
UID:10000453-1749636000-1749650400@www.southmetrofoundation.org
SUMMARY:Car Seat Installation Inspection - Parker Station 45
DESCRIPTION:Please RSVP for the 30-minute block that works best for you. RSVP’s are accepted until 8:00 am on the day of the event.
URL:https://www.southmetrofoundation.org/event/car-seat-installation-inspection-parker-station-45-15/
LOCATION:South Metro Fire Station 45\, 16801 Northgate Dr\, Parker\, Colorado\, 80134
CATEGORIES:Car Seat Inspections
END:VEVENT
BEGIN:VEVENT
DTSTART;TZID=America/Denver:20250604T100000
DTEND;TZID=America/Denver:20250604T140000
DTSTAMP:20260423T151016
CREATED:20250501T231436Z
LAST-MODIFIED:20250501T231436Z
UID:10000452-1749031200-1749045600@www.southmetrofoundation.org
SUMMARY:Car Seat Installation Inspection - Lone Tree Station 34
DESCRIPTION:Please RSVP for the 30-minute block that works best for you. RSVP’s are accepted until 8:00 am on the day of the event.
URL:https://www.southmetrofoundation.org/event/car-seat-installation-inspection-lone-tree-station-34-15/
LOCATION:SMFR Station 34\, 8871 Maximus Dr\, Lonetree\, Colorado
CATEGORIES:Car Seat Inspections
END:VEVENT
END:VCALENDAR