BEGIN:VCALENDAR
VERSION:2.0
PRODID:-//South Metro Safety Foundation - ECPv6.15.20//NONSGML v1.0//EN
CALSCALE:GREGORIAN
METHOD:PUBLISH
X-ORIGINAL-URL:https://www.southmetrofoundation.org
X-WR-CALDESC:Events for South Metro Safety Foundation
REFRESH-INTERVAL;VALUE=DURATION:PT1H
X-Robots-Tag:noindex
X-PUBLISHED-TTL:PT1H
BEGIN:VTIMEZONE
TZID:America/Denver
BEGIN:DAYLIGHT
TZOFFSETFROM:-0700
TZOFFSETTO:-0600
TZNAME:MDT
DTSTART:20210314T090000
END:DAYLIGHT
BEGIN:STANDARD
TZOFFSETFROM:-0600
TZOFFSETTO:-0700
TZNAME:MST
DTSTART:20211107T080000
END:STANDARD
BEGIN:DAYLIGHT
TZOFFSETFROM:-0700
TZOFFSETTO:-0600
TZNAME:MDT
DTSTART:20220313T090000
END:DAYLIGHT
BEGIN:STANDARD
TZOFFSETFROM:-0600
TZOFFSETTO:-0700
TZNAME:MST
DTSTART:20221106T080000
END:STANDARD
BEGIN:DAYLIGHT
TZOFFSETFROM:-0700
TZOFFSETTO:-0600
TZNAME:MDT
DTSTART:20230312T090000
END:DAYLIGHT
BEGIN:STANDARD
TZOFFSETFROM:-0600
TZOFFSETTO:-0700
TZNAME:MST
DTSTART:20231105T080000
END:STANDARD
BEGIN:DAYLIGHT
TZOFFSETFROM:-0700
TZOFFSETTO:-0600
TZNAME:MDT
DTSTART:20240310T090000
END:DAYLIGHT
BEGIN:STANDARD
TZOFFSETFROM:-0600
TZOFFSETTO:-0700
TZNAME:MST
DTSTART:20241103T080000
END:STANDARD
END:VTIMEZONE
BEGIN:VEVENT
DTSTART;TZID=America/Denver:20231118T090000
DTEND;TZID=America/Denver:20231118T160000
DTSTAMP:20260423T210726
CREATED:20231010T200645Z
LAST-MODIFIED:20231010T200645Z
UID:10000217-1700298000-1700323200@www.southmetrofoundation.org
SUMMARY:CPR-AED and First Aid  11/18/2023
DESCRIPTION:
URL:https://www.southmetrofoundation.org/event/cpr-aed-and-first-aid-11-18-2023/
LOCATION:South Metro Fire Rescue HQ\, 9195 E. Mineral Ave\, Centennial\, CO\, 80112\, United States
CATEGORIES:CPR, AED, & First Aid
END:VEVENT
BEGIN:VEVENT
DTSTART;TZID=America/Denver:20231029T090000
DTEND;TZID=America/Denver:20231029T160000
DTSTAMP:20260423T210726
CREATED:20230822T223033Z
LAST-MODIFIED:20230822T223033Z
UID:10000199-1698570000-1698595200@www.southmetrofoundation.org
SUMMARY:CPR-AED and First Aid  10/29/2023
DESCRIPTION:
URL:https://www.southmetrofoundation.org/event/cpr-aed-and-first-aid-10-29-2023/
LOCATION:South Metro Fire Rescue HQ\, 9195 E. Mineral Ave\, Centennial\, CO\, 80112\, United States
CATEGORIES:CPR, AED, & First Aid
END:VEVENT
BEGIN:VEVENT
DTSTART;TZID=America/Denver:20230819T090000
DTEND;TZID=America/Denver:20230819T160000
DTSTAMP:20260423T210726
CREATED:20230725T175530Z
LAST-MODIFIED:20230725T175829Z
UID:10000186-1692435600-1692460800@www.southmetrofoundation.org
SUMMARY:CPR-AED and First Aid  8/19/2023
DESCRIPTION:
URL:https://www.southmetrofoundation.org/event/cpr-aed-and-first-aid-8-19-2023/
LOCATION:South Metro Fire Rescue HQ\, 9195 E. Mineral Ave\, Centennial\, CO\, 80112\, United States
CATEGORIES:CPR, AED, & First Aid
END:VEVENT
BEGIN:VEVENT
DTSTART;TZID=America/Denver:20230716T090000
DTEND;TZID=America/Denver:20230716T160000
DTSTAMP:20260423T210726
CREATED:20230603T183752Z
LAST-MODIFIED:20230606T180529Z
UID:10000169-1689498000-1689523200@www.southmetrofoundation.org
SUMMARY:CPR-AED and First Aid  7/16/2023
DESCRIPTION:
URL:https://www.southmetrofoundation.org/event/cpr-aed-and-first-aid-8/
LOCATION:South Metro Fire Rescue HQ\, 9195 E. Mineral Ave\, Centennial\, CO\, 80112\, United States
CATEGORIES:CPR, AED, & First Aid
END:VEVENT
BEGIN:VEVENT
DTSTART;TZID=America/Denver:20230604T090000
DTEND;TZID=America/Denver:20230604T160000
DTSTAMP:20260423T210726
CREATED:20230426T204118Z
LAST-MODIFIED:20230516T133906Z
UID:10000154-1685869200-1685894400@www.southmetrofoundation.org
SUMMARY:CPR-AED and First Aid
DESCRIPTION:
URL:https://www.southmetrofoundation.org/event/cpr-aed-and-first-aid-7/
LOCATION:South Metro Fire Station 45\, 16801 Northgate Dr\, Parker\, Colorado\, 80134
CATEGORIES:CPR, AED, & First Aid
END:VEVENT
BEGIN:VEVENT
DTSTART;TZID=America/Denver:20230520T090000
DTEND;TZID=America/Denver:20230520T160000
DTSTAMP:20260423T210726
CREATED:20230313T204947Z
LAST-MODIFIED:20230316T193901Z
UID:10000135-1684573200-1684598400@www.southmetrofoundation.org
SUMMARY:CPR-AED and First Aid
DESCRIPTION:
URL:https://www.southmetrofoundation.org/event/cpr-aed-and-first-aid-6/
LOCATION:South Metro Fire Rescue HQ\, 9195 E. Mineral Ave\, Centennial\, CO\, 80112\, United States
CATEGORIES:CPR, AED, & First Aid
END:VEVENT
BEGIN:VEVENT
DTSTART;TZID=America/Denver:20230430T090000
DTEND;TZID=America/Denver:20230430T160000
DTSTAMP:20260423T210726
CREATED:20230313T204426Z
LAST-MODIFIED:20230316T193350Z
UID:10000137-1682845200-1682870400@www.southmetrofoundation.org
SUMMARY:CPR-AED and First Aid
DESCRIPTION:
URL:https://www.southmetrofoundation.org/event/cpr-aed-and-first-aid-5/
LOCATION:South Metro Fire Rescue HQ\, 9195 E. Mineral Ave\, Centennial\, CO\, 80112\, United States
CATEGORIES:CPR, AED, & First Aid
END:VEVENT
BEGIN:VEVENT
DTSTART;TZID=America/Denver:20230319T090000
DTEND;TZID=America/Denver:20230319T160000
DTSTAMP:20260423T210726
CREATED:20230209T211137Z
LAST-MODIFIED:20230210T161434Z
UID:10000052-1679216400-1679241600@www.southmetrofoundation.org
SUMMARY:CPR-AED & First Aid - 03/19/23
DESCRIPTION:
URL:https://www.southmetrofoundation.org/event/cpr-aed-first-aid-3/
LOCATION:South Metro Fire Rescue HQ\, 9195 E. Mineral Ave\, Centennial\, CO\, 80112\, United States
CATEGORIES:CPR, AED, & First Aid
END:VEVENT
BEGIN:VEVENT
DTSTART;TZID=America/Denver:20230218T080000
DTEND;TZID=America/Denver:20230218T153000
DTSTAMP:20260423T210726
CREATED:20221209T022250Z
LAST-MODIFIED:20221230T055308Z
UID:10000106-1676707200-1676734200@www.southmetrofoundation.org
SUMMARY:CPR-AED and First Aid
DESCRIPTION:
URL:https://www.southmetrofoundation.org/event/cpr-aed-and-first-aid-2/
LOCATION:South Metro Fire Station 45\, 16801 Northgate Dr\, Parker\, Colorado\, 80134
CATEGORIES:CPR, AED, & First Aid
END:VEVENT
BEGIN:VEVENT
DTSTART;TZID=America/Denver:20230130T090000
DTEND;TZID=America/Denver:20230130T153000
DTSTAMP:20260423T210726
CREATED:20230109T155835Z
LAST-MODIFIED:20230112T202940Z
UID:10000116-1675069200-1675092600@www.southmetrofoundation.org
SUMMARY:CPR-AED and First Aid
DESCRIPTION:
URL:https://www.southmetrofoundation.org/event/cpr-aed-and-first-aid-3/
LOCATION:South Metro Fire Station 45\, 16801 Northgate Dr\, Parker\, Colorado\, 80134
CATEGORIES:CPR, AED, & First Aid
END:VEVENT
BEGIN:VEVENT
DTSTART;TZID=America/Denver:20230121T090000
DTEND;TZID=America/Denver:20230121T160000
DTSTAMP:20260423T210726
CREATED:20221209T014331Z
LAST-MODIFIED:20221230T052259Z
UID:10000100-1674291600-1674316800@www.southmetrofoundation.org
SUMMARY:CPR-AED and First Aid
DESCRIPTION:
URL:https://www.southmetrofoundation.org/event/cpr-aed-and-first-aid/
LOCATION:South Metro Fire Station 45\, 16801 Northgate Dr\, Parker\, Colorado\, 80134
CATEGORIES:CPR, AED, & First Aid
END:VEVENT
BEGIN:VEVENT
DTSTART;TZID=America/Denver:20221029T090000
DTEND;TZID=America/Denver:20221029T153000
DTSTAMP:20260423T210726
CREATED:20220927T162020Z
LAST-MODIFIED:20220927T162020Z
UID:10000008-1667034000-1667057400@www.southmetrofoundation.org
SUMMARY:CPR\, AED & First Aid
DESCRIPTION:
URL:https://www.southmetrofoundation.org/event/cpr-aed-first-aid-2/
LOCATION:South Metro Fire Station 45\, 16801 Northgate Dr\, Parker\, Colorado\, 80134
CATEGORIES:CPR, AED, & First Aid
END:VEVENT
BEGIN:VEVENT
DTSTART;TZID=America/Denver:20220925T090000
DTEND;TZID=America/Denver:20220925T153000
DTSTAMP:20260423T210726
CREATED:20220902T181739Z
LAST-MODIFIED:20220902T181739Z
UID:10000063-1664096400-1664119800@www.southmetrofoundation.org
SUMMARY:CPR\, AED & First Aid
DESCRIPTION:
URL:https://www.southmetrofoundation.org/event/cpr-aed-first-aid/
LOCATION:South Metro Fire Rescue HQ\, 9195 E. Mineral Ave\, Centennial\, CO\, 80112\, United States
CATEGORIES:CPR, AED, & First Aid
END:VEVENT
BEGIN:VEVENT
DTSTART;TZID=America/Denver:20220828T090000
DTEND;TZID=America/Denver:20220828T153000
DTSTAMP:20260423T210726
CREATED:20220727T031624Z
LAST-MODIFIED:20220729T011533Z
UID:10000038-1661677200-1661700600@www.southmetrofoundation.org
SUMMARY:CPR\, AED & First Aid - Centennial
DESCRIPTION:
URL:https://www.southmetrofoundation.org/event/cpr-aed-first-aid-centennial/
LOCATION:South Metro Fire Rescue HQ\, 9195 E. Mineral Ave\, Centennial\, CO\, 80112\, United States
CATEGORIES:CPR, AED, & First Aid
END:VEVENT
END:VCALENDAR