BEGIN:VCALENDAR
VERSION:2.0
PRODID:-//South Metro Safety Foundation - ECPv6.15.20//NONSGML v1.0//EN
CALSCALE:GREGORIAN
METHOD:PUBLISH
X-ORIGINAL-URL:https://www.southmetrofoundation.org
X-WR-CALDESC:Events for South Metro Safety Foundation
REFRESH-INTERVAL;VALUE=DURATION:PT1H
X-Robots-Tag:noindex
X-PUBLISHED-TTL:PT1H
BEGIN:VTIMEZONE
TZID:America/Denver
BEGIN:DAYLIGHT
TZOFFSETFROM:-0700
TZOFFSETTO:-0600
TZNAME:MDT
DTSTART:20210314T090000
END:DAYLIGHT
BEGIN:STANDARD
TZOFFSETFROM:-0600
TZOFFSETTO:-0700
TZNAME:MST
DTSTART:20211107T080000
END:STANDARD
BEGIN:DAYLIGHT
TZOFFSETFROM:-0700
TZOFFSETTO:-0600
TZNAME:MDT
DTSTART:20220313T090000
END:DAYLIGHT
BEGIN:STANDARD
TZOFFSETFROM:-0600
TZOFFSETTO:-0700
TZNAME:MST
DTSTART:20221106T080000
END:STANDARD
BEGIN:DAYLIGHT
TZOFFSETFROM:-0700
TZOFFSETTO:-0600
TZNAME:MDT
DTSTART:20230312T090000
END:DAYLIGHT
BEGIN:STANDARD
TZOFFSETFROM:-0600
TZOFFSETTO:-0700
TZNAME:MST
DTSTART:20231105T080000
END:STANDARD
BEGIN:DAYLIGHT
TZOFFSETFROM:-0700
TZOFFSETTO:-0600
TZNAME:MDT
DTSTART:20240310T090000
END:DAYLIGHT
BEGIN:STANDARD
TZOFFSETFROM:-0600
TZOFFSETTO:-0700
TZNAME:MST
DTSTART:20241103T080000
END:STANDARD
BEGIN:DAYLIGHT
TZOFFSETFROM:-0700
TZOFFSETTO:-0600
TZNAME:MDT
DTSTART:20250309T090000
END:DAYLIGHT
BEGIN:STANDARD
TZOFFSETFROM:-0600
TZOFFSETTO:-0700
TZNAME:MST
DTSTART:20251102T080000
END:STANDARD
END:VTIMEZONE
BEGIN:VEVENT
DTSTART;TZID=America/Denver:20240511T090000
DTEND;TZID=America/Denver:20240511T130000
DTSTAMP:20260424T033908
CREATED:20240425T010205Z
LAST-MODIFIED:20240504T015015Z
UID:10000304-1715418000-1715432400@www.southmetrofoundation.org
SUMMARY:Driver Awareness Class - 05/11/24
DESCRIPTION:
URL:https://www.southmetrofoundation.org/event/driver-awareness-class-05-11-24/
LOCATION:South Metro Fire Rescue HQ\, 9195 E. Mineral Ave\, Centennial\, CO\, 80112\, United States
CATEGORIES:Driver Awareness Class
END:VEVENT
BEGIN:VEVENT
DTSTART;TZID=America/Denver:20240204T090000
DTEND;TZID=America/Denver:20240204T130000
DTSTAMP:20260424T033908
CREATED:20240111T214455Z
LAST-MODIFIED:20240127T030351Z
UID:10000255-1707037200-1707051600@www.southmetrofoundation.org
SUMMARY:Driver Awareness Class - 02/04/24
DESCRIPTION:
URL:https://www.southmetrofoundation.org/event/driver-awareness-class-02-04-24/
LOCATION:South Metro Fire Rescue HQ\, 9195 E. Mineral Ave\, Centennial\, CO\, 80112\, United States
CATEGORIES:Driver Awareness Class
END:VEVENT
BEGIN:VEVENT
DTSTART;TZID=America/Denver:20240113T090000
DTEND;TZID=America/Denver:20240113T140000
DTSTAMP:20260424T033908
CREATED:20231206T214818Z
LAST-MODIFIED:20231206T214818Z
UID:10000240-1705136400-1705154400@www.southmetrofoundation.org
SUMMARY:Driver Awareness Class - 01/13/24
DESCRIPTION:
URL:https://www.southmetrofoundation.org/event/driver-awareness-class-01-13-24/
LOCATION:South Metro Fire Rescue HQ\, 9195 E. Mineral Ave\, Centennial\, CO\, 80112\, United States
CATEGORIES:Driver Awareness Class
END:VEVENT
BEGIN:VEVENT
DTSTART;TZID=America/Denver:20230827T090000
DTEND;TZID=America/Denver:20230827T130000
DTSTAMP:20260424T033908
CREATED:20230801T230807Z
LAST-MODIFIED:20230801T230807Z
UID:10000191-1693126800-1693141200@www.southmetrofoundation.org
SUMMARY:Driver Awareness Class - 08/27/23
DESCRIPTION:
URL:https://www.southmetrofoundation.org/event/driver-awareness-class-08-27-23/
LOCATION:South Metro Fire Training Center\, 17801 E. Plaza Dr.\, Parker\, CO\, 80134\, United States
CATEGORIES:Driver Awareness Class
ATTACH;FMTTYPE=image/jpeg:https://www.southmetrofoundation.org/wp-content/uploads/2022/02/DAP2018-6.jpg
END:VEVENT
BEGIN:VEVENT
DTSTART;TZID=America/Denver:20230701T120000
DTEND;TZID=America/Denver:20230701T160000
DTSTAMP:20260424T033908
CREATED:20230524T142302Z
LAST-MODIFIED:20230527T180651Z
UID:10000166-1688212800-1688227200@www.southmetrofoundation.org
SUMMARY:Driver Awareness Class - 07/01/23
DESCRIPTION:
URL:https://www.southmetrofoundation.org/event/driver-awareness-class-07-01-23/
LOCATION:South Metro Fire Rescue HQ\, 9195 E. Mineral Ave\, Centennial\, CO\, 80112\, United States
CATEGORIES:Driver Awareness Class
ATTACH;FMTTYPE=image/jpeg:https://www.southmetrofoundation.org/wp-content/uploads/2022/02/DAP2018-6.jpg
END:VEVENT
BEGIN:VEVENT
DTSTART;TZID=America/Denver:20230416T120000
DTEND;TZID=America/Denver:20230416T160000
DTSTAMP:20260424T033908
CREATED:20230219T000947Z
LAST-MODIFIED:20230219T001119Z
UID:10000059-1681646400-1681660800@www.southmetrofoundation.org
SUMMARY:Driver Awareness Class - 04/16/23
DESCRIPTION:
URL:https://www.southmetrofoundation.org/event/driver-awareness-class-04-16-23/
LOCATION:South Metro Fire Rescue HQ\, 9195 E. Mineral Ave\, Centennial\, CO\, 80112\, United States
CATEGORIES:Driver Awareness Class
ATTACH;FMTTYPE=image/jpeg:https://www.southmetrofoundation.org/wp-content/uploads/2022/02/DAP2018-6.jpg
END:VEVENT
BEGIN:VEVENT
DTSTART;TZID=America/Denver:20230218T120000
DTEND;TZID=America/Denver:20230218T160000
DTSTAMP:20260424T033908
CREATED:20230126T195938Z
LAST-MODIFIED:20230126T195938Z
UID:10000120-1676721600-1676736000@www.southmetrofoundation.org
SUMMARY:Driver Awareness Class
DESCRIPTION:
URL:https://www.southmetrofoundation.org/event/driver-awareness-class-4/
LOCATION:South Metro Fire Rescue HQ\, 9195 E. Mineral Ave\, Centennial\, CO\, 80112\, United States
CATEGORIES:Driver Awareness Class
ATTACH;FMTTYPE=image/jpeg:https://www.southmetrofoundation.org/wp-content/uploads/2022/02/DAP2018-6.jpg
END:VEVENT
BEGIN:VEVENT
DTSTART;TZID=America/Denver:20221218T120000
DTEND;TZID=America/Denver:20221218T160000
DTSTAMP:20260424T033908
CREATED:20220908T204132Z
LAST-MODIFIED:20221111T194540Z
UID:10000079-1671364800-1671379200@www.southmetrofoundation.org
SUMMARY:Driver Awareness Class - Virtual Classroom
DESCRIPTION:Virtual Classroom – ZOOM link will be sent the day of class
URL:https://www.southmetrofoundation.org/event/driver-awareness-class-virtual-classroom-3/
LOCATION:Virtual Classroom
CATEGORIES:Driver Awareness Class
END:VEVENT
BEGIN:VEVENT
DTSTART;TZID=America/Denver:20221204T120000
DTEND;TZID=America/Denver:20221204T160000
DTSTAMP:20260424T033908
CREATED:20220908T203923Z
LAST-MODIFIED:20220908T203923Z
UID:10000078-1670155200-1670169600@www.southmetrofoundation.org
SUMMARY:Driver Awareness Class
DESCRIPTION:
URL:https://www.southmetrofoundation.org/event/driver-awareness-class-3/
LOCATION:South Metro Fire Rescue HQ\, 9195 E. Mineral Ave\, Centennial\, CO\, 80112\, United States
CATEGORIES:Driver Awareness Class
END:VEVENT
BEGIN:VEVENT
DTSTART;TZID=America/Denver:20221120T120000
DTEND;TZID=America/Denver:20221120T160000
DTSTAMP:20260424T033908
CREATED:20220908T203659Z
LAST-MODIFIED:20221118T173625Z
UID:10000077-1668945600-1668960000@www.southmetrofoundation.org
SUMMARY:Driver Awareness Class - Virtual Classroom
DESCRIPTION:Virtual Classroom – ZOOM link will be sent the day of class
URL:https://www.southmetrofoundation.org/event/driver-awareness-class-virtual-classroom-2/
LOCATION:Virtual Classroom
CATEGORIES:Driver Awareness Class
END:VEVENT
BEGIN:VEVENT
DTSTART;TZID=America/Denver:20221029T120000
DTEND;TZID=America/Denver:20221029T160000
DTSTAMP:20260424T033908
CREATED:20220908T203409Z
LAST-MODIFIED:20220908T203409Z
UID:10000076-1667044800-1667059200@www.southmetrofoundation.org
SUMMARY:Driver Awareness Class
DESCRIPTION:
URL:https://www.southmetrofoundation.org/event/driver-awareness-class-2/
LOCATION:South Metro Fire Rescue HQ\, 9195 E. Mineral Ave\, Centennial\, CO\, 80112\, United States
CATEGORIES:Driver Awareness Class
END:VEVENT
BEGIN:VEVENT
DTSTART;TZID=America/Denver:20221009T120000
DTEND;TZID=America/Denver:20221009T160000
DTSTAMP:20260424T033908
CREATED:20220908T203149Z
LAST-MODIFIED:20221005T191448Z
UID:10000075-1665316800-1665331200@www.southmetrofoundation.org
SUMMARY:Driver Awareness Class - Virtual Classroom
DESCRIPTION:Virtual Classroom – ZOOM link will be sent the day of class
URL:https://www.southmetrofoundation.org/event/driver-awareness-class-virtual-classroom/
LOCATION:Virtual Classroom
CATEGORIES:Driver Awareness Class
END:VEVENT
BEGIN:VEVENT
DTSTART;TZID=America/Denver:20220925T120000
DTEND;TZID=America/Denver:20220925T160000
DTSTAMP:20260424T033908
CREATED:20220908T202845Z
LAST-MODIFIED:20220908T202845Z
UID:10000074-1664107200-1664121600@www.southmetrofoundation.org
SUMMARY:Driver Awareness Class
DESCRIPTION:
URL:https://www.southmetrofoundation.org/event/driver-awareness-class/
LOCATION:South Metro Fire Rescue HQ\, 9195 E. Mineral Ave\, Centennial\, CO\, 80112\, United States
CATEGORIES:Driver Awareness Class
END:VEVENT
END:VCALENDAR