BEGIN:VCALENDAR
VERSION:2.0
PRODID:-//South Metro Safety Foundation - ECPv6.15.20//NONSGML v1.0//EN
CALSCALE:GREGORIAN
METHOD:PUBLISH
X-ORIGINAL-URL:https://www.southmetrofoundation.org
X-WR-CALDESC:Events for South Metro Safety Foundation
REFRESH-INTERVAL;VALUE=DURATION:PT1H
X-Robots-Tag:noindex
X-PUBLISHED-TTL:PT1H
BEGIN:VTIMEZONE
TZID:America/Denver
BEGIN:DAYLIGHT
TZOFFSETFROM:-0700
TZOFFSETTO:-0600
TZNAME:MDT
DTSTART:20210314T090000
END:DAYLIGHT
BEGIN:STANDARD
TZOFFSETFROM:-0600
TZOFFSETTO:-0700
TZNAME:MST
DTSTART:20211107T080000
END:STANDARD
BEGIN:DAYLIGHT
TZOFFSETFROM:-0700
TZOFFSETTO:-0600
TZNAME:MDT
DTSTART:20220313T090000
END:DAYLIGHT
BEGIN:STANDARD
TZOFFSETFROM:-0600
TZOFFSETTO:-0700
TZNAME:MST
DTSTART:20221106T080000
END:STANDARD
BEGIN:DAYLIGHT
TZOFFSETFROM:-0700
TZOFFSETTO:-0600
TZNAME:MDT
DTSTART:20230312T090000
END:DAYLIGHT
BEGIN:STANDARD
TZOFFSETFROM:-0600
TZOFFSETTO:-0700
TZNAME:MST
DTSTART:20231105T080000
END:STANDARD
END:VTIMEZONE
BEGIN:VEVENT
DTSTART;TZID=America/Denver:20221116T183000
DTEND;TZID=America/Denver:20221116T200000
DTSTAMP:20260424T083058
CREATED:20221028T151334Z
LAST-MODIFIED:20221028T151334Z
UID:10000017-1668623400-1668628800@www.southmetrofoundation.org
SUMMARY:License to Survive
DESCRIPTION:Learn About Teen Driving Survival & Graduated Driver Licensing. License To Survive Is A Free 90-Minute Seminar For Parents And Teens Who Are Ready To Start The Driving Permit Process. All Beginning Drivers Are Welcome To Attend. \n  \nThis event will be held in the auditorium at Chapparal High School. \nRSVP is Required. \n  \n 
URL:https://www.southmetrofoundation.org/event/license-to-survive-2/
LOCATION:Chaparral High School\, 15655 Brookstone Dr\, Parker\, Colorado\, 80134
CATEGORIES:License to Survive
ATTACH;FMTTYPE=image/jpeg:https://www.southmetrofoundation.org/wp-content/uploads/2021/11/Seminar.jpg
END:VEVENT
BEGIN:VEVENT
DTSTART;TZID=America/Denver:20220921T180000
DTEND;TZID=America/Denver:20220921T193000
DTSTAMP:20260424T083058
CREATED:20220913T195021Z
LAST-MODIFIED:20220913T201906Z
UID:10000001-1663783200-1663788600@www.southmetrofoundation.org
SUMMARY:License to Survive
DESCRIPTION:Learn About Teen Driving Survival & Graduated Driver Licensing. License To Survive Is A Free 90-Minute Seminar For Parents And Teens Who Are Ready To Start The Driving Permit Process. All Beginning Drivers Are Welcome To Attend. \n  \nThis event will be held in the orchestra room at Valor High School. \n  \nOpen to families of Valor students only.
URL:https://www.southmetrofoundation.org/event/license-to-survive/
LOCATION:Valor High School\, 3775 E. Grace Blvd\, Highlands Ranch\, Colorado\, 80126
CATEGORIES:License to Survive
ATTACH;FMTTYPE=image/jpeg:https://www.southmetrofoundation.org/wp-content/uploads/2021/11/Seminar.jpg
END:VEVENT
END:VCALENDAR