BEGIN:VCALENDAR
VERSION:2.0
PRODID:-//South Metro Safety Foundation - ECPv6.15.20//NONSGML v1.0//EN
CALSCALE:GREGORIAN
METHOD:PUBLISH
X-WR-CALNAME:South Metro Safety Foundation
X-ORIGINAL-URL:https://www.southmetrofoundation.org
X-WR-CALDESC:Events for South Metro Safety Foundation
REFRESH-INTERVAL;VALUE=DURATION:PT1H
X-Robots-Tag:noindex
X-PUBLISHED-TTL:PT1H
BEGIN:VTIMEZONE
TZID:America/Denver
BEGIN:DAYLIGHT
TZOFFSETFROM:-0700
TZOFFSETTO:-0600
TZNAME:MDT
DTSTART:20220313T090000
END:DAYLIGHT
BEGIN:STANDARD
TZOFFSETFROM:-0600
TZOFFSETTO:-0700
TZNAME:MST
DTSTART:20221106T080000
END:STANDARD
BEGIN:DAYLIGHT
TZOFFSETFROM:-0700
TZOFFSETTO:-0600
TZNAME:MDT
DTSTART:20230312T090000
END:DAYLIGHT
BEGIN:STANDARD
TZOFFSETFROM:-0600
TZOFFSETTO:-0700
TZNAME:MST
DTSTART:20231105T080000
END:STANDARD
BEGIN:DAYLIGHT
TZOFFSETFROM:-0700
TZOFFSETTO:-0600
TZNAME:MDT
DTSTART:20240310T090000
END:DAYLIGHT
BEGIN:STANDARD
TZOFFSETFROM:-0600
TZOFFSETTO:-0700
TZNAME:MST
DTSTART:20241103T080000
END:STANDARD
END:VTIMEZONE
BEGIN:VEVENT
DTSTART;TZID=America/Denver:20231027T090000
DTEND;TZID=America/Denver:20231027T153000
DTSTAMP:20260424T065451
CREATED:20230911T212208Z
LAST-MODIFIED:20230911T212433Z
UID:10000204-1698397200-1698420600@www.southmetrofoundation.org
SUMMARY:Private Babysitting Class  10/27/2023
DESCRIPTION:Content is protected.
URL:https://www.southmetrofoundation.org/event/super-sitter-babysitting-class-10-27-2023/
LOCATION:South Metro Fire Station 45\, 16801 Northgate Dr\, Parker\, Colorado\, 80134
CATEGORIES:Private Events
END:VEVENT
BEGIN:VEVENT
DTSTART;TZID=America/Denver:20230326T090000
DTEND;TZID=America/Denver:20230326T153000
DTSTAMP:20260424T065451
CREATED:20230221T035040Z
LAST-MODIFIED:20230324T165536Z
UID:10000123-1679821200-1679844600@www.southmetrofoundation.org
SUMMARY:CPR-AED and First Aid
DESCRIPTION:
URL:https://www.southmetrofoundation.org/event/cpr-aed-and-first-aid-4/
LOCATION:Colorado
CATEGORIES:Private Events
END:VEVENT
BEGIN:VEVENT
DTSTART;TZID=America/Denver:20230225T090000
DTEND;TZID=America/Denver:20230225T153000
DTSTAMP:20260424T065451
CREATED:20230221T034404Z
LAST-MODIFIED:20230222T220536Z
UID:10000061-1677315600-1677339000@www.southmetrofoundation.org
SUMMARY:Super Sitter Babysitting Class
DESCRIPTION:
URL:https://www.southmetrofoundation.org/event/super-sitter-babysitting-class-9/
LOCATION:South Metro Fire Station 45\, 16801 Northgate Dr\, Parker\, Colorado\, 80134
CATEGORIES:Private Events
END:VEVENT
END:VCALENDAR