BEGIN:VCALENDAR
VERSION:2.0
PRODID:-//South Metro Safety Foundation - ECPv6.15.20//NONSGML v1.0//EN
CALSCALE:GREGORIAN
METHOD:PUBLISH
X-WR-CALNAME:South Metro Safety Foundation
X-ORIGINAL-URL:https://www.southmetrofoundation.org
X-WR-CALDESC:Events for South Metro Safety Foundation
REFRESH-INTERVAL;VALUE=DURATION:PT1H
X-Robots-Tag:noindex
X-PUBLISHED-TTL:PT1H
BEGIN:VTIMEZONE
TZID:America/Denver
BEGIN:DAYLIGHT
TZOFFSETFROM:-0700
TZOFFSETTO:-0600
TZNAME:MDT
DTSTART:20250309T090000
END:DAYLIGHT
BEGIN:STANDARD
TZOFFSETFROM:-0600
TZOFFSETTO:-0700
TZNAME:MST
DTSTART:20251102T080000
END:STANDARD
BEGIN:DAYLIGHT
TZOFFSETFROM:-0700
TZOFFSETTO:-0600
TZNAME:MDT
DTSTART:20260308T090000
END:DAYLIGHT
BEGIN:STANDARD
TZOFFSETFROM:-0600
TZOFFSETTO:-0700
TZNAME:MST
DTSTART:20261101T080000
END:STANDARD
BEGIN:DAYLIGHT
TZOFFSETFROM:-0700
TZOFFSETTO:-0600
TZNAME:MDT
DTSTART:20270314T090000
END:DAYLIGHT
BEGIN:STANDARD
TZOFFSETFROM:-0600
TZOFFSETTO:-0700
TZNAME:MST
DTSTART:20271107T080000
END:STANDARD
END:VTIMEZONE
BEGIN:VEVENT
DTSTART;TZID=America/Denver:20260606T083000
DTEND;TZID=America/Denver:20260606T143000
DTSTAMP:20260423T145602
CREATED:20260330T194348Z
LAST-MODIFIED:20260330T194348Z
UID:10000590-1780734600-1780756200@www.southmetrofoundation.org
SUMMARY:Teen Crash Avoidance Class - 06/06/2026
DESCRIPTION:
URL:https://www.southmetrofoundation.org/event/teen-crash-avoidance-class-06-06-2026/
LOCATION:South Metro Fire Training Center\, 17801 E. Plaza Dr.\, Parker\, CO\, 80134\, United States
CATEGORIES:Teen Crash Avoidance Calendar
END:VEVENT
BEGIN:VEVENT
DTSTART;TZID=America/Denver:20260620T083000
DTEND;TZID=America/Denver:20260620T143000
DTSTAMP:20260423T145602
CREATED:20260330T194755Z
LAST-MODIFIED:20260330T203722Z
UID:10000591-1781944200-1781965800@www.southmetrofoundation.org
SUMMARY:Teen Crash Avoidance Class - 06/20/2026
DESCRIPTION:
URL:https://www.southmetrofoundation.org/event/teen-crash-avoidance-class-06-20-2026/
LOCATION:South Metro Fire Training Center\, 17801 E. Plaza Dr.\, Parker\, CO\, 80134\, United States
CATEGORIES:Teen Crash Avoidance Calendar
END:VEVENT
END:VCALENDAR