BEGIN:VCALENDAR
VERSION:2.0
PRODID:-//South Metro Safety Foundation - ECPv6.15.20//NONSGML v1.0//EN
CALSCALE:GREGORIAN
METHOD:PUBLISH
X-WR-CALNAME:South Metro Safety Foundation
X-ORIGINAL-URL:https://www.southmetrofoundation.org
X-WR-CALDESC:Events for South Metro Safety Foundation
REFRESH-INTERVAL;VALUE=DURATION:PT1H
X-Robots-Tag:noindex
X-PUBLISHED-TTL:PT1H
BEGIN:VTIMEZONE
TZID:America/Denver
BEGIN:DAYLIGHT
TZOFFSETFROM:-0700
TZOFFSETTO:-0600
TZNAME:MDT
DTSTART:20250309T090000
END:DAYLIGHT
BEGIN:STANDARD
TZOFFSETFROM:-0600
TZOFFSETTO:-0700
TZNAME:MST
DTSTART:20251102T080000
END:STANDARD
BEGIN:DAYLIGHT
TZOFFSETFROM:-0700
TZOFFSETTO:-0600
TZNAME:MDT
DTSTART:20260308T090000
END:DAYLIGHT
BEGIN:STANDARD
TZOFFSETFROM:-0600
TZOFFSETTO:-0700
TZNAME:MST
DTSTART:20261101T080000
END:STANDARD
BEGIN:DAYLIGHT
TZOFFSETFROM:-0700
TZOFFSETTO:-0600
TZNAME:MDT
DTSTART:20270314T090000
END:DAYLIGHT
BEGIN:STANDARD
TZOFFSETFROM:-0600
TZOFFSETTO:-0700
TZNAME:MST
DTSTART:20271107T080000
END:STANDARD
END:VTIMEZONE
BEGIN:VEVENT
DTSTART;TZID=America/Denver:20260503T090000
DTEND;TZID=America/Denver:20260503T153000
DTSTAMP:20260423T164400
CREATED:20260327T195900Z
LAST-MODIFIED:20260415T212007Z
UID:10000587-1777798800-1777822200@www.southmetrofoundation.org
SUMMARY:Super Sitter Babysitting Class 05/03/2026
DESCRIPTION:
URL:https://www.southmetrofoundation.org/event/super-sitter-babysitting-class-05-03-2026/
LOCATION:South Metro Fire Station 45\, 16801 Northgate Dr\, Parker\, Colorado\, 80134
CATEGORIES:Babysitting Class
END:VEVENT
BEGIN:VEVENT
DTSTART;TZID=America/Denver:20260506T100000
DTEND;TZID=America/Denver:20260506T140000
DTSTAMP:20260423T164400
CREATED:20260317T224944Z
LAST-MODIFIED:20260317T224944Z
UID:10000581-1778061600-1778076000@www.southmetrofoundation.org
SUMMARY:Car Seat Installation Inspection - Lone Tree Station 34
DESCRIPTION:Please RSVP for the 30-minute block that works best for you. RSVP’s are accepted until 8:00 am on the day of the event.
URL:https://www.southmetrofoundation.org/event/car-seat-installation-inspection-lone-tree-station-34-26/
LOCATION:SMFR Station 34\, 8871 Maximus Dr\, Lonetree\, Colorado
CATEGORIES:Car Seat Inspections
END:VEVENT
BEGIN:VEVENT
DTSTART;TZID=America/Denver:20260513T100000
DTEND;TZID=America/Denver:20260513T140000
DTSTAMP:20260423T164400
CREATED:20260317T225446Z
LAST-MODIFIED:20260317T225446Z
UID:10000582-1778666400-1778680800@www.southmetrofoundation.org
SUMMARY:Car Seat Installation Inspection - Parker Station 45
DESCRIPTION:Please RSVP for the 30-minute block that works best for you. RSVP’s are accepted until 8:00 am on the day of the event.
URL:https://www.southmetrofoundation.org/event/car-seat-installation-inspection-parker-station-45-26/
LOCATION:South Metro Fire Station 45\, 16801 Northgate Dr\, Parker\, Colorado\, 80134
CATEGORIES:Car Seat Inspections
END:VEVENT
BEGIN:VEVENT
DTSTART;TZID=America/Denver:20260516T090000
DTEND;TZID=America/Denver:20260516T153000
DTSTAMP:20260423T164400
CREATED:20260327T203021Z
LAST-MODIFIED:20260415T212130Z
UID:10000589-1778922000-1778945400@www.southmetrofoundation.org
SUMMARY:Super Sitter Babysitting Class 05/16/2026
DESCRIPTION:
URL:https://www.southmetrofoundation.org/event/super-sitter-babysitting-class-05-16-2026/
LOCATION:South Metro Fire Rescue HQ\, 9195 E. Mineral Ave\, Centennial\, CO\, 80112\, United States
CATEGORIES:Babysitting Class
END:VEVENT
BEGIN:VEVENT
DTSTART;TZID=America/Denver:20260520T100000
DTEND;TZID=America/Denver:20260520T140000
DTSTAMP:20260423T164400
CREATED:20260317T230147Z
LAST-MODIFIED:20260327T151844Z
UID:10000584-1779271200-1779285600@www.southmetrofoundation.org
SUMMARY:Car Seat Installation Inspection - Centennial Station 35
DESCRIPTION:Please RSVP for the 30-minute block that works best for you. RSVP’s are accepted until 8:00 am on the day of the event.
URL:https://www.southmetrofoundation.org/event/car-seat-installation-inspection-centennial-station-35-26/
LOCATION:South Metro Fire Station #35\, 12080 E. Briarwood Ave\, Centennial\, Colorado
CATEGORIES:Car Seat Inspections
END:VEVENT
BEGIN:VEVENT
DTSTART;TZID=America/Denver:20260527T100000
DTEND;TZID=America/Denver:20260527T140000
DTSTAMP:20260423T164401
CREATED:20260317T230811Z
LAST-MODIFIED:20260317T230811Z
UID:10000585-1779876000-1779890400@www.southmetrofoundation.org
SUMMARY:Car Seat Installation Inspection - Littleton Station 19
DESCRIPTION:Please RSVP for the 30-minute block that works best for you. RSVP’s are accepted until 8:00 am on the day of the event.
URL:https://www.southmetrofoundation.org/event/car-seat-installation-inspection-littleton-station-19-23/
LOCATION:South Metro Fire Station 19\, 8490 W. Trailmark Pkwy\, Littleton\, Colorado
CATEGORIES:Car Seat Inspections
END:VEVENT
BEGIN:VEVENT
DTSTART;TZID=America/Denver:20260530T083000
DTEND;TZID=America/Denver:20260530T143000
DTSTAMP:20260423T164401
CREATED:20251209T220024Z
LAST-MODIFIED:20251210T201040Z
UID:10000558-1780129800-1780151400@www.southmetrofoundation.org
SUMMARY:Teen Crash Avoidance Class - 05/30/2026
DESCRIPTION:
URL:https://www.southmetrofoundation.org/event/teen-crash-avoidance-class-05-30-2026/
LOCATION:South Metro Fire Training Center\, 17801 E. Plaza Dr.\, Parker\, CO\, 80134\, United States
CATEGORIES:Teen Crash Avoidance Calendar
END:VEVENT
BEGIN:VEVENT
DTSTART;TZID=America/Denver:20260606T083000
DTEND;TZID=America/Denver:20260606T143000
DTSTAMP:20260423T164401
CREATED:20260330T194348Z
LAST-MODIFIED:20260330T194348Z
UID:10000590-1780734600-1780756200@www.southmetrofoundation.org
SUMMARY:Teen Crash Avoidance Class - 06/06/2026
DESCRIPTION:
URL:https://www.southmetrofoundation.org/event/teen-crash-avoidance-class-06-06-2026/
LOCATION:South Metro Fire Training Center\, 17801 E. Plaza Dr.\, Parker\, CO\, 80134\, United States
CATEGORIES:Teen Crash Avoidance Calendar
END:VEVENT
BEGIN:VEVENT
DTSTART;TZID=America/Denver:20260620T083000
DTEND;TZID=America/Denver:20260620T143000
DTSTAMP:20260423T164401
CREATED:20260330T194755Z
LAST-MODIFIED:20260330T203722Z
UID:10000591-1781944200-1781965800@www.southmetrofoundation.org
SUMMARY:Teen Crash Avoidance Class - 06/20/2026
DESCRIPTION:
URL:https://www.southmetrofoundation.org/event/teen-crash-avoidance-class-06-20-2026/
LOCATION:South Metro Fire Training Center\, 17801 E. Plaza Dr.\, Parker\, CO\, 80134\, United States
CATEGORIES:Teen Crash Avoidance Calendar
END:VEVENT
END:VCALENDAR