BEGIN:VCALENDAR
VERSION:2.0
PRODID:-//South Metro Safety Foundation - ECPv6.15.20//NONSGML v1.0//EN
CALSCALE:GREGORIAN
METHOD:PUBLISH
X-ORIGINAL-URL:https://www.southmetrofoundation.org
X-WR-CALDESC:Events for South Metro Safety Foundation
REFRESH-INTERVAL;VALUE=DURATION:PT1H
X-Robots-Tag:noindex
X-PUBLISHED-TTL:PT1H
BEGIN:VTIMEZONE
TZID:America/Denver
BEGIN:DAYLIGHT
TZOFFSETFROM:-0700
TZOFFSETTO:-0600
TZNAME:MDT
DTSTART:20250309T090000
END:DAYLIGHT
BEGIN:STANDARD
TZOFFSETFROM:-0600
TZOFFSETTO:-0700
TZNAME:MST
DTSTART:20251102T080000
END:STANDARD
BEGIN:DAYLIGHT
TZOFFSETFROM:-0700
TZOFFSETTO:-0600
TZNAME:MDT
DTSTART:20260308T090000
END:DAYLIGHT
BEGIN:STANDARD
TZOFFSETFROM:-0600
TZOFFSETTO:-0700
TZNAME:MST
DTSTART:20261101T080000
END:STANDARD
BEGIN:DAYLIGHT
TZOFFSETFROM:-0700
TZOFFSETTO:-0600
TZNAME:MDT
DTSTART:20270314T090000
END:DAYLIGHT
BEGIN:STANDARD
TZOFFSETFROM:-0600
TZOFFSETTO:-0700
TZNAME:MST
DTSTART:20271107T080000
END:STANDARD
END:VTIMEZONE
BEGIN:VEVENT
DTSTART;TZID=America/Denver:20260201T090000
DTEND;TZID=America/Denver:20260201T153000
DTSTAMP:20260423T150102
CREATED:20251204T165812Z
LAST-MODIFIED:20251204T165812Z
UID:10000539-1769936400-1769959800@www.southmetrofoundation.org
SUMMARY:Kids Home Alone Safety Class 02/01/2026
DESCRIPTION:
URL:https://www.southmetrofoundation.org/event/kids-home-alone-safety-class-02-01-2026/
LOCATION:South Metro Fire Rescue HQ\, 9195 E. Mineral Ave\, Centennial\, CO\, 80112\, United States
CATEGORIES:Kids Home Alone Safety Class
END:VEVENT
BEGIN:VEVENT
DTSTART;TZID=America/Denver:20260204T100000
DTEND;TZID=America/Denver:20260204T140000
DTSTAMP:20260423T150102
CREATED:20251219T151240Z
LAST-MODIFIED:20251219T151240Z
UID:10000561-1770199200-1770213600@www.southmetrofoundation.org
SUMMARY:Car Seat Installation Inspection - Lone Tree Station 34
DESCRIPTION:Please RSVP for the 30-minute block that works best for you. RSVP’s are accepted until 8:00 am on the day of the event.
URL:https://www.southmetrofoundation.org/event/car-seat-installation-inspection-lone-tree-station-34-23/
LOCATION:SMFR Station 34\, 8871 Maximus Dr\, Lonetree\, Colorado
CATEGORIES:Car Seat Inspections
END:VEVENT
BEGIN:VEVENT
DTSTART;TZID=America/Denver:20260207T090000
DTEND;TZID=America/Denver:20260207T153000
DTSTAMP:20260423T150102
CREATED:20251204T175232Z
LAST-MODIFIED:20251210T202431Z
UID:10000547-1770454800-1770478200@www.southmetrofoundation.org
SUMMARY:Super Sitter Babysitting Class 02/07/2026
DESCRIPTION:
URL:https://www.southmetrofoundation.org/event/super-sitter-babysitting-class-02-07-2026/
LOCATION:South Metro Fire Station 45\, 16801 Northgate Dr\, Parker\, Colorado\, 80134
CATEGORIES:Babysitting Class
END:VEVENT
BEGIN:VEVENT
DTSTART;TZID=America/Denver:20260211T100000
DTEND;TZID=America/Denver:20260211T140000
DTSTAMP:20260423T150102
CREATED:20251219T154726Z
LAST-MODIFIED:20251219T154726Z
UID:10000563-1770804000-1770818400@www.southmetrofoundation.org
SUMMARY:Car Seat Installation Inspection - Parker Station 45
DESCRIPTION:Please RSVP for the 30-minute block that works best for you. RSVP’s are accepted until 8:00 am on the day of the event.
URL:https://www.southmetrofoundation.org/event/car-seat-installation-inspection-parker-station-45-23/
LOCATION:South Metro Fire Station 45\, 16801 Northgate Dr\, Parker\, Colorado\, 80134
CATEGORIES:Car Seat Inspections
END:VEVENT
BEGIN:VEVENT
DTSTART;TZID=America/Denver:20260215T090000
DTEND;TZID=America/Denver:20260215T153000
DTSTAMP:20260423T150102
CREATED:20251204T175523Z
LAST-MODIFIED:20251210T202342Z
UID:10000548-1771146000-1771169400@www.southmetrofoundation.org
SUMMARY:Super Sitter Babysitting Class 02/15/2026
DESCRIPTION:
URL:https://www.southmetrofoundation.org/event/super-sitter-babysitting-class-02-15-2026/
LOCATION:South Metro Fire Station 45\, 16801 Northgate Dr\, Parker\, Colorado\, 80134
CATEGORIES:Babysitting Class
END:VEVENT
BEGIN:VEVENT
DTSTART;TZID=America/Denver:20260218T100000
DTEND;TZID=America/Denver:20260218T140000
DTSTAMP:20260423T150102
CREATED:20251219T155137Z
LAST-MODIFIED:20251219T155137Z
UID:10000564-1771408800-1771423200@www.southmetrofoundation.org
SUMMARY:Car Seat Installation Inspection - Centennial Station 35
DESCRIPTION:Please RSVP for the 30-minute block that works best for you. RSVP’s are accepted until 8:00 am on the day of the event.
URL:https://www.southmetrofoundation.org/event/car-seat-installation-inspection-centennial-station-35-23/
LOCATION:South Metro Fire Station #35\, 12080 E. Briarwood Ave\, Centennial\, Colorado
CATEGORIES:Car Seat Inspections
END:VEVENT
BEGIN:VEVENT
DTSTART;TZID=America/Denver:20260221T083000
DTEND;TZID=America/Denver:20260221T143000
DTSTAMP:20260423T150102
CREATED:20251209T214114Z
LAST-MODIFIED:20251210T202247Z
UID:10000552-1771662600-1771684200@www.southmetrofoundation.org
SUMMARY:Teen Crash Avoidance Class - 02/21/2026
DESCRIPTION:
URL:https://www.southmetrofoundation.org/event/teen-crash-avoidance-class-02-21-2026/
LOCATION:South Metro Fire Training Center\, 17801 E. Plaza Dr.\, Parker\, CO\, 80134\, United States
CATEGORIES:Teen Crash Avoidance Calendar
END:VEVENT
BEGIN:VEVENT
DTSTART;TZID=America/Denver:20260225T100000
DTEND;TZID=America/Denver:20260225T140000
DTSTAMP:20260423T150102
CREATED:20251219T155625Z
LAST-MODIFIED:20251219T155625Z
UID:10000565-1772013600-1772028000@www.southmetrofoundation.org
SUMMARY:Car Seat Installation Inspection - Littleton Station 19
DESCRIPTION:Please RSVP for the 30-minute block that works best for you. RSVP’s are accepted until 8:00 am on the day of the event.
URL:https://www.southmetrofoundation.org/event/car-seat-installation-inspection-littleton-station-19-20/
LOCATION:South Metro Fire Station 19\, 8490 W. Trailmark Pkwy\, Littleton\, Colorado
CATEGORIES:Car Seat Inspections
END:VEVENT
END:VCALENDAR