BEGIN:VCALENDAR
VERSION:2.0
PRODID:-//South Metro Safety Foundation - ECPv6.15.20//NONSGML v1.0//EN
CALSCALE:GREGORIAN
METHOD:PUBLISH
X-WR-CALNAME:South Metro Safety Foundation
X-ORIGINAL-URL:https://www.southmetrofoundation.org
X-WR-CALDESC:Events for South Metro Safety Foundation
REFRESH-INTERVAL;VALUE=DURATION:PT1H
X-Robots-Tag:noindex
X-PUBLISHED-TTL:PT1H
BEGIN:VTIMEZONE
TZID:America/Denver
BEGIN:DAYLIGHT
TZOFFSETFROM:-0700
TZOFFSETTO:-0600
TZNAME:MDT
DTSTART:20240310T090000
END:DAYLIGHT
BEGIN:STANDARD
TZOFFSETFROM:-0600
TZOFFSETTO:-0700
TZNAME:MST
DTSTART:20241103T080000
END:STANDARD
BEGIN:DAYLIGHT
TZOFFSETFROM:-0700
TZOFFSETTO:-0600
TZNAME:MDT
DTSTART:20250309T090000
END:DAYLIGHT
BEGIN:STANDARD
TZOFFSETFROM:-0600
TZOFFSETTO:-0700
TZNAME:MST
DTSTART:20251102T080000
END:STANDARD
BEGIN:DAYLIGHT
TZOFFSETFROM:-0700
TZOFFSETTO:-0600
TZNAME:MDT
DTSTART:20260308T090000
END:DAYLIGHT
BEGIN:STANDARD
TZOFFSETFROM:-0600
TZOFFSETTO:-0700
TZNAME:MST
DTSTART:20261101T080000
END:STANDARD
BEGIN:DAYLIGHT
TZOFFSETFROM:-0700
TZOFFSETTO:-0600
TZNAME:MDT
DTSTART:20270314T090000
END:DAYLIGHT
BEGIN:STANDARD
TZOFFSETFROM:-0600
TZOFFSETTO:-0700
TZNAME:MST
DTSTART:20271107T080000
END:STANDARD
END:VTIMEZONE
BEGIN:VEVENT
DTSTART;TZID=America/Denver:20260419T090000
DTEND;TZID=America/Denver:20260419T153000
DTSTAMP:20260423T184507
CREATED:20260211T174056Z
LAST-MODIFIED:20260211T174359Z
UID:10000572-1776589200-1776612600@www.southmetrofoundation.org
SUMMARY:Super Sitter Babysitting Class 04/19/2026
DESCRIPTION:
URL:https://www.southmetrofoundation.org/event/super-sitter-babysitting-class-04-19-2026/
LOCATION:South Metro Fire Rescue HQ\, 9195 E. Mineral Ave\, Centennial\, CO\, 80112\, United States
CATEGORIES:Babysitting Class
END:VEVENT
BEGIN:VEVENT
DTSTART;TZID=America/Denver:20260418T090000
DTEND;TZID=America/Denver:20260418T153000
DTSTAMP:20260423T184507
CREATED:20260327T195116Z
LAST-MODIFIED:20260327T195116Z
UID:10000586-1776502800-1776526200@www.southmetrofoundation.org
SUMMARY:Super Sitter Babysitting Class 04/18/2026
DESCRIPTION:
URL:https://www.southmetrofoundation.org/event/super-sitter-babysitting-class-04-18-2026/
LOCATION:South Metro Fire Rescue HQ\, 9195 E. Mineral Ave\, Centennial\, CO\, 80112\, United States
CATEGORIES:Babysitting Class
END:VEVENT
BEGIN:VEVENT
DTSTART;TZID=America/Denver:20260328T090000
DTEND;TZID=America/Denver:20260328T160000
DTSTAMP:20260423T184507
CREATED:20260211T163216Z
LAST-MODIFIED:20260327T160009Z
UID:10000571-1774688400-1774713600@www.southmetrofoundation.org
SUMMARY:CPR-AED and First Aid 03/28/2026
DESCRIPTION:
URL:https://www.southmetrofoundation.org/event/cpr-aed-and-first-aid-03-28-2026/
LOCATION:South Metro Fire Rescue HQ\, 9195 E. Mineral Ave\, Centennial\, CO\, 80112\, United States
CATEGORIES:CPR, AED, & First Aid
END:VEVENT
BEGIN:VEVENT
DTSTART;TZID=America/Denver:20260307T090000
DTEND;TZID=America/Denver:20260307T153000
DTSTAMP:20260423T184507
CREATED:20260202T203656Z
LAST-MODIFIED:20260202T203656Z
UID:10000570-1772874000-1772897400@www.southmetrofoundation.org
SUMMARY:Super Sitter Babysitting Class 03/7/2026
DESCRIPTION:
URL:https://www.southmetrofoundation.org/event/super-sitter-babysitting-class-03-7-2026/
LOCATION:South Metro Fire Rescue HQ\, 9195 E. Mineral Ave\, Centennial\, CO\, 80112\, United States
CATEGORIES:Babysitting Class
END:VEVENT
BEGIN:VEVENT
DTSTART;TZID=America/Denver:20260201T090000
DTEND;TZID=America/Denver:20260201T153000
DTSTAMP:20260423T184507
CREATED:20251204T165812Z
LAST-MODIFIED:20251204T165812Z
UID:10000539-1769936400-1769959800@www.southmetrofoundation.org
SUMMARY:Kids Home Alone Safety Class 02/01/2026
DESCRIPTION:
URL:https://www.southmetrofoundation.org/event/kids-home-alone-safety-class-02-01-2026/
LOCATION:South Metro Fire Rescue HQ\, 9195 E. Mineral Ave\, Centennial\, CO\, 80112\, United States
CATEGORIES:Kids Home Alone Safety Class
END:VEVENT
BEGIN:VEVENT
DTSTART;TZID=America/Denver:20260131T090000
DTEND;TZID=America/Denver:20260131T153000
DTSTAMP:20260423T184507
CREATED:20251204T172904Z
LAST-MODIFIED:20251210T202540Z
UID:10000543-1769850000-1769873400@www.southmetrofoundation.org
SUMMARY:Super Sitter Babysitting Class 01/31/2026
DESCRIPTION:
URL:https://www.southmetrofoundation.org/event/super-sitter-babysitting-class-01-31-2026/
LOCATION:South Metro Fire Rescue HQ\, 9195 E. Mineral Ave\, Centennial\, CO\, 80112\, United States
CATEGORIES:Babysitting Class
END:VEVENT
BEGIN:VEVENT
DTSTART;TZID=America/Denver:20260125T090000
DTEND;TZID=America/Denver:20260125T160000
DTSTAMP:20260423T184507
CREATED:20251204T173819Z
LAST-MODIFIED:20251210T202645Z
UID:10000545-1769331600-1769356800@www.southmetrofoundation.org
SUMMARY:CPR-AED and First Aid 01/25/2026
DESCRIPTION:
URL:https://www.southmetrofoundation.org/event/cpr-aed-and-first-aid-01-25-2026/
LOCATION:South Metro Fire Rescue HQ\, 9195 E. Mineral Ave\, Centennial\, CO\, 80112\, United States
CATEGORIES:CPR, AED, & First Aid
END:VEVENT
BEGIN:VEVENT
DTSTART;TZID=America/Denver:20260110T090000
DTEND;TZID=America/Denver:20260110T153000
DTSTAMP:20260423T184507
CREATED:20251204T172623Z
LAST-MODIFIED:20251210T200247Z
UID:10000542-1768035600-1768059000@www.southmetrofoundation.org
SUMMARY:Super Sitter Babysitting Class 01/10/2026
DESCRIPTION:
URL:https://www.southmetrofoundation.org/event/super-sitter-babysitting-class-01-11-2026/
LOCATION:South Metro Fire Rescue HQ\, 9195 E. Mineral Ave\, Centennial\, CO\, 80112\, United States
CATEGORIES:Babysitting Class
END:VEVENT
BEGIN:VEVENT
DTSTART;TZID=America/Denver:20251220T090000
DTEND;TZID=America/Denver:20251220T153000
DTSTAMP:20260423T184507
CREATED:20251003T221931Z
LAST-MODIFIED:20251010T153637Z
UID:10000517-1766221200-1766244600@www.southmetrofoundation.org
SUMMARY:Super Sitter Babysitting Class 12/20/2025
DESCRIPTION:
URL:https://www.southmetrofoundation.org/event/super-sitter-babysitting-class-12-20-2025/
LOCATION:South Metro Fire Rescue HQ\, 9195 E. Mineral Ave\, Centennial\, CO\, 80112\, United States
CATEGORIES:Babysitting Class
END:VEVENT
BEGIN:VEVENT
DTSTART;TZID=America/Denver:20251206T090000
DTEND;TZID=America/Denver:20251206T153000
DTSTAMP:20260423T184507
CREATED:20251003T221634Z
LAST-MODIFIED:20251203T171759Z
UID:10000516-1765011600-1765035000@www.southmetrofoundation.org
SUMMARY:Super Sitter Babysitting Class 12/06/2025
DESCRIPTION:
URL:https://www.southmetrofoundation.org/event/super-sitter-babysitting-class-12-06-2025/
LOCATION:South Metro Fire Rescue HQ\, 9195 E. Mineral Ave\, Centennial\, CO\, 80112\, United States
CATEGORIES:Babysitting Class
END:VEVENT
BEGIN:VEVENT
DTSTART;TZID=America/Denver:20251123T090000
DTEND;TZID=America/Denver:20251123T153000
DTSTAMP:20260423T184507
CREATED:20251003T221316Z
LAST-MODIFIED:20251120T193220Z
UID:10000515-1763888400-1763911800@www.southmetrofoundation.org
SUMMARY:Super Sitter Babysitting Class 11/23/2025
DESCRIPTION:
URL:https://www.southmetrofoundation.org/event/super-sitter-babysitting-class-11-23-2025/
LOCATION:South Metro Fire Rescue HQ\, 9195 E. Mineral Ave\, Centennial\, CO\, 80112\, United States
CATEGORIES:Babysitting Class
END:VEVENT
BEGIN:VEVENT
DTSTART;TZID=America/Denver:20251025T090000
DTEND;TZID=America/Denver:20251025T153000
DTSTAMP:20260423T184507
CREATED:20250808T021814Z
LAST-MODIFIED:20251010T154354Z
UID:10000496-1761382800-1761406200@www.southmetrofoundation.org
SUMMARY:Super Sitter Babysitting Class 10/25/2025
DESCRIPTION:
URL:https://www.southmetrofoundation.org/event/super-sitter-babysitting-class-10-25-2025/
LOCATION:South Metro Fire Rescue HQ\, 9195 E. Mineral Ave\, Centennial\, CO\, 80112\, United States
CATEGORIES:Babysitting Class
END:VEVENT
BEGIN:VEVENT
DTSTART;TZID=America/Denver:20251012T090000
DTEND;TZID=America/Denver:20251012T153000
DTSTAMP:20260423T184507
CREATED:20250808T020837Z
LAST-MODIFIED:20251010T153217Z
UID:10000494-1760259600-1760283000@www.southmetrofoundation.org
SUMMARY:Super Sitter Babysitting Class 10/12/2025
DESCRIPTION:
URL:https://www.southmetrofoundation.org/event/super-sitter-babysitting-class-10-12-2025/
LOCATION:South Metro Fire Rescue HQ\, 9195 E. Mineral Ave\, Centennial\, CO\, 80112\, United States
CATEGORIES:Babysitting Class
END:VEVENT
BEGIN:VEVENT
DTSTART;TZID=America/Denver:20250921T090000
DTEND;TZID=America/Denver:20250921T153000
DTSTAMP:20260423T184507
CREATED:20250808T014545Z
LAST-MODIFIED:20250808T014545Z
UID:10000491-1758445200-1758468600@www.southmetrofoundation.org
SUMMARY:Super Sitter Babysitting Class 09/21/2025
DESCRIPTION:
URL:https://www.southmetrofoundation.org/event/super-sitter-babysitting-class-09-21-2025/
LOCATION:South Metro Fire Rescue HQ\, 9195 E. Mineral Ave\, Centennial\, CO\, 80112\, United States
CATEGORIES:Babysitting Class
END:VEVENT
BEGIN:VEVENT
DTSTART;TZID=America/Denver:20250907T090000
DTEND;TZID=America/Denver:20250907T153000
DTSTAMP:20260423T184507
CREATED:20250808T013337Z
LAST-MODIFIED:20250808T013337Z
UID:10000489-1757235600-1757259000@www.southmetrofoundation.org
SUMMARY:Super Sitter Babysitting Class 09/07/2025
DESCRIPTION:
URL:https://www.southmetrofoundation.org/event/super-sitter-babysitting-class-09-07-2025/
LOCATION:South Metro Fire Rescue HQ\, 9195 E. Mineral Ave\, Centennial\, CO\, 80112\, United States
CATEGORIES:Babysitting Class
END:VEVENT
BEGIN:VEVENT
DTSTART;TZID=America/Denver:20250809T090000
DTEND;TZID=America/Denver:20250809T153000
DTSTAMP:20260423T184507
CREATED:20250714T011828Z
LAST-MODIFIED:20250714T011828Z
UID:10000483-1754730000-1754753400@www.southmetrofoundation.org
SUMMARY:Super Sitter Babysitting Class 08/09/2025
DESCRIPTION:
URL:https://www.southmetrofoundation.org/event/super-sitter-babysitting-class-08-09-2025/
LOCATION:South Metro Fire Rescue HQ\, 9195 E. Mineral Ave\, Centennial\, CO\, 80112\, United States
CATEGORIES:Babysitting Class
END:VEVENT
BEGIN:VEVENT
DTSTART;TZID=America/Denver:20250727T090000
DTEND;TZID=America/Denver:20250727T153000
DTSTAMP:20260423T184507
CREATED:20250604T011623Z
LAST-MODIFIED:20250604T013030Z
UID:10000463-1753606800-1753630200@www.southmetrofoundation.org
SUMMARY:Kids Home Alone Safety Class  07/27/2025
DESCRIPTION:
URL:https://www.southmetrofoundation.org/event/kids-home-alone-safety-class-07-13-2025/
LOCATION:South Metro Fire Rescue HQ\, 9195 E. Mineral Ave\, Centennial\, CO\, 80112\, United States
CATEGORIES:Kids Home Alone Safety Class
ATTACH;FMTTYPE=image/png:https://www.southmetrofoundation.org/wp-content/uploads/2023/09/193512cf-b1d6-48df-976c-fd76fb8c32d4.png
END:VEVENT
BEGIN:VEVENT
DTSTART;TZID=America/Denver:20250726T090000
DTEND;TZID=America/Denver:20250726T160000
DTSTAMP:20260423T184507
CREATED:20250604T143718Z
LAST-MODIFIED:20250604T143718Z
UID:10000467-1753520400-1753545600@www.southmetrofoundation.org
SUMMARY:CPR-AED and First Aid  07/26/2025
DESCRIPTION:
URL:https://www.southmetrofoundation.org/event/cpr-aed-and-first-aid-07-26-2025/
LOCATION:South Metro Fire Rescue HQ\, 9195 E. Mineral Ave\, Centennial\, CO\, 80112\, United States
CATEGORIES:CPR, AED, & First Aid
END:VEVENT
BEGIN:VEVENT
DTSTART;TZID=America/Denver:20250713T090000
DTEND;TZID=America/Denver:20250713T153000
DTSTAMP:20260423T184507
CREATED:20250702T164623Z
LAST-MODIFIED:20250711T005936Z
UID:10000475-1752397200-1752420600@www.southmetrofoundation.org
SUMMARY:Super Sitter Babysitting Class 07/13/2025
DESCRIPTION:
URL:https://www.southmetrofoundation.org/event/super-sitter-babysitting-class-07-13-2025/
LOCATION:South Metro Fire Rescue HQ\, 9195 E. Mineral Ave\, Centennial\, CO\, 80112\, United States
CATEGORIES:Babysitting Class
END:VEVENT
BEGIN:VEVENT
DTSTART;TZID=America/Denver:20250712T090000
DTEND;TZID=America/Denver:20250712T153000
DTSTAMP:20260423T184507
CREATED:20250604T015201Z
LAST-MODIFIED:20250604T015201Z
UID:10000465-1752310800-1752334200@www.southmetrofoundation.org
SUMMARY:Super Sitter Babysitting Class  07/12/2025
DESCRIPTION:
URL:https://www.southmetrofoundation.org/event/super-sitter-babysitting-class-07-12-2025/
LOCATION:South Metro Fire Rescue HQ\, 9195 E. Mineral Ave\, Centennial\, CO\, 80112\, United States
CATEGORIES:Babysitting Class
END:VEVENT
BEGIN:VEVENT
DTSTART;TZID=America/Denver:20250629T090000
DTEND;TZID=America/Denver:20250629T160000
DTSTAMP:20260423T184507
CREATED:20250526T183131Z
LAST-MODIFIED:20250526T183131Z
UID:10000457-1751187600-1751212800@www.southmetrofoundation.org
SUMMARY:CPR-AED and First Aid  06/29/2025
DESCRIPTION:
URL:https://www.southmetrofoundation.org/event/cpr-aed-and-first-aid-06-29-2025/
LOCATION:South Metro Fire Rescue HQ\, 9195 E. Mineral Ave\, Centennial\, CO\, 80112\, United States
CATEGORIES:CPR, AED, & First Aid
END:VEVENT
BEGIN:VEVENT
DTSTART;TZID=America/Denver:20250628T090000
DTEND;TZID=America/Denver:20250628T153000
DTSTAMP:20260423T184507
CREATED:20250404T172156Z
LAST-MODIFIED:20250621T013833Z
UID:10000446-1751101200-1751124600@www.southmetrofoundation.org
SUMMARY:Super Sitter Babysitting Class  06/28/2025
DESCRIPTION:
URL:https://www.southmetrofoundation.org/event/super-sitter-babysitting-class-06-28-2025/
LOCATION:South Metro Fire Rescue HQ\, 9195 E. Mineral Ave\, Centennial\, CO\, 80112\, United States
CATEGORIES:Babysitting Class
END:VEVENT
BEGIN:VEVENT
DTSTART;TZID=America/Denver:20250608T090000
DTEND;TZID=America/Denver:20250608T153000
DTSTAMP:20260423T184507
CREATED:20250403T221724Z
LAST-MODIFIED:20250403T221724Z
UID:10000442-1749373200-1749396600@www.southmetrofoundation.org
SUMMARY:Super Sitter Babysitting Class  06/08/2025
DESCRIPTION:
URL:https://www.southmetrofoundation.org/event/super-sitter-babysitting-class-06-08-2025/
LOCATION:South Metro Fire Rescue HQ\, 9195 E. Mineral Ave\, Centennial\, CO\, 80112\, United States
CATEGORIES:Babysitting Class
END:VEVENT
BEGIN:VEVENT
DTSTART;TZID=America/Denver:20250607T090000
DTEND;TZID=America/Denver:20250607T153000
DTSTAMP:20260423T184507
CREATED:20250404T171848Z
LAST-MODIFIED:20250404T171848Z
UID:10000445-1749286800-1749310200@www.southmetrofoundation.org
SUMMARY:Super Sitter Babysitting Class  06/07/2025
DESCRIPTION:
URL:https://www.southmetrofoundation.org/event/super-sitter-babysitting-class-06-07-2025/
LOCATION:South Metro Fire Rescue HQ\, 9195 E. Mineral Ave\, Centennial\, CO\, 80112\, United States
CATEGORIES:Babysitting Class
END:VEVENT
BEGIN:VEVENT
DTSTART;TZID=America/Denver:20250427T090000
DTEND;TZID=America/Denver:20250427T160000
DTSTAMP:20260423T184507
CREATED:20250221T214357Z
LAST-MODIFIED:20250221T215749Z
UID:10000427-1745744400-1745769600@www.southmetrofoundation.org
SUMMARY:CPR-AED and First Aid  04/27/2025
DESCRIPTION:
URL:https://www.southmetrofoundation.org/event/cpr-aed-and-first-aid-04-27-2025/
LOCATION:South Metro Fire Rescue HQ\, 9195 E. Mineral Ave\, Centennial\, CO\, 80112\, United States
CATEGORIES:CPR, AED, & First Aid
END:VEVENT
BEGIN:VEVENT
DTSTART;TZID=America/Denver:20250426T090000
DTEND;TZID=America/Denver:20250426T153000
DTSTAMP:20260423T184507
CREATED:20250218T022433Z
LAST-MODIFIED:20250218T022433Z
UID:10000422-1745658000-1745681400@www.southmetrofoundation.org
SUMMARY:Kids Home Alone Safety Class  04/26/2025
DESCRIPTION:
URL:https://www.southmetrofoundation.org/event/kids-home-alone-safety-class-04-26-2025/
LOCATION:South Metro Fire Rescue HQ\, 9195 E. Mineral Ave\, Centennial\, CO\, 80112\, United States
CATEGORIES:Kids Home Alone Safety Class
ATTACH;FMTTYPE=image/png:https://www.southmetrofoundation.org/wp-content/uploads/2023/09/193512cf-b1d6-48df-976c-fd76fb8c32d4.png
END:VEVENT
BEGIN:VEVENT
DTSTART;TZID=America/Denver:20250406T090000
DTEND;TZID=America/Denver:20250406T153000
DTSTAMP:20260423T184507
CREATED:20250218T021619Z
LAST-MODIFIED:20250218T021619Z
UID:10000421-1743930000-1743953400@www.southmetrofoundation.org
SUMMARY:Super Sitter Babysitting Class  04/06/2025
DESCRIPTION:
URL:https://www.southmetrofoundation.org/event/super-sitter-babysitting-class-04-06-2025/
LOCATION:South Metro Fire Rescue HQ\, 9195 E. Mineral Ave\, Centennial\, CO\, 80112\, United States
CATEGORIES:Babysitting Class
END:VEVENT
BEGIN:VEVENT
DTSTART;TZID=America/Denver:20250405T090000
DTEND;TZID=America/Denver:20250405T153000
DTSTAMP:20260423T184507
CREATED:20250218T020940Z
LAST-MODIFIED:20250218T020940Z
UID:10000418-1743843600-1743867000@www.southmetrofoundation.org
SUMMARY:Super Sitter Babysitting Class  04/05/2025
DESCRIPTION:
URL:https://www.southmetrofoundation.org/event/super-sitter-babysitting-class-04-05-2025/
LOCATION:South Metro Fire Rescue HQ\, 9195 E. Mineral Ave\, Centennial\, CO\, 80112\, United States
CATEGORIES:Babysitting Class
END:VEVENT
BEGIN:VEVENT
DTSTART;TZID=America/Denver:20250330T090000
DTEND;TZID=America/Denver:20250330T160000
DTSTAMP:20260423T184507
CREATED:20250217T155636Z
LAST-MODIFIED:20250217T155636Z
UID:10000417-1743325200-1743350400@www.southmetrofoundation.org
SUMMARY:CPR-AED and First Aid  03/30/2025
DESCRIPTION:
URL:https://www.southmetrofoundation.org/event/cpr-aed-and-first-aid-03-30-2025/
LOCATION:South Metro Fire Rescue HQ\, 9195 E. Mineral Ave\, Centennial\, CO\, 80112\, United States
CATEGORIES:CPR, AED, & First Aid
END:VEVENT
BEGIN:VEVENT
DTSTART;TZID=America/Denver:20250316T090000
DTEND;TZID=America/Denver:20250316T153000
DTSTAMP:20260423T184507
CREATED:20250220T195447Z
LAST-MODIFIED:20250220T195447Z
UID:10000424-1742115600-1742139000@www.southmetrofoundation.org
SUMMARY:Super Sitter Babysitting Class  03/16/2025
DESCRIPTION:
URL:https://www.southmetrofoundation.org/event/super-sitter-babysitting-class-03-16-2025/
LOCATION:South Metro Fire Rescue HQ\, 9195 E. Mineral Ave\, Centennial\, CO\, 80112\, United States
CATEGORIES:Babysitting Class
END:VEVENT
END:VCALENDAR