BEGIN:VCALENDAR
VERSION:2.0
PRODID:-//South Metro Safety Foundation - ECPv6.15.20//NONSGML v1.0//EN
CALSCALE:GREGORIAN
METHOD:PUBLISH
X-ORIGINAL-URL:https://www.southmetrofoundation.org
X-WR-CALDESC:Events for South Metro Safety Foundation
REFRESH-INTERVAL;VALUE=DURATION:PT1H
X-Robots-Tag:noindex
X-PUBLISHED-TTL:PT1H
BEGIN:VTIMEZONE
TZID:America/Denver
BEGIN:DAYLIGHT
TZOFFSETFROM:-0700
TZOFFSETTO:-0600
TZNAME:MDT
DTSTART:20230312T090000
END:DAYLIGHT
BEGIN:STANDARD
TZOFFSETFROM:-0600
TZOFFSETTO:-0700
TZNAME:MST
DTSTART:20231105T080000
END:STANDARD
BEGIN:DAYLIGHT
TZOFFSETFROM:-0700
TZOFFSETTO:-0600
TZNAME:MDT
DTSTART:20240310T090000
END:DAYLIGHT
BEGIN:STANDARD
TZOFFSETFROM:-0600
TZOFFSETTO:-0700
TZNAME:MST
DTSTART:20241103T080000
END:STANDARD
BEGIN:DAYLIGHT
TZOFFSETFROM:-0700
TZOFFSETTO:-0600
TZNAME:MDT
DTSTART:20250309T090000
END:DAYLIGHT
BEGIN:STANDARD
TZOFFSETFROM:-0600
TZOFFSETTO:-0700
TZNAME:MST
DTSTART:20251102T080000
END:STANDARD
BEGIN:DAYLIGHT
TZOFFSETFROM:-0700
TZOFFSETTO:-0600
TZNAME:MDT
DTSTART:20260308T090000
END:DAYLIGHT
BEGIN:STANDARD
TZOFFSETFROM:-0600
TZOFFSETTO:-0700
TZNAME:MST
DTSTART:20261101T080000
END:STANDARD
END:VTIMEZONE
BEGIN:VEVENT
DTSTART;TZID=America/Denver:20250427T090000
DTEND;TZID=America/Denver:20250427T160000
DTSTAMP:20260423T221035
CREATED:20250221T214357Z
LAST-MODIFIED:20250221T215749Z
UID:10000427-1745744400-1745769600@www.southmetrofoundation.org
SUMMARY:CPR-AED and First Aid  04/27/2025
DESCRIPTION:
URL:https://www.southmetrofoundation.org/event/cpr-aed-and-first-aid-04-27-2025/
LOCATION:South Metro Fire Rescue HQ\, 9195 E. Mineral Ave\, Centennial\, CO\, 80112\, United States
CATEGORIES:CPR, AED, & First Aid
END:VEVENT
BEGIN:VEVENT
DTSTART;TZID=America/Denver:20250426T090000
DTEND;TZID=America/Denver:20250426T153000
DTSTAMP:20260423T221035
CREATED:20250218T022433Z
LAST-MODIFIED:20250218T022433Z
UID:10000422-1745658000-1745681400@www.southmetrofoundation.org
SUMMARY:Kids Home Alone Safety Class  04/26/2025
DESCRIPTION:
URL:https://www.southmetrofoundation.org/event/kids-home-alone-safety-class-04-26-2025/
LOCATION:South Metro Fire Rescue HQ\, 9195 E. Mineral Ave\, Centennial\, CO\, 80112\, United States
CATEGORIES:Kids Home Alone Safety Class
ATTACH;FMTTYPE=image/png:https://www.southmetrofoundation.org/wp-content/uploads/2023/09/193512cf-b1d6-48df-976c-fd76fb8c32d4.png
END:VEVENT
BEGIN:VEVENT
DTSTART;TZID=America/Denver:20250406T090000
DTEND;TZID=America/Denver:20250406T153000
DTSTAMP:20260423T221035
CREATED:20250218T021619Z
LAST-MODIFIED:20250218T021619Z
UID:10000421-1743930000-1743953400@www.southmetrofoundation.org
SUMMARY:Super Sitter Babysitting Class  04/06/2025
DESCRIPTION:
URL:https://www.southmetrofoundation.org/event/super-sitter-babysitting-class-04-06-2025/
LOCATION:South Metro Fire Rescue HQ\, 9195 E. Mineral Ave\, Centennial\, CO\, 80112\, United States
CATEGORIES:Babysitting Class
END:VEVENT
BEGIN:VEVENT
DTSTART;TZID=America/Denver:20250405T090000
DTEND;TZID=America/Denver:20250405T153000
DTSTAMP:20260423T221035
CREATED:20250218T020940Z
LAST-MODIFIED:20250218T020940Z
UID:10000418-1743843600-1743867000@www.southmetrofoundation.org
SUMMARY:Super Sitter Babysitting Class  04/05/2025
DESCRIPTION:
URL:https://www.southmetrofoundation.org/event/super-sitter-babysitting-class-04-05-2025/
LOCATION:South Metro Fire Rescue HQ\, 9195 E. Mineral Ave\, Centennial\, CO\, 80112\, United States
CATEGORIES:Babysitting Class
END:VEVENT
BEGIN:VEVENT
DTSTART;TZID=America/Denver:20250330T090000
DTEND;TZID=America/Denver:20250330T160000
DTSTAMP:20260423T221035
CREATED:20250217T155636Z
LAST-MODIFIED:20250217T155636Z
UID:10000417-1743325200-1743350400@www.southmetrofoundation.org
SUMMARY:CPR-AED and First Aid  03/30/2025
DESCRIPTION:
URL:https://www.southmetrofoundation.org/event/cpr-aed-and-first-aid-03-30-2025/
LOCATION:South Metro Fire Rescue HQ\, 9195 E. Mineral Ave\, Centennial\, CO\, 80112\, United States
CATEGORIES:CPR, AED, & First Aid
END:VEVENT
BEGIN:VEVENT
DTSTART;TZID=America/Denver:20250316T090000
DTEND;TZID=America/Denver:20250316T153000
DTSTAMP:20260423T221035
CREATED:20250220T195447Z
LAST-MODIFIED:20250220T195447Z
UID:10000424-1742115600-1742139000@www.southmetrofoundation.org
SUMMARY:Super Sitter Babysitting Class  03/16/2025
DESCRIPTION:
URL:https://www.southmetrofoundation.org/event/super-sitter-babysitting-class-03-16-2025/
LOCATION:South Metro Fire Rescue HQ\, 9195 E. Mineral Ave\, Centennial\, CO\, 80112\, United States
CATEGORIES:Babysitting Class
END:VEVENT
BEGIN:VEVENT
DTSTART;TZID=America/Denver:20250308T090000
DTEND;TZID=America/Denver:20250308T153000
DTSTAMP:20260423T221035
CREATED:20250120T214350Z
LAST-MODIFIED:20250224T173405Z
UID:10000411-1741424400-1741447800@www.southmetrofoundation.org
SUMMARY:Super Sitter Babysitting Class  03/08/2025
DESCRIPTION:
URL:https://www.southmetrofoundation.org/event/super-sitter-babysitting-class-03-08-2025/
LOCATION:South Metro Fire Rescue HQ\, 9195 E. Mineral Ave\, Centennial\, CO\, 80112\, United States
CATEGORIES:Babysitting Class
END:VEVENT
BEGIN:VEVENT
DTSTART;TZID=America/Denver:20250216T090000
DTEND;TZID=America/Denver:20250216T160000
DTSTAMP:20260423T221035
CREATED:20241218T162156Z
LAST-MODIFIED:20241218T162156Z
UID:10000393-1739696400-1739721600@www.southmetrofoundation.org
SUMMARY:CPR-AED and First Aid  02/16/2025
DESCRIPTION:
URL:https://www.southmetrofoundation.org/event/cpr-aed-and-first-aid-02-16-2025/
LOCATION:South Metro Fire Rescue HQ\, 9195 E. Mineral Ave\, Centennial\, CO\, 80112\, United States
CATEGORIES:CPR, AED, & First Aid
END:VEVENT
BEGIN:VEVENT
DTSTART;TZID=America/Denver:20250201T090000
DTEND;TZID=America/Denver:20250201T153000
DTSTAMP:20260423T221035
CREATED:20241218T224855Z
LAST-MODIFIED:20241218T224855Z
UID:10000394-1738400400-1738423800@www.southmetrofoundation.org
SUMMARY:Super Sitter Babysitting Class  02/01/2025
DESCRIPTION:
URL:https://www.southmetrofoundation.org/event/super-sitter-babysitting-class-02-01-2025/
LOCATION:South Metro Fire Rescue HQ\, 9195 E. Mineral Ave\, Centennial\, CO\, 80112\, United States
CATEGORIES:Babysitting Class
END:VEVENT
BEGIN:VEVENT
DTSTART;TZID=America/Denver:20250119T090000
DTEND;TZID=America/Denver:20250119T153000
DTSTAMP:20260423T221035
CREATED:20241218T015832Z
LAST-MODIFIED:20241218T023521Z
UID:10000391-1737277200-1737300600@www.southmetrofoundation.org
SUMMARY:Super Sitter Babysitting Class  01/19/2025
DESCRIPTION:
URL:https://www.southmetrofoundation.org/event/super-sitter-babysitting-class-01-19-2025/
LOCATION:South Metro Fire Rescue HQ\, 9195 E. Mineral Ave\, Centennial\, CO\, 80112\, United States
CATEGORIES:Babysitting Class
END:VEVENT
BEGIN:VEVENT
DTSTART;TZID=America/Denver:20241229T090000
DTEND;TZID=America/Denver:20241229T153000
DTSTAMP:20260423T221035
CREATED:20241105T165944Z
LAST-MODIFIED:20241204T162650Z
UID:10000377-1735462800-1735486200@www.southmetrofoundation.org
SUMMARY:Super Sitter Babysitting Class  12/29/2024
DESCRIPTION:
URL:https://www.southmetrofoundation.org/event/super-sitter-babysitting-class-12-29-2024/
LOCATION:South Metro Fire Rescue HQ\, 9195 E. Mineral Ave\, Centennial\, CO\, 80112\, United States
CATEGORIES:Babysitting Class
END:VEVENT
BEGIN:VEVENT
DTSTART;TZID=America/Denver:20241207T090000
DTEND;TZID=America/Denver:20241207T153000
DTSTAMP:20260423T221035
CREATED:20241105T164745Z
LAST-MODIFIED:20241105T164745Z
UID:10000376-1733562000-1733585400@www.southmetrofoundation.org
SUMMARY:Super Sitter Babysitting Class  12/07/2024
DESCRIPTION:
URL:https://www.southmetrofoundation.org/event/super-sitter-babysitting-class-12-07-2024/
LOCATION:South Metro Fire Rescue HQ\, 9195 E. Mineral Ave\, Centennial\, CO\, 80112\, United States
CATEGORIES:Babysitting Class
END:VEVENT
BEGIN:VEVENT
DTSTART;TZID=America/Denver:20241110T090000
DTEND;TZID=America/Denver:20241110T153000
DTSTAMP:20260423T221035
CREATED:20241010T224321Z
LAST-MODIFIED:20241010T224321Z
UID:10000369-1731229200-1731252600@www.southmetrofoundation.org
SUMMARY:Super Sitter Babysitting Class  11/10/2024
DESCRIPTION:
URL:https://www.southmetrofoundation.org/event/super-sitter-babysitting-class-11-10-2024/
LOCATION:South Metro Fire Rescue HQ\, 9195 E. Mineral Ave\, Centennial\, CO\, 80112\, United States
CATEGORIES:Babysitting Class
END:VEVENT
BEGIN:VEVENT
DTSTART;TZID=America/Denver:20241109T090000
DTEND;TZID=America/Denver:20241109T160000
DTSTAMP:20260423T221035
CREATED:20241017T215528Z
LAST-MODIFIED:20241017T215528Z
UID:10000370-1731142800-1731168000@www.southmetrofoundation.org
SUMMARY:CPR-AED and First Aid  11/09/2024
DESCRIPTION:
URL:https://www.southmetrofoundation.org/event/cpr-aed-and-first-aid-11-09-2024/
LOCATION:South Metro Fire Rescue HQ\, 9195 E. Mineral Ave\, Centennial\, CO\, 80112\, United States
CATEGORIES:CPR, AED, & First Aid
END:VEVENT
BEGIN:VEVENT
DTSTART;TZID=America/Denver:20241013T090000
DTEND;TZID=America/Denver:20241013T153000
DTSTAMP:20260423T221035
CREATED:20240910T204915Z
LAST-MODIFIED:20240910T204915Z
UID:10000350-1728810000-1728833400@www.southmetrofoundation.org
SUMMARY:Kids Home Alone Safety Class  10/13/2024
DESCRIPTION:
URL:https://www.southmetrofoundation.org/event/kids-home-alone-safety-class-10-13-2024/
LOCATION:South Metro Fire Rescue HQ\, 9195 E. Mineral Ave\, Centennial\, CO\, 80112\, United States
CATEGORIES:Kids Home Alone Safety Class
ATTACH;FMTTYPE=image/png:https://www.southmetrofoundation.org/wp-content/uploads/2023/09/193512cf-b1d6-48df-976c-fd76fb8c32d4.png
END:VEVENT
BEGIN:VEVENT
DTSTART;TZID=America/Denver:20241012T090000
DTEND;TZID=America/Denver:20241012T153000
DTSTAMP:20260423T221035
CREATED:20240911T215459Z
LAST-MODIFIED:20240911T215459Z
UID:10000361-1728723600-1728747000@www.southmetrofoundation.org
SUMMARY:Super Sitter Babysitting Class  10/12/2024
DESCRIPTION:
URL:https://www.southmetrofoundation.org/event/super-sitter-babysitting-class-10-12-2024/
LOCATION:South Metro Fire Rescue HQ\, 9195 E. Mineral Ave\, Centennial\, CO\, 80112\, United States
CATEGORIES:Babysitting Class
END:VEVENT
BEGIN:VEVENT
DTSTART;TZID=America/Denver:20240825T090000
DTEND;TZID=America/Denver:20240825T153000
DTSTAMP:20260423T221035
CREATED:20240626T172645Z
LAST-MODIFIED:20240626T172645Z
UID:10000330-1724576400-1724599800@www.southmetrofoundation.org
SUMMARY:Super Sitter Babysitting Class  8/25/2024
DESCRIPTION:
URL:https://www.southmetrofoundation.org/event/super-sitter-babysitting-class-8-25-2024/
LOCATION:South Metro Fire Rescue HQ\, 9195 E. Mineral Ave\, Centennial\, CO\, 80112\, United States
CATEGORIES:Babysitting Class
END:VEVENT
BEGIN:VEVENT
DTSTART;TZID=America/Denver:20240810T090000
DTEND;TZID=America/Denver:20240810T153000
DTSTAMP:20260423T221035
CREATED:20240626T172247Z
LAST-MODIFIED:20240626T172247Z
UID:10000329-1723280400-1723303800@www.southmetrofoundation.org
SUMMARY:Super Sitter Babysitting Class  8/10/2024
DESCRIPTION:
URL:https://www.southmetrofoundation.org/event/super-sitter-babysitting-class-8-10-2024/
LOCATION:South Metro Fire Rescue HQ\, 9195 E. Mineral Ave\, Centennial\, CO\, 80112\, United States
CATEGORIES:Babysitting Class
END:VEVENT
BEGIN:VEVENT
DTSTART;TZID=America/Denver:20240728T090000
DTEND;TZID=America/Denver:20240728T160000
DTSTAMP:20260423T221035
CREATED:20240522T003640Z
LAST-MODIFIED:20240522T003640Z
UID:10000322-1722157200-1722182400@www.southmetrofoundation.org
SUMMARY:CPR-AED and First Aid  7/28/2024
DESCRIPTION:
URL:https://www.southmetrofoundation.org/event/cpr-aed-and-first-aid-7-28-2024/
LOCATION:South Metro Fire Rescue HQ\, 9195 E. Mineral Ave\, Centennial\, CO\, 80112\, United States
CATEGORIES:CPR, AED, & First Aid
END:VEVENT
BEGIN:VEVENT
DTSTART;TZID=America/Denver:20240727T090000
DTEND;TZID=America/Denver:20240727T153000
DTSTAMP:20260423T221035
CREATED:20240522T002736Z
LAST-MODIFIED:20240522T002736Z
UID:10000321-1722070800-1722094200@www.southmetrofoundation.org
SUMMARY:Super Sitter Babysitting Class  7/27/2024
DESCRIPTION:
URL:https://www.southmetrofoundation.org/event/super-sitter-babysitting-class-7-27-2024/
LOCATION:South Metro Fire Rescue HQ\, 9195 E. Mineral Ave\, Centennial\, CO\, 80112\, United States
CATEGORIES:Babysitting Class
END:VEVENT
BEGIN:VEVENT
DTSTART;TZID=America/Denver:20240714T090000
DTEND;TZID=America/Denver:20240714T153000
DTSTAMP:20260423T221035
CREATED:20240522T002153Z
LAST-MODIFIED:20240522T004921Z
UID:10000320-1720947600-1720971000@www.southmetrofoundation.org
SUMMARY:Super Sitter Babysitting Class  7/14/2024
DESCRIPTION:
URL:https://www.southmetrofoundation.org/event/super-sitter-babysitting-class-7-14-2024/
LOCATION:South Metro Fire Rescue HQ\, 9195 E. Mineral Ave\, Centennial\, CO\, 80112\, United States
CATEGORIES:Babysitting Class
END:VEVENT
BEGIN:VEVENT
DTSTART;TZID=America/Denver:20240713T090000
DTEND;TZID=America/Denver:20240713T153000
DTSTAMP:20260423T221035
CREATED:20240522T000831Z
LAST-MODIFIED:20240522T000831Z
UID:10000319-1720861200-1720884600@www.southmetrofoundation.org
SUMMARY:Kids Home Alone Safety Class  7/13/2024
DESCRIPTION:
URL:https://www.southmetrofoundation.org/event/kids-home-alone-safety-class-7-13-2024/
LOCATION:South Metro Fire Rescue HQ\, 9195 E. Mineral Ave\, Centennial\, CO\, 80112\, United States
CATEGORIES:Kids Home Alone Safety Class
ATTACH;FMTTYPE=image/png:https://www.southmetrofoundation.org/wp-content/uploads/2023/09/193512cf-b1d6-48df-976c-fd76fb8c32d4.png
END:VEVENT
BEGIN:VEVENT
DTSTART;TZID=America/Denver:20240629T090000
DTEND;TZID=America/Denver:20240629T160000
DTSTAMP:20260423T221035
CREATED:20240414T234207Z
LAST-MODIFIED:20240414T234207Z
UID:10000303-1719651600-1719676800@www.southmetrofoundation.org
SUMMARY:CPR-AED and First Aid  6/29/2024
DESCRIPTION:
URL:https://www.southmetrofoundation.org/event/cpr-aed-and-first-aid-6-29-2024/
LOCATION:South Metro Fire Rescue HQ\, 9195 E. Mineral Ave\, Centennial\, CO\, 80112\, United States
CATEGORIES:CPR, AED, & First Aid
END:VEVENT
BEGIN:VEVENT
DTSTART;TZID=America/Denver:20240623T090000
DTEND;TZID=America/Denver:20240623T153000
DTSTAMP:20260423T221035
CREATED:20240414T220057Z
LAST-MODIFIED:20240414T220057Z
UID:10000302-1719133200-1719156600@www.southmetrofoundation.org
SUMMARY:Super Sitter Babysitting Class  6/23/2024
DESCRIPTION:
URL:https://www.southmetrofoundation.org/event/super-sitter-babysitting-class-6-23-2024/
LOCATION:South Metro Fire Rescue HQ\, 9195 E. Mineral Ave\, Centennial\, CO\, 80112\, United States
CATEGORIES:Babysitting Class
END:VEVENT
BEGIN:VEVENT
DTSTART;TZID=America/Denver:20240609T090000
DTEND;TZID=America/Denver:20240609T153000
DTSTAMP:20260423T221035
CREATED:20240414T215530Z
LAST-MODIFIED:20240414T215530Z
UID:10000301-1717923600-1717947000@www.southmetrofoundation.org
SUMMARY:Kids Home Alone Safety Class  6/09/2024
DESCRIPTION:
URL:https://www.southmetrofoundation.org/event/kids-home-alone-safety-class-6-09-2024/
LOCATION:South Metro Fire Rescue HQ\, 9195 E. Mineral Ave\, Centennial\, CO\, 80112\, United States
CATEGORIES:Kids Home Alone Safety Class
ATTACH;FMTTYPE=image/png:https://www.southmetrofoundation.org/wp-content/uploads/2023/09/193512cf-b1d6-48df-976c-fd76fb8c32d4.png
END:VEVENT
BEGIN:VEVENT
DTSTART;TZID=America/Denver:20240608T090000
DTEND;TZID=America/Denver:20240608T153000
DTSTAMP:20260423T221035
CREATED:20240503T153154Z
LAST-MODIFIED:20240607T045009Z
UID:10000308-1717837200-1717860600@www.southmetrofoundation.org
SUMMARY:Super Sitter Babysitting Class  6/08/2024
DESCRIPTION:
URL:https://www.southmetrofoundation.org/event/super-sitter-babysitting-class-6-08-2024/
LOCATION:South Metro Fire Rescue HQ\, 9195 E. Mineral Ave\, Centennial\, CO\, 80112\, United States
CATEGORIES:Babysitting Class
END:VEVENT
BEGIN:VEVENT
DTSTART;TZID=America/Denver:20240519T090000
DTEND;TZID=America/Denver:20240519T160000
DTSTAMP:20260423T221035
CREATED:20240322T192536Z
LAST-MODIFIED:20240504T181311Z
UID:10000294-1716109200-1716134400@www.southmetrofoundation.org
SUMMARY:CPR-AED and First Aid  5/19/2024
DESCRIPTION:
URL:https://www.southmetrofoundation.org/event/cpr-aed-and-first-aid-5-19-2024/
LOCATION:South Metro Fire Rescue HQ\, 9195 E. Mineral Ave\, Centennial\, CO\, 80112\, United States
CATEGORIES:CPR, AED, & First Aid
END:VEVENT
BEGIN:VEVENT
DTSTART;TZID=America/Denver:20240511T090000
DTEND;TZID=America/Denver:20240511T130000
DTSTAMP:20260423T221035
CREATED:20240425T010205Z
LAST-MODIFIED:20240504T015015Z
UID:10000304-1715418000-1715432400@www.southmetrofoundation.org
SUMMARY:Driver Awareness Class - 05/11/24
DESCRIPTION:
URL:https://www.southmetrofoundation.org/event/driver-awareness-class-05-11-24/
LOCATION:South Metro Fire Rescue HQ\, 9195 E. Mineral Ave\, Centennial\, CO\, 80112\, United States
CATEGORIES:Driver Awareness Class
END:VEVENT
BEGIN:VEVENT
DTSTART;TZID=America/Denver:20240505T090000
DTEND;TZID=America/Denver:20240505T153000
DTSTAMP:20260423T221035
CREATED:20240322T191618Z
LAST-MODIFIED:20240322T191618Z
UID:10000293-1714899600-1714923000@www.southmetrofoundation.org
SUMMARY:Super Sitter Babysitting Class  5/05/2024
DESCRIPTION:
URL:https://www.southmetrofoundation.org/event/super-sitter-babysitting-class-5-05-2024/
LOCATION:South Metro Fire Rescue HQ\, 9195 E. Mineral Ave\, Centennial\, CO\, 80112\, United States
CATEGORIES:Babysitting Class
END:VEVENT
BEGIN:VEVENT
DTSTART;TZID=America/Denver:20240421T090000
DTEND;TZID=America/Denver:20240421T160000
DTSTAMP:20260423T221035
CREATED:20240314T205001Z
LAST-MODIFIED:20240314T205001Z
UID:10000288-1713690000-1713715200@www.southmetrofoundation.org
SUMMARY:CPR-AED and First Aid  4/21/2024
DESCRIPTION:
URL:https://www.southmetrofoundation.org/event/cpr-aed-and-first-aid-4-21-2024/
LOCATION:South Metro Fire Rescue HQ\, 9195 E. Mineral Ave\, Centennial\, CO\, 80112\, United States
CATEGORIES:CPR, AED, & First Aid
END:VEVENT
END:VCALENDAR