BEGIN:VCALENDAR
VERSION:2.0
PRODID:-//South Metro Safety Foundation - ECPv6.15.20//NONSGML v1.0//EN
CALSCALE:GREGORIAN
METHOD:PUBLISH
X-ORIGINAL-URL:https://www.southmetrofoundation.org
X-WR-CALDESC:Events for South Metro Safety Foundation
REFRESH-INTERVAL;VALUE=DURATION:PT1H
X-Robots-Tag:noindex
X-PUBLISHED-TTL:PT1H
BEGIN:VTIMEZONE
TZID:America/Denver
BEGIN:DAYLIGHT
TZOFFSETFROM:-0700
TZOFFSETTO:-0600
TZNAME:MDT
DTSTART:20220313T090000
END:DAYLIGHT
BEGIN:STANDARD
TZOFFSETFROM:-0600
TZOFFSETTO:-0700
TZNAME:MST
DTSTART:20221106T080000
END:STANDARD
BEGIN:DAYLIGHT
TZOFFSETFROM:-0700
TZOFFSETTO:-0600
TZNAME:MDT
DTSTART:20230312T090000
END:DAYLIGHT
BEGIN:STANDARD
TZOFFSETFROM:-0600
TZOFFSETTO:-0700
TZNAME:MST
DTSTART:20231105T080000
END:STANDARD
BEGIN:DAYLIGHT
TZOFFSETFROM:-0700
TZOFFSETTO:-0600
TZNAME:MDT
DTSTART:20240310T090000
END:DAYLIGHT
BEGIN:STANDARD
TZOFFSETFROM:-0600
TZOFFSETTO:-0700
TZNAME:MST
DTSTART:20241103T080000
END:STANDARD
BEGIN:DAYLIGHT
TZOFFSETFROM:-0700
TZOFFSETTO:-0600
TZNAME:MDT
DTSTART:20250309T090000
END:DAYLIGHT
BEGIN:STANDARD
TZOFFSETFROM:-0600
TZOFFSETTO:-0700
TZNAME:MST
DTSTART:20251102T080000
END:STANDARD
BEGIN:DAYLIGHT
TZOFFSETFROM:-0700
TZOFFSETTO:-0600
TZNAME:MDT
DTSTART:20260308T090000
END:DAYLIGHT
BEGIN:STANDARD
TZOFFSETFROM:-0600
TZOFFSETTO:-0700
TZNAME:MST
DTSTART:20261101T080000
END:STANDARD
END:VTIMEZONE
BEGIN:VEVENT
DTSTART;TZID=America/Denver:20250416T103000
DTEND;TZID=America/Denver:20250416T140000
DTSTAMP:20260423T135427
CREATED:20250308T185430Z
LAST-MODIFIED:20250308T185430Z
UID:10000431-1744799400-1744812000@www.southmetrofoundation.org
SUMMARY:Car Seat Installation Inspection - Centennial Station 35
DESCRIPTION:Please RSVP for the 30-minute block that works best for you. RSVP’s are accepted until 8:00 am on the day of the event.
URL:https://www.southmetrofoundation.org/event/car-seat-installation-inspection-centennial-station-35-13/
LOCATION:South Metro Fire Station #35\, 12080 E. Briarwood Ave\, Centennial\, Colorado
CATEGORIES:Car Seat Inspections
END:VEVENT
BEGIN:VEVENT
DTSTART;TZID=America/Denver:20250319T103000
DTEND;TZID=America/Denver:20250319T140000
DTSTAMP:20260423T135427
CREATED:20250208T021006Z
LAST-MODIFIED:20250208T021006Z
UID:10000415-1742380200-1742392800@www.southmetrofoundation.org
SUMMARY:Car Seat Installation Inspection - Centennial Station 35
DESCRIPTION:Please RSVP for the 30-minute block that works best for you. RSVP’s are accepted until 8:00 am on the day of the event.
URL:https://www.southmetrofoundation.org/event/car-seat-installation-inspection-centennial-station-35-12/
LOCATION:South Metro Fire Station #35\, 12080 E. Briarwood Ave\, Centennial\, Colorado
CATEGORIES:Car Seat Inspections
END:VEVENT
BEGIN:VEVENT
DTSTART;TZID=America/Denver:20250219T103000
DTEND;TZID=America/Denver:20250219T140000
DTSTAMP:20260423T135427
CREATED:20250103T000456Z
LAST-MODIFIED:20250103T000456Z
UID:10000399-1739961000-1739973600@www.southmetrofoundation.org
SUMMARY:Car Seat Installation Inspection - Centennial Station 35
DESCRIPTION:Please RSVP for the 30-minute block that works best for you. RSVP’s are accepted until 8:00 am on the day of the event.
URL:https://www.southmetrofoundation.org/event/car-seat-installation-inspection-centennial-station-35-11/
LOCATION:South Metro Fire Station #35\, 12080 E. Briarwood Ave\, Centennial\, Colorado
CATEGORIES:Car Seat Inspections
END:VEVENT
BEGIN:VEVENT
DTSTART;TZID=America/Denver:20250122T103000
DTEND;TZID=America/Denver:20250122T140000
DTSTAMP:20260423T135427
CREATED:20241209T224218Z
LAST-MODIFIED:20250115T035914Z
UID:10000388-1737541800-1737554400@www.southmetrofoundation.org
SUMMARY:Car Seat Installation Inspection - Centennial Station 35
DESCRIPTION:Please RSVP for the 30-minute block that works best for you. RSVP’s are accepted until 8:00 am on the day of the event.
URL:https://www.southmetrofoundation.org/event/car-seat-installation-inspection-centennial-station-35-10/
LOCATION:South Metro Fire Station #35\, 12080 E. Briarwood Ave\, Centennial\, Colorado
CATEGORIES:Car Seat Inspections
END:VEVENT
BEGIN:VEVENT
DTSTART;TZID=America/Denver:20241218T100000
DTEND;TZID=America/Denver:20241218T140000
DTSTAMP:20260423T135427
CREATED:20241027T211719Z
LAST-MODIFIED:20241027T211719Z
UID:10000375-1734516000-1734530400@www.southmetrofoundation.org
SUMMARY:Car Seat Installation Inspection - Centennial Station 35
DESCRIPTION:Please RSVP for the 30-minute block that works best for you. RSVP’s are accepted until 8:00 am on the day of the event.
URL:https://www.southmetrofoundation.org/event/car-seat-installation-inspection-centennial-station-35-9/
LOCATION:South Metro Fire Station #35\, 12080 E. Briarwood Ave\, Centennial\, Colorado
CATEGORIES:Car Seat Inspections
END:VEVENT
BEGIN:VEVENT
DTSTART;TZID=America/Denver:20241120T100000
DTEND;TZID=America/Denver:20241120T140000
DTSTAMP:20260423T135427
CREATED:20241008T021108Z
LAST-MODIFIED:20241008T021108Z
UID:10000365-1732096800-1732111200@www.southmetrofoundation.org
SUMMARY:Car Seat Installation Inspection - Centennial Station 35
DESCRIPTION:Please RSVP for the 30-minute block that works best for you. RSVP’s are accepted until 8:00 am on the day of the event.
URL:https://www.southmetrofoundation.org/event/car-seat-installation-inspection-centennial-station-35-8/
LOCATION:South Metro Fire Station #35\, 12080 E. Briarwood Ave\, Centennial\, Colorado
CATEGORIES:Car Seat Inspections
END:VEVENT
BEGIN:VEVENT
DTSTART;TZID=America/Denver:20241016T100000
DTEND;TZID=America/Denver:20241016T140000
DTSTAMP:20260423T135427
CREATED:20240910T215834Z
LAST-MODIFIED:20240910T215834Z
UID:10000352-1729072800-1729087200@www.southmetrofoundation.org
SUMMARY:Car Seat Installation Inspection - Centennial Station 35
DESCRIPTION:Please RSVP for the 30-minute block that works best for you. RSVP’s are accepted until 8:00 am on the day of the event.
URL:https://www.southmetrofoundation.org/event/car-seat-installation-inspection-centennial-station-35-7/
LOCATION:South Metro Fire Station #35\, 12080 E. Briarwood Ave\, Centennial\, Colorado
CATEGORIES:Car Seat Inspections
END:VEVENT
BEGIN:VEVENT
DTSTART;TZID=America/Denver:20240918T100000
DTEND;TZID=America/Denver:20240918T140000
DTSTAMP:20260423T135427
CREATED:20240807T230837Z
LAST-MODIFIED:20240807T230837Z
UID:10000347-1726653600-1726668000@www.southmetrofoundation.org
SUMMARY:Car Seat Installation Inspection - Centennial Station 35
DESCRIPTION:Please RSVP for the 30-minute block that works best for you. RSVP’s are accepted until 8:00 am on the day of the event.
URL:https://www.southmetrofoundation.org/event/car-seat-installation-inspection-centennial-station-35-6/
LOCATION:South Metro Fire Station #35\, 12080 E. Briarwood Ave\, Centennial\, Colorado
CATEGORIES:Car Seat Inspections
END:VEVENT
BEGIN:VEVENT
DTSTART;TZID=America/Denver:20240821T100000
DTEND;TZID=America/Denver:20240821T140000
DTSTAMP:20260423T135427
CREATED:20240709T222716Z
LAST-MODIFIED:20240709T222716Z
UID:10000334-1724234400-1724248800@www.southmetrofoundation.org
SUMMARY:Car Seat Installation Inspection - Centennial Station 35
DESCRIPTION:Please RSVP for the 30-minute block that works best for you. RSVP’s are accepted until 8:00 am on the day of the event.
URL:https://www.southmetrofoundation.org/event/car-seat-installation-inspection-centennial-station-35-5/
LOCATION:South Metro Fire Station #35\, 12080 E. Briarwood Ave\, Centennial\, Colorado
CATEGORIES:Car Seat Inspections
END:VEVENT
BEGIN:VEVENT
DTSTART;TZID=America/Denver:20240717T100000
DTEND;TZID=America/Denver:20240717T140000
DTSTAMP:20260423T135427
CREATED:20240521T232914Z
LAST-MODIFIED:20240521T232914Z
UID:10000316-1721210400-1721224800@www.southmetrofoundation.org
SUMMARY:Car Seat Installation Inspection - Centennial Station 35
DESCRIPTION:Please RSVP for the 30-minute block that works best for you. RSVP’s are accepted until 8:00 am on the day of the event.
URL:https://www.southmetrofoundation.org/event/car-seat-installation-inspection-centennial-station-35-4/
LOCATION:South Metro Fire Station #35\, 12080 E. Briarwood Ave\, Centennial\, Colorado
CATEGORIES:Car Seat Inspections
END:VEVENT
BEGIN:VEVENT
DTSTART;TZID=America/Denver:20240619T100000
DTEND;TZID=America/Denver:20240619T140000
DTSTAMP:20260423T135427
CREATED:20240503T180605Z
LAST-MODIFIED:20240503T180605Z
UID:10000310-1718791200-1718805600@www.southmetrofoundation.org
SUMMARY:Car Seat Installation Inspection - Centennial Station 35
DESCRIPTION:Please RSVP for the 30-minute block that works best for you. RSVP’s are accepted until 8:00 am on the day of the event.
URL:https://www.southmetrofoundation.org/event/car-seat-installation-inspection-centennial-station-35-3/
LOCATION:South Metro Fire Station #35\, 12080 E. Briarwood Ave\, Centennial\, Colorado
CATEGORIES:Car Seat Inspections
END:VEVENT
BEGIN:VEVENT
DTSTART;TZID=America/Denver:20240522T100000
DTEND;TZID=America/Denver:20240522T140000
DTSTAMP:20260423T135427
CREATED:20240406T183336Z
LAST-MODIFIED:20240406T183336Z
UID:10000298-1716372000-1716386400@www.southmetrofoundation.org
SUMMARY:Car Seat Installation Inspection - Centennial Station 35
DESCRIPTION:Please RSVP for the 30-minute block that works best for you. RSVP’s are accepted until 8:00 am on the day of the event.
URL:https://www.southmetrofoundation.org/event/car-seat-installation-inspection-centennial-station-35-2/
LOCATION:South Metro Fire Station #35\, 12080 E. Briarwood Ave\, Centennial\, Colorado
CATEGORIES:Car Seat Inspections
END:VEVENT
BEGIN:VEVENT
DTSTART;TZID=America/Denver:20240417T100000
DTEND;TZID=America/Denver:20240417T140000
DTSTAMP:20260423T135427
CREATED:20240307T214459Z
LAST-MODIFIED:20240307T214459Z
UID:10000280-1713348000-1713362400@www.southmetrofoundation.org
SUMMARY:Car Seat Installation Inspection - Centennial Station 35
DESCRIPTION:Please RSVP for the 30-minute block that works best for you. RSVP’s are accepted until 8:00 am on the day of the event.
URL:https://www.southmetrofoundation.org/event/car-seat-installation-inspection-centennial-station-35/
LOCATION:South Metro Fire Station #35\, 12080 E. Briarwood Ave\, Centennial\, Colorado
CATEGORIES:Car Seat Inspections
END:VEVENT
BEGIN:VEVENT
DTSTART;TZID=America/Denver:20240320T100000
DTEND;TZID=America/Denver:20240320T140000
DTSTAMP:20260423T135427
CREATED:20240216T183924Z
LAST-MODIFIED:20240216T185201Z
UID:10000272-1710928800-1710943200@www.southmetrofoundation.org
SUMMARY:Car Seat Installation Inspection - Centennial Station 35
DESCRIPTION:Please RSVP for the 30-minute block that works best for you. RSVP’s are accepted until 8:00 am on the day of the event.
URL:https://www.southmetrofoundation.org/event/child-seat-inspections-centennial-fire-station-35-20/
LOCATION:South Metro Fire Station #35\, 12080 E. Briarwood Ave\, Centennial\, Colorado
CATEGORIES:Car Seat Inspections
END:VEVENT
BEGIN:VEVENT
DTSTART;TZID=America/Denver:20240221T100000
DTEND;TZID=America/Denver:20240221T140000
DTSTAMP:20260423T135427
CREATED:20240113T011004Z
LAST-MODIFIED:20240113T011004Z
UID:10000261-1708509600-1708524000@www.southmetrofoundation.org
SUMMARY:Child Seat Inspections: Centennial Fire Station #35
DESCRIPTION:Please RSVP for the 30-minute block that works best for you. RSVP’s are accepted until 8:00 am on the day of the event.
URL:https://www.southmetrofoundation.org/event/child-seat-inspections-centennial-fire-station-35-19/
LOCATION:South Metro Fire Station #35\, 12080 E. Briarwood Ave\, Centennial\, Colorado
CATEGORIES:Car Seat Inspections
END:VEVENT
BEGIN:VEVENT
DTSTART;TZID=America/Denver:20240117T100000
DTEND;TZID=America/Denver:20240117T140000
DTSTAMP:20260423T135427
CREATED:20231216T170943Z
LAST-MODIFIED:20231216T170943Z
UID:10000242-1705485600-1705500000@www.southmetrofoundation.org
SUMMARY:Child Seat Inspections: Centennial Fire Station #35
DESCRIPTION:Please RSVP for the 30-minute block that works best for you. RSVP’s are accepted until 8:00 am on the day of the event.
URL:https://www.southmetrofoundation.org/event/child-seat-inspections-centennial-fire-station-35-18/
LOCATION:South Metro Fire Station #35\, 12080 E. Briarwood Ave\, Centennial\, Colorado
CATEGORIES:Car Seat Inspections
END:VEVENT
BEGIN:VEVENT
DTSTART;TZID=America/Denver:20231220T100000
DTEND;TZID=America/Denver:20231220T140000
DTSTAMP:20260423T135427
CREATED:20231114T222455Z
LAST-MODIFIED:20231114T222455Z
UID:10000233-1703066400-1703080800@www.southmetrofoundation.org
SUMMARY:Child Seat Inspections: Centennial Fire Station #35
DESCRIPTION:Please RSVP for the 30-minute block that works best for you. RSVP’s are accepted until 8:00 am on the day of the event.
URL:https://www.southmetrofoundation.org/event/child-seat-inspections-centennial-fire-station-35-17/
LOCATION:South Metro Fire Station #35\, 12080 E. Briarwood Ave\, Centennial\, Colorado
CATEGORIES:Car Seat Inspections
END:VEVENT
BEGIN:VEVENT
DTSTART;TZID=America/Denver:20231115T100000
DTEND;TZID=America/Denver:20231115T140000
DTSTAMP:20260423T135427
CREATED:20231012T000837Z
LAST-MODIFIED:20231012T000837Z
UID:10000225-1700042400-1700056800@www.southmetrofoundation.org
SUMMARY:Child Seat Inspections: Centennial Fire Station #35
DESCRIPTION:Please RSVP for the 30-minute block that works best for you. RSVP’s are accepted until 8:00 am on the day of the event.
URL:https://www.southmetrofoundation.org/event/child-seat-inspections-centennial-fire-station-35-16/
LOCATION:South Metro Fire Station #35\, 12080 E. Briarwood Ave\, Centennial\, Colorado
CATEGORIES:Car Seat Inspections
END:VEVENT
BEGIN:VEVENT
DTSTART;TZID=America/Denver:20231018T100000
DTEND;TZID=America/Denver:20231018T140000
DTSTAMP:20260423T135427
CREATED:20230911T020324Z
LAST-MODIFIED:20230911T020324Z
UID:10000202-1697623200-1697637600@www.southmetrofoundation.org
SUMMARY:Child Seat Inspections: Centennial Fire Station #35
DESCRIPTION:Please RSVP for the 30-minute block that works best for you. RSVP’s are accepted until 8:00 am on the day of the event.
URL:https://www.southmetrofoundation.org/event/child-seat-inspections-centennial-fire-station-35-15/
LOCATION:South Metro Fire Station #35\, 12080 E. Briarwood Ave\, Centennial\, Colorado
CATEGORIES:Car Seat Inspections
END:VEVENT
BEGIN:VEVENT
DTSTART;TZID=America/Denver:20230920T100000
DTEND;TZID=America/Denver:20230920T140000
DTSTAMP:20260423T135427
CREATED:20230811T224508Z
LAST-MODIFIED:20230811T224508Z
UID:10000194-1695204000-1695218400@www.southmetrofoundation.org
SUMMARY:Child Seat Inspections: Centennial Fire Station #35
DESCRIPTION:Please RSVP for the 30-minute block that works best for you. RSVP’s are accepted until 8:00 am on the day of the event.
URL:https://www.southmetrofoundation.org/event/child-seat-inspections-centennial-fire-station-35-14/
LOCATION:South Metro Fire Station #35\, 12080 E. Briarwood Ave\, Centennial\, Colorado
CATEGORIES:Car Seat Inspections
END:VEVENT
BEGIN:VEVENT
DTSTART;TZID=America/Denver:20230816T100000
DTEND;TZID=America/Denver:20230816T140000
DTSTAMP:20260423T135427
CREATED:20230720T001444Z
LAST-MODIFIED:20230720T001444Z
UID:10000184-1692180000-1692194400@www.southmetrofoundation.org
SUMMARY:Child Seat Inspections: Centennial Fire Station #35
DESCRIPTION:Please RSVP for the 30-minute block that works best for you. RSVP’s are accepted until 8:00 am on the day of the event.
URL:https://www.southmetrofoundation.org/event/child-seat-inspections-centennial-fire-station-35-13/
LOCATION:South Metro Fire Station #35\, 12080 E. Briarwood Ave\, Centennial\, Colorado
CATEGORIES:Car Seat Inspections
END:VEVENT
BEGIN:VEVENT
DTSTART;TZID=America/Denver:20230719T100000
DTEND;TZID=America/Denver:20230719T140000
DTSTAMP:20260423T135427
CREATED:20230608T160719Z
LAST-MODIFIED:20230608T160719Z
UID:10000174-1689760800-1689775200@www.southmetrofoundation.org
SUMMARY:Child Seat Inspections: Centennial Fire Station #35
DESCRIPTION:Please RSVP for the 30-minute block that works best for you. RSVP’s are accepted until 8:00 am on the day of the event.
URL:https://www.southmetrofoundation.org/event/child-seat-inspections-centennial-fire-station-35-12/
LOCATION:South Metro Fire Station #35\, 12080 E. Briarwood Ave\, Centennial\, Colorado
CATEGORIES:Car Seat Inspections
END:VEVENT
BEGIN:VEVENT
DTSTART;TZID=America/Denver:20230621T100000
DTEND;TZID=America/Denver:20230621T140000
DTSTAMP:20260423T135427
CREATED:20230519T224512Z
LAST-MODIFIED:20230519T224512Z
UID:10000162-1687341600-1687356000@www.southmetrofoundation.org
SUMMARY:Child Seat Inspections: Centennial Fire Station #35
DESCRIPTION:Please RSVP for the 30-minute block that works best for you. RSVP’s are accepted until 8:00 am on the day of the event.
URL:https://www.southmetrofoundation.org/event/child-seat-inspections-centennial-fire-station-35-11/
LOCATION:South Metro Fire Station #35\, 12080 E. Briarwood Ave\, Centennial\, Colorado
CATEGORIES:Car Seat Inspections
END:VEVENT
BEGIN:VEVENT
DTSTART;TZID=America/Denver:20230517T100000
DTEND;TZID=America/Denver:20230517T140000
DTSTAMP:20260423T135427
CREATED:20230410T160736Z
LAST-MODIFIED:20230426T180346Z
UID:10000150-1684317600-1684332000@www.southmetrofoundation.org
SUMMARY:Child Seat Inspections: Centennial Fire Station #35
DESCRIPTION:Please RSVP for the 30-minute block that works best for you. RSVP’s are accepted until 8:00 am on the day of the event.
URL:https://www.southmetrofoundation.org/event/child-seat-inspections-centennial-fire-station-35-10/
LOCATION:South Metro Fire Station #35\, 12080 E. Briarwood Ave\, Centennial\, Colorado
CATEGORIES:Car Seat Inspections
END:VEVENT
BEGIN:VEVENT
DTSTART;TZID=America/Denver:20230422T090000
DTEND;TZID=America/Denver:20230422T130000
DTSTAMP:20260423T135427
CREATED:20230410T151513Z
LAST-MODIFIED:20230421T204232Z
UID:10000147-1682154000-1682168400@www.southmetrofoundation.org
SUMMARY:Child Seat Inspections: Centennial Fire Station #35
DESCRIPTION:
URL:https://www.southmetrofoundation.org/event/child-seat-inspections-centennial-fire-station-35-9/
LOCATION:South Metro Fire Station #35\, 12080 E. Briarwood Ave\, Centennial\, Colorado
CATEGORIES:Car Seat Inspections
END:VEVENT
BEGIN:VEVENT
DTSTART;TZID=America/Denver:20230419T100000
DTEND;TZID=America/Denver:20230419T140000
DTSTAMP:20260423T135427
CREATED:20230307T031711Z
LAST-MODIFIED:20230307T031711Z
UID:10000126-1681898400-1681912800@www.southmetrofoundation.org
SUMMARY:Child Seat Inspections: Centennial Fire Station #35
DESCRIPTION:
URL:https://www.southmetrofoundation.org/event/child-seat-inspections-centennial-fire-station-35-8/
LOCATION:South Metro Fire Station #35\, 12080 E. Briarwood Ave\, Centennial\, Colorado
CATEGORIES:Car Seat Inspections
END:VEVENT
BEGIN:VEVENT
DTSTART;TZID=America/Denver:20230325T100000
DTEND;TZID=America/Denver:20230325T140000
DTSTAMP:20260423T135427
CREATED:20230307T023419Z
LAST-MODIFIED:20230307T023419Z
UID:10000124-1679738400-1679752800@www.southmetrofoundation.org
SUMMARY:Child Seat Inspections: Centennial Fire Station #35
DESCRIPTION:
URL:https://www.southmetrofoundation.org/event/child-seat-inspections-centennial-fire-station-35-7/
LOCATION:South Metro Fire Station #35\, 12080 E. Briarwood Ave\, Centennial\, Colorado
CATEGORIES:Car Seat Inspections
END:VEVENT
BEGIN:VEVENT
DTSTART;TZID=America/Denver:20230315T100000
DTEND;TZID=America/Denver:20230315T140000
DTSTAMP:20260423T135427
CREATED:20230123T235727Z
LAST-MODIFIED:20230123T235727Z
UID:10000119-1678874400-1678888800@www.southmetrofoundation.org
SUMMARY:Child Seat Inspections: Centennial Fire Station #35
DESCRIPTION:
URL:https://www.southmetrofoundation.org/event/child-seat-inspections-centennial-fire-station-35-6/
LOCATION:South Metro Fire Station #35\, 12080 E. Briarwood Ave\, Centennial\, Colorado
CATEGORIES:Car Seat Inspections
END:VEVENT
BEGIN:VEVENT
DTSTART;TZID=America/Denver:20230222T100000
DTEND;TZID=America/Denver:20230222T140000
DTSTAMP:20260423T135427
CREATED:20230102T170850Z
LAST-MODIFIED:20230214T232903Z
UID:10000111-1677060000-1677074400@www.southmetrofoundation.org
SUMMARY:Child Seat Inspections: Centennial Fire Station #35
DESCRIPTION:
URL:https://www.southmetrofoundation.org/event/child-seat-inspections-centennial-fire-station-35-5/
LOCATION:South Metro Fire Station #35\, 12080 E. Briarwood Ave\, Centennial\, Colorado
CATEGORIES:Car Seat Inspections
END:VEVENT
BEGIN:VEVENT
DTSTART;TZID=America/Denver:20230125T100000
DTEND;TZID=America/Denver:20230125T140000
DTSTAMP:20260423T135427
CREATED:20221202T004744Z
LAST-MODIFIED:20230117T235312Z
UID:10000098-1674640800-1674655200@www.southmetrofoundation.org
SUMMARY:Child Seat Inspections: Centennial Fire Station #35
DESCRIPTION:
URL:https://www.southmetrofoundation.org/event/child-seat-inspections-centennial-fire-station-35-4/
LOCATION:South Metro Fire Station #35\, 12080 E. Briarwood Ave\, Centennial\, Colorado
CATEGORIES:Car Seat Inspections
END:VEVENT
END:VCALENDAR