BEGIN:VCALENDAR
VERSION:2.0
PRODID:-//South Metro Safety Foundation - ECPv6.15.20//NONSGML v1.0//EN
CALSCALE:GREGORIAN
METHOD:PUBLISH
X-ORIGINAL-URL:https://www.southmetrofoundation.org
X-WR-CALDESC:Events for South Metro Safety Foundation
REFRESH-INTERVAL;VALUE=DURATION:PT1H
X-Robots-Tag:noindex
X-PUBLISHED-TTL:PT1H
BEGIN:VTIMEZONE
TZID:America/Denver
BEGIN:DAYLIGHT
TZOFFSETFROM:-0700
TZOFFSETTO:-0600
TZNAME:MDT
DTSTART:20230312T090000
END:DAYLIGHT
BEGIN:STANDARD
TZOFFSETFROM:-0600
TZOFFSETTO:-0700
TZNAME:MST
DTSTART:20231105T080000
END:STANDARD
BEGIN:DAYLIGHT
TZOFFSETFROM:-0700
TZOFFSETTO:-0600
TZNAME:MDT
DTSTART:20240310T090000
END:DAYLIGHT
BEGIN:STANDARD
TZOFFSETFROM:-0600
TZOFFSETTO:-0700
TZNAME:MST
DTSTART:20241103T080000
END:STANDARD
BEGIN:DAYLIGHT
TZOFFSETFROM:-0700
TZOFFSETTO:-0600
TZNAME:MDT
DTSTART:20250309T090000
END:DAYLIGHT
BEGIN:STANDARD
TZOFFSETFROM:-0600
TZOFFSETTO:-0700
TZNAME:MST
DTSTART:20251102T080000
END:STANDARD
BEGIN:DAYLIGHT
TZOFFSETFROM:-0700
TZOFFSETTO:-0600
TZNAME:MDT
DTSTART:20260308T090000
END:DAYLIGHT
BEGIN:STANDARD
TZOFFSETFROM:-0600
TZOFFSETTO:-0700
TZNAME:MST
DTSTART:20261101T080000
END:STANDARD
END:VTIMEZONE
BEGIN:VEVENT
DTSTART;TZID=America/Denver:20251011T083000
DTEND;TZID=America/Denver:20251011T143000
DTSTAMP:20260423T193951
CREATED:20250808T164348Z
LAST-MODIFIED:20250808T164348Z
UID:10000499-1760171400-1760193000@www.southmetrofoundation.org
SUMMARY:Teen Crash Avoidance Class - 10/11/2025
DESCRIPTION:
URL:https://www.southmetrofoundation.org/event/teen-crash-avoidance-class-10-11-2025/
LOCATION:South Metro Fire Training Center\, 17801 E. Plaza Dr.\, Parker\, CO\, 80134\, United States
CATEGORIES:Teen Crash Avoidance Calendar
END:VEVENT
BEGIN:VEVENT
DTSTART;TZID=America/Denver:20250927T083000
DTEND;TZID=America/Denver:20250927T143000
DTSTAMP:20260423T193951
CREATED:20250808T164055Z
LAST-MODIFIED:20250808T164055Z
UID:10000498-1758961800-1758983400@www.southmetrofoundation.org
SUMMARY:Teen Crash Avoidance Class - 09/27/2025
DESCRIPTION:
URL:https://www.southmetrofoundation.org/event/teen-crash-avoidance-class-09-27-2025/
LOCATION:South Metro Fire Training Center\, 17801 E. Plaza Dr.\, Parker\, CO\, 80134\, United States
CATEGORIES:Teen Crash Avoidance Calendar
END:VEVENT
BEGIN:VEVENT
DTSTART;TZID=America/Denver:20250830T083000
DTEND;TZID=America/Denver:20250830T143000
DTSTAMP:20260423T193951
CREATED:20250605T143923Z
LAST-MODIFIED:20250605T143923Z
UID:10000473-1756542600-1756564200@www.southmetrofoundation.org
SUMMARY:Teen Crash Avoidance Class - 08/30/2025
DESCRIPTION:
URL:https://www.southmetrofoundation.org/event/teen-crash-avoidance-class-08-30-2025/
LOCATION:South Metro Fire Training Center\, 17801 E. Plaza Dr.\, Parker\, CO\, 80134\, United States
CATEGORIES:Teen Crash Avoidance Calendar
END:VEVENT
BEGIN:VEVENT
DTSTART;TZID=America/Denver:20250809T083000
DTEND;TZID=America/Denver:20250809T143000
DTSTAMP:20260423T193951
CREATED:20250605T143625Z
LAST-MODIFIED:20250605T143625Z
UID:10000472-1754728200-1754749800@www.southmetrofoundation.org
SUMMARY:Teen Crash Avoidance Class - 08/09/2025
DESCRIPTION:
URL:https://www.southmetrofoundation.org/event/teen-crash-avoidance-class-08-09-2025/
LOCATION:South Metro Fire Training Center\, 17801 E. Plaza Dr.\, Parker\, CO\, 80134\, United States
CATEGORIES:Teen Crash Avoidance Calendar
END:VEVENT
BEGIN:VEVENT
DTSTART;TZID=America/Denver:20250726T083000
DTEND;TZID=America/Denver:20250726T143000
DTSTAMP:20260423T193951
CREATED:20250605T143130Z
LAST-MODIFIED:20250605T143130Z
UID:10000471-1753518600-1753540200@www.southmetrofoundation.org
SUMMARY:Teen Crash Avoidance Class - 07/26/2025
DESCRIPTION:
URL:https://www.southmetrofoundation.org/event/teen-crash-avoidance-class-07-26-2025/
LOCATION:South Metro Fire Training Center\, 17801 E. Plaza Dr.\, Parker\, CO\, 80134\, United States
CATEGORIES:Teen Crash Avoidance Calendar
END:VEVENT
BEGIN:VEVENT
DTSTART;TZID=America/Denver:20250712T083000
DTEND;TZID=America/Denver:20250712T143000
DTSTAMP:20260423T193951
CREATED:20250605T142634Z
LAST-MODIFIED:20250605T143315Z
UID:10000470-1752309000-1752330600@www.southmetrofoundation.org
SUMMARY:Teen Crash Avoidance Class - 07/12/2025
DESCRIPTION:
URL:https://www.southmetrofoundation.org/event/teen-crash-avoidance-class-07-12-2025/
LOCATION:South Metro Fire Training Center\, 17801 E. Plaza Dr.\, Parker\, CO\, 80134\, United States
CATEGORIES:Teen Crash Avoidance Calendar
END:VEVENT
BEGIN:VEVENT
DTSTART;TZID=America/Denver:20250628T083000
DTEND;TZID=America/Denver:20250628T143000
DTSTAMP:20260423T193951
CREATED:20250402T205924Z
LAST-MODIFIED:20250402T205924Z
UID:10000440-1751099400-1751121000@www.southmetrofoundation.org
SUMMARY:Teen Crash Avoidance Class - 06/28/2025
DESCRIPTION:
URL:https://www.southmetrofoundation.org/event/teen-crash-avoidance-class-06-28-2025/
LOCATION:South Metro Fire Training Center\, 17801 E. Plaza Dr.\, Parker\, CO\, 80134\, United States
CATEGORIES:Teen Crash Avoidance Calendar
END:VEVENT
BEGIN:VEVENT
DTSTART;TZID=America/Denver:20250607T083000
DTEND;TZID=America/Denver:20250607T143000
DTSTAMP:20260423T193951
CREATED:20250402T205635Z
LAST-MODIFIED:20250605T231550Z
UID:10000439-1749285000-1749306600@www.southmetrofoundation.org
SUMMARY:Teen Crash Avoidance Class - 06/07/2025
DESCRIPTION:
URL:https://www.southmetrofoundation.org/event/teen-crash-avoidance-class-06-07-2025/
LOCATION:South Metro Fire Training Center\, 17801 E. Plaza Dr.\, Parker\, CO\, 80134\, United States
CATEGORIES:Teen Crash Avoidance Calendar
END:VEVENT
BEGIN:VEVENT
DTSTART;TZID=America/Denver:20250531T083000
DTEND;TZID=America/Denver:20250531T143000
DTSTAMP:20260423T193951
CREATED:20250402T204902Z
LAST-MODIFIED:20250402T205012Z
UID:10000438-1748680200-1748701800@www.southmetrofoundation.org
SUMMARY:Teen Crash Avoidance Class - 05/31/2025
DESCRIPTION:
URL:https://www.southmetrofoundation.org/event/teen-crash-avoidance-class-05-31-2025/
LOCATION:South Metro Fire Training Center\, 17801 E. Plaza Dr.\, Parker\, CO\, 80134\, United States
CATEGORIES:Teen Crash Avoidance Calendar
END:VEVENT
BEGIN:VEVENT
DTSTART;TZID=America/Denver:20250503T083000
DTEND;TZID=America/Denver:20250503T143000
DTSTAMP:20260423T193951
CREATED:20250402T204525Z
LAST-MODIFIED:20250402T205226Z
UID:10000437-1746261000-1746282600@www.southmetrofoundation.org
SUMMARY:Teen Crash Avoidance Class - 05/03/2025
DESCRIPTION:
URL:https://www.southmetrofoundation.org/event/teen-crash-avoidance-class-05-03-2025/
LOCATION:South Metro Fire Training Center\, 17801 E. Plaza Dr.\, Parker\, CO\, 80134\, United States
CATEGORIES:Teen Crash Avoidance Calendar
END:VEVENT
BEGIN:VEVENT
DTSTART;TZID=America/Denver:20250426T083000
DTEND;TZID=America/Denver:20250426T143000
DTSTAMP:20260423T193951
CREATED:20250110T150804Z
LAST-MODIFIED:20250224T190952Z
UID:10000406-1745656200-1745677800@www.southmetrofoundation.org
SUMMARY:Teen Crash Avoidance Class - 04/26/2025
DESCRIPTION:
URL:https://www.southmetrofoundation.org/event/teen-crash-avoidance-class-04-26-2025/
LOCATION:South Metro Fire Training Center\, 17801 E. Plaza Dr.\, Parker\, CO\, 80134\, United States
CATEGORIES:Teen Crash Avoidance Calendar
END:VEVENT
BEGIN:VEVENT
DTSTART;TZID=America/Denver:20250412T083000
DTEND;TZID=America/Denver:20250412T143000
DTSTAMP:20260423T193951
CREATED:20250110T150242Z
LAST-MODIFIED:20250110T150436Z
UID:10000405-1744446600-1744468200@www.southmetrofoundation.org
SUMMARY:Teen Crash Avoidance Class - 04/12/2025
DESCRIPTION:
URL:https://www.southmetrofoundation.org/event/teen-crash-avoidance-class-04-12-2025/
LOCATION:South Metro Fire Training Center\, 17801 E. Plaza Dr.\, Parker\, CO\, 80134\, United States
CATEGORIES:Teen Crash Avoidance Calendar
END:VEVENT
BEGIN:VEVENT
DTSTART;TZID=America/Denver:20250329T083000
DTEND;TZID=America/Denver:20250329T143000
DTSTAMP:20260423T193951
CREATED:20250110T145427Z
LAST-MODIFIED:20250110T145427Z
UID:10000404-1743237000-1743258600@www.southmetrofoundation.org
SUMMARY:Teen Crash Avoidance Class - 03/29/2025
DESCRIPTION:
URL:https://www.southmetrofoundation.org/event/teen-crash-avoidance-class-03-29-2025/
LOCATION:South Metro Fire Training Center\, 17801 E. Plaza Dr.\, Parker\, CO\, 80134\, United States
CATEGORIES:Teen Crash Avoidance Calendar
END:VEVENT
BEGIN:VEVENT
DTSTART;TZID=America/Denver:20250301T083000
DTEND;TZID=America/Denver:20250301T143000
DTSTAMP:20260423T193951
CREATED:20250110T144942Z
LAST-MODIFIED:20250110T145737Z
UID:10000403-1740817800-1740839400@www.southmetrofoundation.org
SUMMARY:Teen Crash Avoidance Class - 03/01/2025
DESCRIPTION:
URL:https://www.southmetrofoundation.org/event/teen-crash-avoidance-class-03-01-2025/
LOCATION:South Metro Fire Training Center\, 17801 E. Plaza Dr.\, Parker\, CO\, 80134\, United States
CATEGORIES:Teen Crash Avoidance Calendar
END:VEVENT
BEGIN:VEVENT
DTSTART;TZID=America/Denver:20250208T083000
DTEND;TZID=America/Denver:20250208T143000
DTSTAMP:20260423T193951
CREATED:20250110T144238Z
LAST-MODIFIED:20250110T144552Z
UID:10000402-1739003400-1739025000@www.southmetrofoundation.org
SUMMARY:Teen Crash Avoidance Class - 02/08/2025
DESCRIPTION:
URL:https://www.southmetrofoundation.org/event/teen-crash-avoidance-class-02-08-2025/
LOCATION:South Metro Fire Training Center\, 17801 E. Plaza Dr.\, Parker\, CO\, 80134\, United States
CATEGORIES:Teen Crash Avoidance Calendar
END:VEVENT
BEGIN:VEVENT
DTSTART;TZID=America/Denver:20250118T083000
DTEND;TZID=America/Denver:20250118T143000
DTSTAMP:20260423T193951
CREATED:20241230T180005Z
LAST-MODIFIED:20241230T180005Z
UID:10000396-1737189000-1737210600@www.southmetrofoundation.org
SUMMARY:Teen Crash Avoidance Class - 01/18/2025
DESCRIPTION:
URL:https://www.southmetrofoundation.org/event/teen-crash-avoidance-class-01-18-2025/
LOCATION:South Metro Fire Training Center\, 17801 E. Plaza Dr.\, Parker\, CO\, 80134\, United States
CATEGORIES:Teen Crash Avoidance Calendar
END:VEVENT
BEGIN:VEVENT
DTSTART;TZID=America/Denver:20241214T083000
DTEND;TZID=America/Denver:20241214T143000
DTSTAMP:20260423T193951
CREATED:20240911T151100Z
LAST-MODIFIED:20240911T151100Z
UID:10000359-1734165000-1734186600@www.southmetrofoundation.org
SUMMARY:Teen Crash Avoidance Class - 12/14/2024
DESCRIPTION:
URL:https://www.southmetrofoundation.org/event/teen-crash-avoidance-class-12-14-2024/
LOCATION:South Metro Fire Training Center\, 17801 E. Plaza Dr.\, Parker\, CO\, 80134\, United States
CATEGORIES:Teen Crash Avoidance Calendar
END:VEVENT
BEGIN:VEVENT
DTSTART;TZID=America/Denver:20241207T083000
DTEND;TZID=America/Denver:20241207T143000
DTSTAMP:20260423T193951
CREATED:20240911T145745Z
LAST-MODIFIED:20241204T003744Z
UID:10000357-1733560200-1733581800@www.southmetrofoundation.org
SUMMARY:Teen Crash Avoidance Class - 12/07/2024
DESCRIPTION:
URL:https://www.southmetrofoundation.org/event/teen-crash-avoidance-class-11-23-2024/
LOCATION:South Metro Fire Training Center\, 17801 E. Plaza Dr.\, Parker\, CO\, 80134\, United States
CATEGORIES:Teen Crash Avoidance Calendar
END:VEVENT
BEGIN:VEVENT
DTSTART;TZID=America/Denver:20241123T083000
DTEND;TZID=America/Denver:20241123T143000
DTSTAMP:20260423T193951
CREATED:20240911T150453Z
LAST-MODIFIED:20241107T171616Z
UID:10000358-1732350600-1732372200@www.southmetrofoundation.org
SUMMARY:Teen Crash Avoidance Class - 11/23/2024
DESCRIPTION:
URL:https://www.southmetrofoundation.org/event/teen-crash-avoidance-class-11-23-2024-2/
LOCATION:South Metro Fire Training Center\, 17801 E. Plaza Dr.\, Parker\, CO\, 80134\, United States
CATEGORIES:Teen Crash Avoidance Calendar
END:VEVENT
BEGIN:VEVENT
DTSTART;TZID=America/Denver:20241102T083000
DTEND;TZID=America/Denver:20241102T143000
DTSTAMP:20260423T193951
CREATED:20240911T145039Z
LAST-MODIFIED:20240911T145039Z
UID:10000356-1730536200-1730557800@www.southmetrofoundation.org
SUMMARY:Teen Crash Avoidance Class - 11/02/2024
DESCRIPTION:
URL:https://www.southmetrofoundation.org/event/teen-crash-avoidance-class-11-02-2024/
LOCATION:South Metro Fire Training Center\, 17801 E. Plaza Dr.\, Parker\, CO\, 80134\, United States
CATEGORIES:Teen Crash Avoidance Calendar
END:VEVENT
BEGIN:VEVENT
DTSTART;TZID=America/Denver:20241026T083000
DTEND;TZID=America/Denver:20241026T143000
DTSTAMP:20260423T193951
CREATED:20240911T144623Z
LAST-MODIFIED:20240911T145326Z
UID:10000355-1729931400-1729953000@www.southmetrofoundation.org
SUMMARY:Teen Crash Avoidance Class - 10/26/2024
DESCRIPTION:
URL:https://www.southmetrofoundation.org/event/teen-crash-avoidance-class-10-26-2024/
LOCATION:South Metro Fire Training Center\, 17801 E. Plaza Dr.\, Parker\, CO\, 80134\, United States
CATEGORIES:Teen Crash Avoidance Calendar
END:VEVENT
BEGIN:VEVENT
DTSTART;TZID=America/Denver:20241012T083000
DTEND;TZID=America/Denver:20241012T143000
DTSTAMP:20260423T193951
CREATED:20240911T143743Z
LAST-MODIFIED:20241007T195208Z
UID:10000354-1728721800-1728743400@www.southmetrofoundation.org
SUMMARY:Teen Crash Avoidance Class - 10/12/2024
DESCRIPTION:
URL:https://www.southmetrofoundation.org/event/teen-crash-avoidance-class-10-12-2024/
LOCATION:South Metro Fire Training Center\, 17801 E. Plaza Dr.\, Parker\, CO\, 80134\, United States
CATEGORIES:Teen Crash Avoidance Calendar
END:VEVENT
BEGIN:VEVENT
DTSTART;TZID=America/Denver:20240914T083000
DTEND;TZID=America/Denver:20240914T143000
DTSTAMP:20260423T193951
CREATED:20240805T143744Z
LAST-MODIFIED:20240805T143744Z
UID:10000343-1726302600-1726324200@www.southmetrofoundation.org
SUMMARY:Teen Crash Avoidance Class - 9/14/2024
DESCRIPTION:
URL:https://www.southmetrofoundation.org/event/teen-crash-avoidance-class-9-14-2024/
LOCATION:South Metro Fire Training Center\, 17801 E. Plaza Dr.\, Parker\, CO\, 80134\, United States
CATEGORIES:Teen Crash Avoidance Calendar
END:VEVENT
BEGIN:VEVENT
DTSTART;TZID=America/Denver:20240824T083000
DTEND;TZID=America/Denver:20240824T143000
DTSTAMP:20260423T193951
CREATED:20240613T182316Z
LAST-MODIFIED:20240809T140309Z
UID:10000328-1724488200-1724509800@www.southmetrofoundation.org
SUMMARY:Teen Crash Avoidance Class - 8/24/2024
DESCRIPTION:
URL:https://www.southmetrofoundation.org/event/teen-crash-avoidance-class-8-24-2024/
LOCATION:South Metro Fire Training Center\, 17801 E. Plaza Dr.\, Parker\, CO\, 80134\, United States
CATEGORIES:Teen Crash Avoidance Calendar
END:VEVENT
BEGIN:VEVENT
DTSTART;TZID=America/Denver:20240803T083000
DTEND;TZID=America/Denver:20240803T143000
DTSTAMP:20260423T193951
CREATED:20240613T182004Z
LAST-MODIFIED:20240726T135450Z
UID:10000327-1722673800-1722695400@www.southmetrofoundation.org
SUMMARY:Teen Crash Avoidance Class - 8/03/2024
DESCRIPTION:
URL:https://www.southmetrofoundation.org/event/teen-crash-avoidance-class-8-03-2024/
LOCATION:South Metro Fire Training Center\, 17801 E. Plaza Dr.\, Parker\, CO\, 80134\, United States
CATEGORIES:Teen Crash Avoidance Calendar
END:VEVENT
BEGIN:VEVENT
DTSTART;TZID=America/Denver:20240727T083000
DTEND;TZID=America/Denver:20240727T143000
DTSTAMP:20260423T193951
CREATED:20240613T181746Z
LAST-MODIFIED:20240613T182123Z
UID:10000326-1722069000-1722090600@www.southmetrofoundation.org
SUMMARY:Teen Crash Avoidance Class - 7/27/2024
DESCRIPTION:
URL:https://www.southmetrofoundation.org/event/teen-crash-avoidance-class-7-27-2024/
LOCATION:South Metro Fire Training Center\, 17801 E. Plaza Dr.\, Parker\, CO\, 80134\, United States
CATEGORIES:Teen Crash Avoidance Calendar
END:VEVENT
BEGIN:VEVENT
DTSTART;TZID=America/Denver:20240713T083000
DTEND;TZID=America/Denver:20240713T143000
DTSTAMP:20260423T193951
CREATED:20240613T181547Z
LAST-MODIFIED:20240613T181547Z
UID:10000325-1720859400-1720881000@www.southmetrofoundation.org
SUMMARY:Teen Crash Avoidance Class - 7/13/2024
DESCRIPTION:
URL:https://www.southmetrofoundation.org/event/teen-crash-avoidance-class-7-13-2024/
LOCATION:South Metro Fire Training Center\, 17801 E. Plaza Dr.\, Parker\, CO\, 80134\, United States
CATEGORIES:Teen Crash Avoidance Calendar
END:VEVENT
BEGIN:VEVENT
DTSTART;TZID=America/Denver:20240622T083000
DTEND;TZID=America/Denver:20240622T143000
DTSTAMP:20260423T193951
CREATED:20240429T142355Z
LAST-MODIFIED:20240429T142355Z
UID:10000306-1719045000-1719066600@www.southmetrofoundation.org
SUMMARY:Teen Crash Avoidance Class - 6/22/2024
DESCRIPTION:
URL:https://www.southmetrofoundation.org/event/teen-crash-avoidance-class-6-22-2024/
LOCATION:South Metro Fire Training Center\, 17801 E. Plaza Dr.\, Parker\, CO\, 80134\, United States
CATEGORIES:Teen Crash Avoidance Calendar
END:VEVENT
BEGIN:VEVENT
DTSTART;TZID=America/Denver:20240615T083000
DTEND;TZID=America/Denver:20240615T143000
DTSTAMP:20260423T193951
CREATED:20240429T141952Z
LAST-MODIFIED:20240429T141952Z
UID:10000305-1718440200-1718461800@www.southmetrofoundation.org
SUMMARY:Teen Crash Avoidance Class - 6/15/2024
DESCRIPTION:
URL:https://www.southmetrofoundation.org/event/teen-crash-avoidance-class-6-15-2024/
LOCATION:South Metro Fire Training Center\, 17801 E. Plaza Dr.\, Parker\, CO\, 80134\, United States
CATEGORIES:Teen Crash Avoidance Calendar
END:VEVENT
BEGIN:VEVENT
DTSTART;TZID=America/Denver:20240525T083000
DTEND;TZID=America/Denver:20240525T143000
DTSTAMP:20260423T193951
CREATED:20240312T175134Z
LAST-MODIFIED:20240426T034835Z
UID:10000286-1716625800-1716647400@www.southmetrofoundation.org
SUMMARY:Teen Crash Avoidance Class - 5/25/2024
DESCRIPTION:
URL:https://www.southmetrofoundation.org/event/teen-crash-avoidance-class-5-04-2024/
LOCATION:South Metro Fire Training Center\, 17801 E. Plaza Dr.\, Parker\, CO\, 80134\, United States
CATEGORIES:Teen Crash Avoidance Calendar
END:VEVENT
END:VCALENDAR