BEGIN:VCALENDAR
VERSION:2.0
PRODID:-//South Metro Safety Foundation - ECPv6.15.20//NONSGML v1.0//EN
CALSCALE:GREGORIAN
METHOD:PUBLISH
X-WR-CALNAME:South Metro Safety Foundation
X-ORIGINAL-URL:https://www.southmetrofoundation.org
X-WR-CALDESC:Events for South Metro Safety Foundation
REFRESH-INTERVAL;VALUE=DURATION:PT1H
X-Robots-Tag:noindex
X-PUBLISHED-TTL:PT1H
BEGIN:VTIMEZONE
TZID:America/Denver
BEGIN:DAYLIGHT
TZOFFSETFROM:-0700
TZOFFSETTO:-0600
TZNAME:MDT
DTSTART:20220313T090000
END:DAYLIGHT
BEGIN:STANDARD
TZOFFSETFROM:-0600
TZOFFSETTO:-0700
TZNAME:MST
DTSTART:20221106T080000
END:STANDARD
BEGIN:DAYLIGHT
TZOFFSETFROM:-0700
TZOFFSETTO:-0600
TZNAME:MDT
DTSTART:20230312T090000
END:DAYLIGHT
BEGIN:STANDARD
TZOFFSETFROM:-0600
TZOFFSETTO:-0700
TZNAME:MST
DTSTART:20231105T080000
END:STANDARD
BEGIN:DAYLIGHT
TZOFFSETFROM:-0700
TZOFFSETTO:-0600
TZNAME:MDT
DTSTART:20240310T090000
END:DAYLIGHT
BEGIN:STANDARD
TZOFFSETFROM:-0600
TZOFFSETTO:-0700
TZNAME:MST
DTSTART:20241103T080000
END:STANDARD
BEGIN:DAYLIGHT
TZOFFSETFROM:-0700
TZOFFSETTO:-0600
TZNAME:MDT
DTSTART:20250309T090000
END:DAYLIGHT
BEGIN:STANDARD
TZOFFSETFROM:-0600
TZOFFSETTO:-0700
TZNAME:MST
DTSTART:20251102T080000
END:STANDARD
END:VTIMEZONE
BEGIN:VEVENT
DTSTART;TZID=America/Denver:20240803T083000
DTEND;TZID=America/Denver:20240803T143000
DTSTAMP:20260423T225242
CREATED:20240613T182004Z
LAST-MODIFIED:20240726T135450Z
UID:10000327-1722673800-1722695400@www.southmetrofoundation.org
SUMMARY:Teen Crash Avoidance Class - 8/03/2024
DESCRIPTION:
URL:https://www.southmetrofoundation.org/event/teen-crash-avoidance-class-8-03-2024/
LOCATION:South Metro Fire Training Center\, 17801 E. Plaza Dr.\, Parker\, CO\, 80134\, United States
CATEGORIES:Teen Crash Avoidance Calendar
END:VEVENT
BEGIN:VEVENT
DTSTART;TZID=America/Denver:20240727T083000
DTEND;TZID=America/Denver:20240727T143000
DTSTAMP:20260423T225242
CREATED:20240613T181746Z
LAST-MODIFIED:20240613T182123Z
UID:10000326-1722069000-1722090600@www.southmetrofoundation.org
SUMMARY:Teen Crash Avoidance Class - 7/27/2024
DESCRIPTION:
URL:https://www.southmetrofoundation.org/event/teen-crash-avoidance-class-7-27-2024/
LOCATION:South Metro Fire Training Center\, 17801 E. Plaza Dr.\, Parker\, CO\, 80134\, United States
CATEGORIES:Teen Crash Avoidance Calendar
END:VEVENT
BEGIN:VEVENT
DTSTART;TZID=America/Denver:20240713T083000
DTEND;TZID=America/Denver:20240713T143000
DTSTAMP:20260423T225242
CREATED:20240613T181547Z
LAST-MODIFIED:20240613T181547Z
UID:10000325-1720859400-1720881000@www.southmetrofoundation.org
SUMMARY:Teen Crash Avoidance Class - 7/13/2024
DESCRIPTION:
URL:https://www.southmetrofoundation.org/event/teen-crash-avoidance-class-7-13-2024/
LOCATION:South Metro Fire Training Center\, 17801 E. Plaza Dr.\, Parker\, CO\, 80134\, United States
CATEGORIES:Teen Crash Avoidance Calendar
END:VEVENT
BEGIN:VEVENT
DTSTART;TZID=America/Denver:20240622T083000
DTEND;TZID=America/Denver:20240622T143000
DTSTAMP:20260423T225242
CREATED:20240429T142355Z
LAST-MODIFIED:20240429T142355Z
UID:10000306-1719045000-1719066600@www.southmetrofoundation.org
SUMMARY:Teen Crash Avoidance Class - 6/22/2024
DESCRIPTION:
URL:https://www.southmetrofoundation.org/event/teen-crash-avoidance-class-6-22-2024/
LOCATION:South Metro Fire Training Center\, 17801 E. Plaza Dr.\, Parker\, CO\, 80134\, United States
CATEGORIES:Teen Crash Avoidance Calendar
END:VEVENT
BEGIN:VEVENT
DTSTART;TZID=America/Denver:20240615T083000
DTEND;TZID=America/Denver:20240615T143000
DTSTAMP:20260423T225242
CREATED:20240429T141952Z
LAST-MODIFIED:20240429T141952Z
UID:10000305-1718440200-1718461800@www.southmetrofoundation.org
SUMMARY:Teen Crash Avoidance Class - 6/15/2024
DESCRIPTION:
URL:https://www.southmetrofoundation.org/event/teen-crash-avoidance-class-6-15-2024/
LOCATION:South Metro Fire Training Center\, 17801 E. Plaza Dr.\, Parker\, CO\, 80134\, United States
CATEGORIES:Teen Crash Avoidance Calendar
END:VEVENT
BEGIN:VEVENT
DTSTART;TZID=America/Denver:20240525T083000
DTEND;TZID=America/Denver:20240525T143000
DTSTAMP:20260423T225242
CREATED:20240312T175134Z
LAST-MODIFIED:20240426T034835Z
UID:10000286-1716625800-1716647400@www.southmetrofoundation.org
SUMMARY:Teen Crash Avoidance Class - 5/25/2024
DESCRIPTION:
URL:https://www.southmetrofoundation.org/event/teen-crash-avoidance-class-5-04-2024/
LOCATION:South Metro Fire Training Center\, 17801 E. Plaza Dr.\, Parker\, CO\, 80134\, United States
CATEGORIES:Teen Crash Avoidance Calendar
END:VEVENT
BEGIN:VEVENT
DTSTART;TZID=America/Denver:20240504T083000
DTEND;TZID=America/Denver:20240504T143000
DTSTAMP:20260423T225242
CREATED:20240312T175957Z
LAST-MODIFIED:20240425T010541Z
UID:10000287-1714811400-1714833000@www.southmetrofoundation.org
SUMMARY:Teen Crash Avoidance Class - 5/04/2024
DESCRIPTION:
URL:https://www.southmetrofoundation.org/event/teen-crash-avoidance-class-5-04-2024-2/
LOCATION:South Metro Fire Training Center\, 17801 E. Plaza Dr.\, Parker\, CO\, 80134\, United States
CATEGORIES:Teen Crash Avoidance Calendar
END:VEVENT
BEGIN:VEVENT
DTSTART;TZID=America/Denver:20240427T083000
DTEND;TZID=America/Denver:20240427T143000
DTSTAMP:20260423T225242
CREATED:20240312T174501Z
LAST-MODIFIED:20240424T164118Z
UID:10000285-1714206600-1714228200@www.southmetrofoundation.org
SUMMARY:Teen Crash Avoidance Class - 4/27/2024
DESCRIPTION:
URL:https://www.southmetrofoundation.org/event/teen-crash-avoidance-class-4-27-2024/
LOCATION:South Metro Fire Training Center\, 17801 E. Plaza Dr.\, Parker\, CO\, 80134\, United States
CATEGORIES:Teen Crash Avoidance Calendar
END:VEVENT
BEGIN:VEVENT
DTSTART;TZID=America/Denver:20240420T083000
DTEND;TZID=America/Denver:20240420T143000
DTSTAMP:20260423T225242
CREATED:20240312T174223Z
LAST-MODIFIED:20240312T174223Z
UID:10000284-1713601800-1713623400@www.southmetrofoundation.org
SUMMARY:Teen Crash Avoidance Class - 4/20/2024
DESCRIPTION:
URL:https://www.southmetrofoundation.org/event/teen-crash-avoidance-class-4-20-2024/
LOCATION:South Metro Fire Training Center\, 17801 E. Plaza Dr.\, Parker\, CO\, 80134\, United States
CATEGORIES:Teen Crash Avoidance Calendar
END:VEVENT
BEGIN:VEVENT
DTSTART;TZID=America/Denver:20240323T083000
DTEND;TZID=America/Denver:20240323T143000
DTSTAMP:20260423T225242
CREATED:20240213T161932Z
LAST-MODIFIED:20240304T170138Z
UID:10000264-1711182600-1711204200@www.southmetrofoundation.org
SUMMARY:Teen Crash Avoidance Class - 3/23/2024
DESCRIPTION:
URL:https://www.southmetrofoundation.org/event/teen-crash-avoidance-class-3-23-2024/
LOCATION:South Metro Fire Training Center\, 17801 E. Plaza Dr.\, Parker\, CO\, 80134\, United States
CATEGORIES:Teen Crash Avoidance Calendar
END:VEVENT
BEGIN:VEVENT
DTSTART;TZID=America/Denver:20240309T083000
DTEND;TZID=America/Denver:20240309T143000
DTSTAMP:20260423T225242
CREATED:20240213T161620Z
LAST-MODIFIED:20240304T165820Z
UID:10000263-1709973000-1709994600@www.southmetrofoundation.org
SUMMARY:Teen Crash Avoidance Class - 3/09/2024
DESCRIPTION:
URL:https://www.southmetrofoundation.org/event/teen-crash-avoidance-class-3-09-2024/
LOCATION:South Metro Fire Training Center\, 17801 E. Plaza Dr.\, Parker\, CO\, 80134\, United States
CATEGORIES:Teen Crash Avoidance Calendar
END:VEVENT
BEGIN:VEVENT
DTSTART;TZID=America/Denver:20240224T083000
DTEND;TZID=America/Denver:20240224T143000
DTSTAMP:20260423T225242
CREATED:20240108T190459Z
LAST-MODIFIED:20240213T162102Z
UID:10000250-1708763400-1708785000@www.southmetrofoundation.org
SUMMARY:Teen Crash Avoidance Class - 2/24/2024
DESCRIPTION:
URL:https://www.southmetrofoundation.org/event/teen-crash-avoidance-class-2-24-2024/
LOCATION:South Metro Fire Training Center\, 17801 E. Plaza Dr.\, Parker\, CO\, 80134\, United States
CATEGORIES:Teen Crash Avoidance Calendar
END:VEVENT
BEGIN:VEVENT
DTSTART;TZID=America/Denver:20240210T083000
DTEND;TZID=America/Denver:20240210T143000
DTSTAMP:20260423T225242
CREATED:20240108T190059Z
LAST-MODIFIED:20240130T170843Z
UID:10000249-1707553800-1707575400@www.southmetrofoundation.org
SUMMARY:Teen Crash Avoidance Class - 2/10/2024
DESCRIPTION:
URL:https://www.southmetrofoundation.org/event/teen-crash-avoidance-class-2-10-2024/
LOCATION:South Metro Fire Training Center\, 17801 E. Plaza Dr.\, Parker\, CO\, 80134\, United States
CATEGORIES:Teen Crash Avoidance Calendar
END:VEVENT
BEGIN:VEVENT
DTSTART;TZID=America/Denver:20240127T083000
DTEND;TZID=America/Denver:20240127T143000
DTSTAMP:20260423T225242
CREATED:20231206T205401Z
LAST-MODIFIED:20231206T205929Z
UID:10000238-1706344200-1706365800@www.southmetrofoundation.org
SUMMARY:Teen Crash Avoidance Class - 1/27/2024
DESCRIPTION:
URL:https://www.southmetrofoundation.org/event/teen-crash-avoidance-class-1-27-2023/
LOCATION:South Metro Fire Training Center\, 17801 E. Plaza Dr.\, Parker\, CO\, 80134\, United States
CATEGORIES:Teen Crash Avoidance Calendar
END:VEVENT
BEGIN:VEVENT
DTSTART;TZID=America/Denver:20240113T083000
DTEND;TZID=America/Denver:20240113T143000
DTSTAMP:20260423T225242
CREATED:20231206T205038Z
LAST-MODIFIED:20231206T210028Z
UID:10000237-1705134600-1705156200@www.southmetrofoundation.org
SUMMARY:Teen Crash Avoidance Class - 1/13/2024
DESCRIPTION:
URL:https://www.southmetrofoundation.org/event/teen-crash-avoidance-class-1-13-2023/
LOCATION:South Metro Fire Training Center\, 17801 E. Plaza Dr.\, Parker\, CO\, 80134\, United States
CATEGORIES:Teen Crash Avoidance Calendar
END:VEVENT
BEGIN:VEVENT
DTSTART;TZID=America/Denver:20231216T083000
DTEND;TZID=America/Denver:20231216T143000
DTSTAMP:20260423T225242
CREATED:20231010T200156Z
LAST-MODIFIED:20231010T200156Z
UID:10000216-1702715400-1702737000@www.southmetrofoundation.org
SUMMARY:Teen Crash Avoidance Class - 12/16/2023
DESCRIPTION:
URL:https://www.southmetrofoundation.org/event/teen-crash-avoidance-class-12-16-2023/
LOCATION:South Metro Fire Training Center\, 17801 E. Plaza Dr.\, Parker\, CO\, 80134\, United States
CATEGORIES:Teen Crash Avoidance Calendar
END:VEVENT
BEGIN:VEVENT
DTSTART;TZID=America/Denver:20231202T083000
DTEND;TZID=America/Denver:20231202T143000
DTSTAMP:20260423T225242
CREATED:20231010T195744Z
LAST-MODIFIED:20231129T002025Z
UID:10000215-1701505800-1701527400@www.southmetrofoundation.org
SUMMARY:Teen Crash Avoidance Class - 12/02/2023
DESCRIPTION:
URL:https://www.southmetrofoundation.org/event/teen-crash-avoidance-class-12-02-2023/
LOCATION:South Metro Fire Training Center\, 17801 E. Plaza Dr.\, Parker\, CO\, 80134\, United States
CATEGORIES:Teen Crash Avoidance Calendar
END:VEVENT
BEGIN:VEVENT
DTSTART;TZID=America/Denver:20231118T090000
DTEND;TZID=America/Denver:20231118T130000
DTSTAMP:20260423T225242
CREATED:20231010T195223Z
LAST-MODIFIED:20231024T181053Z
UID:10000214-1700298000-1700312400@www.southmetrofoundation.org
SUMMARY:Adult Driving Class - 11/18/2023
DESCRIPTION:
URL:https://www.southmetrofoundation.org/event/teen-crash-avoidance-class-11-18-2023/
LOCATION:South Metro Fire Training Center\, 17801 E. Plaza Dr.\, Parker\, CO\, 80134\, United States
CATEGORIES:Adult Driving
END:VEVENT
BEGIN:VEVENT
DTSTART;TZID=America/Denver:20231111T083000
DTEND;TZID=America/Denver:20231111T143000
DTSTAMP:20260423T225242
CREATED:20231010T194836Z
LAST-MODIFIED:20231010T194836Z
UID:10000213-1699691400-1699713000@www.southmetrofoundation.org
SUMMARY:Teen Crash Avoidance Class - 11/11/2023
DESCRIPTION:
URL:https://www.southmetrofoundation.org/event/teen-crash-avoidance-class-11-11-2023/
LOCATION:South Metro Fire Training Center\, 17801 E. Plaza Dr.\, Parker\, CO\, 80134\, United States
CATEGORIES:Teen Crash Avoidance Calendar
END:VEVENT
BEGIN:VEVENT
DTSTART;TZID=America/Denver:20231021T083000
DTEND;TZID=America/Denver:20231021T143000
DTSTAMP:20260423T225242
CREATED:20230912T192611Z
LAST-MODIFIED:20230912T192611Z
UID:10000206-1697877000-1697898600@www.southmetrofoundation.org
SUMMARY:Teen Crash Avoidance Class - 10/21/2023
DESCRIPTION:
URL:https://www.southmetrofoundation.org/event/teen-crash-avoidance-class-10-21-2023/
LOCATION:South Metro Fire Training Center\, 17801 E. Plaza Dr.\, Parker\, CO\, 80134\, United States
CATEGORIES:Teen Crash Avoidance Calendar
END:VEVENT
BEGIN:VEVENT
DTSTART;TZID=America/Denver:20231014T083000
DTEND;TZID=America/Denver:20231014T143000
DTSTAMP:20260423T225242
CREATED:20230912T192136Z
LAST-MODIFIED:20230912T192136Z
UID:10000205-1697272200-1697293800@www.southmetrofoundation.org
SUMMARY:Teen Crash Avoidance Class - 10/14/2023
DESCRIPTION:
URL:https://www.southmetrofoundation.org/event/teen-crash-avoidance-class-10-14-2023/
LOCATION:South Metro Fire Training Center\, 17801 E. Plaza Dr.\, Parker\, CO\, 80134\, United States
CATEGORIES:Teen Crash Avoidance Calendar
END:VEVENT
BEGIN:VEVENT
DTSTART;TZID=America/Denver:20230923T083000
DTEND;TZID=America/Denver:20230923T143000
DTSTAMP:20260423T225242
CREATED:20230726T211736Z
LAST-MODIFIED:20230727T211659Z
UID:10000190-1695457800-1695479400@www.southmetrofoundation.org
SUMMARY:Teen Crash Avoidance Class - 09/23/2023
DESCRIPTION:
URL:https://www.southmetrofoundation.org/event/teen-crash-avoidance-class-09-23-2023/
LOCATION:South Metro Fire Training Center\, 17801 E. Plaza Dr.\, Parker\, CO\, 80134\, United States
CATEGORIES:Teen Crash Avoidance Calendar
END:VEVENT
BEGIN:VEVENT
DTSTART;TZID=America/Denver:20230909T083000
DTEND;TZID=America/Denver:20230909T143000
DTSTAMP:20260423T225242
CREATED:20230726T211238Z
LAST-MODIFIED:20230909T235629Z
UID:10000189-1694248200-1694269800@www.southmetrofoundation.org
SUMMARY:Teen Crash Avoidance Class - 09/9/2023
DESCRIPTION:
URL:https://www.southmetrofoundation.org/event/teen-crash-avoidance-class-09-9-2023/
LOCATION:South Metro Fire Training Center\, 17801 E. Plaza Dr.\, Parker\, CO\, 80134\, United States
CATEGORIES:Teen Crash Avoidance Calendar
END:VEVENT
BEGIN:VEVENT
DTSTART;TZID=America/Denver:20230827T090000
DTEND;TZID=America/Denver:20230827T130000
DTSTAMP:20260423T225242
CREATED:20230801T230807Z
LAST-MODIFIED:20230801T230807Z
UID:10000191-1693126800-1693141200@www.southmetrofoundation.org
SUMMARY:Driver Awareness Class - 08/27/23
DESCRIPTION:
URL:https://www.southmetrofoundation.org/event/driver-awareness-class-08-27-23/
LOCATION:South Metro Fire Training Center\, 17801 E. Plaza Dr.\, Parker\, CO\, 80134\, United States
CATEGORIES:Driver Awareness Class
ATTACH;FMTTYPE=image/jpeg:https://www.southmetrofoundation.org/wp-content/uploads/2022/02/DAP2018-6.jpg
END:VEVENT
BEGIN:VEVENT
DTSTART;TZID=America/Denver:20230826T083000
DTEND;TZID=America/Denver:20230826T143000
DTSTAMP:20260423T225242
CREATED:20230404T173040Z
LAST-MODIFIED:20230703T161329Z
UID:10000023-1693038600-1693060200@www.southmetrofoundation.org
SUMMARY:Teen Crash Avoidance Class - 08/26/2023
DESCRIPTION:
URL:https://www.southmetrofoundation.org/event/teen-crash-avoidance-class-08-26-2023/
LOCATION:South Metro Fire Training Center\, 17801 E. Plaza Dr.\, Parker\, CO\, 80134\, United States
CATEGORIES:Teen Crash Avoidance Calendar
END:VEVENT
BEGIN:VEVENT
DTSTART;TZID=America/Denver:20230729T083000
DTEND;TZID=America/Denver:20230729T143000
DTSTAMP:20260423T225242
CREATED:20230404T172303Z
LAST-MODIFIED:20230404T173608Z
UID:10000143-1690619400-1690641000@www.southmetrofoundation.org
SUMMARY:Teen Crash Avoidance Class - 07/29/2023
DESCRIPTION:
URL:https://www.southmetrofoundation.org/event/teen-crash-avoidance-class-07-29-2023/
LOCATION:South Metro Fire Training Center\, 17801 E. Plaza Dr.\, Parker\, CO\, 80134\, United States
CATEGORIES:Teen Crash Avoidance Calendar
END:VEVENT
BEGIN:VEVENT
DTSTART;TZID=America/Denver:20230715T083000
DTEND;TZID=America/Denver:20230715T143000
DTSTAMP:20260423T225242
CREATED:20230404T171924Z
LAST-MODIFIED:20230404T171924Z
UID:10000142-1689409800-1689431400@www.southmetrofoundation.org
SUMMARY:Teen Crash Avoidance Class - 07/15/2023
DESCRIPTION:
URL:https://www.southmetrofoundation.org/event/teen-crash-avoidance-class-07-15-2023/
LOCATION:South Metro Fire Training Center\, 17801 E. Plaza Dr.\, Parker\, CO\, 80134\, United States
CATEGORIES:Teen Crash Avoidance Calendar
END:VEVENT
BEGIN:VEVENT
DTSTART;TZID=America/Denver:20230624T083000
DTEND;TZID=America/Denver:20230624T143000
DTSTAMP:20260423T225242
CREATED:20230404T171408Z
LAST-MODIFIED:20230404T171408Z
UID:10000141-1687595400-1687617000@www.southmetrofoundation.org
SUMMARY:Teen Crash Avoidance Class - 06/24/2023
DESCRIPTION:
URL:https://www.southmetrofoundation.org/event/teen-crash-avoidance-class-06-24-2023/
LOCATION:South Metro Fire Training Center\, 17801 E. Plaza Dr.\, Parker\, CO\, 80134\, United States
CATEGORIES:Teen Crash Avoidance Calendar
END:VEVENT
BEGIN:VEVENT
DTSTART;TZID=America/Denver:20230610T083000
DTEND;TZID=America/Denver:20230610T143000
DTSTAMP:20260423T225242
CREATED:20230404T170726Z
LAST-MODIFIED:20230404T171007Z
UID:10000140-1686385800-1686407400@www.southmetrofoundation.org
SUMMARY:Teen Crash Avoidance Class - 06/10/2023
DESCRIPTION:
URL:https://www.southmetrofoundation.org/event/teen-crash-avoidance-class-06-10-2023/
LOCATION:South Metro Fire Training Center\, 17801 E. Plaza Dr.\, Parker\, CO\, 80134\, United States
CATEGORIES:Teen Crash Avoidance Calendar
END:VEVENT
BEGIN:VEVENT
DTSTART;TZID=America/Denver:20230527T083000
DTEND;TZID=America/Denver:20230527T143000
DTSTAMP:20260423T225242
CREATED:20230404T170303Z
LAST-MODIFIED:20230404T170303Z
UID:10000139-1685176200-1685197800@www.southmetrofoundation.org
SUMMARY:Teen Crash Avoidance Class - 05/27/2023
DESCRIPTION:
URL:https://www.southmetrofoundation.org/event/teen-crash-avoidance-class-05-27-2023/
LOCATION:South Metro Fire Training Center\, 17801 E. Plaza Dr.\, Parker\, CO\, 80134\, United States
CATEGORIES:Teen Crash Avoidance Calendar
END:VEVENT
END:VCALENDAR