BEGIN:VCALENDAR
VERSION:2.0
PRODID:-//South Metro Safety Foundation - ECPv6.15.20//NONSGML v1.0//EN
CALSCALE:GREGORIAN
METHOD:PUBLISH
X-ORIGINAL-URL:https://www.southmetrofoundation.org
X-WR-CALDESC:Events for South Metro Safety Foundation
REFRESH-INTERVAL;VALUE=DURATION:PT1H
X-Robots-Tag:noindex
X-PUBLISHED-TTL:PT1H
BEGIN:VTIMEZONE
TZID:America/Denver
BEGIN:DAYLIGHT
TZOFFSETFROM:-0700
TZOFFSETTO:-0600
TZNAME:MDT
DTSTART:20210314T090000
END:DAYLIGHT
BEGIN:STANDARD
TZOFFSETFROM:-0600
TZOFFSETTO:-0700
TZNAME:MST
DTSTART:20211107T080000
END:STANDARD
BEGIN:DAYLIGHT
TZOFFSETFROM:-0700
TZOFFSETTO:-0600
TZNAME:MDT
DTSTART:20220313T090000
END:DAYLIGHT
BEGIN:STANDARD
TZOFFSETFROM:-0600
TZOFFSETTO:-0700
TZNAME:MST
DTSTART:20221106T080000
END:STANDARD
BEGIN:DAYLIGHT
TZOFFSETFROM:-0700
TZOFFSETTO:-0600
TZNAME:MDT
DTSTART:20230312T090000
END:DAYLIGHT
BEGIN:STANDARD
TZOFFSETFROM:-0600
TZOFFSETTO:-0700
TZNAME:MST
DTSTART:20231105T080000
END:STANDARD
BEGIN:DAYLIGHT
TZOFFSETFROM:-0700
TZOFFSETTO:-0600
TZNAME:MDT
DTSTART:20240310T090000
END:DAYLIGHT
BEGIN:STANDARD
TZOFFSETFROM:-0600
TZOFFSETTO:-0700
TZNAME:MST
DTSTART:20241103T080000
END:STANDARD
END:VTIMEZONE
BEGIN:VEVENT
DTSTART;TZID=America/Denver:20230219T090000
DTEND;TZID=America/Denver:20230219T130000
DTSTAMP:20260424T040306
CREATED:20230126T203240Z
LAST-MODIFIED:20230126T203240Z
UID:10000121-1676797200-1676811600@www.southmetrofoundation.org
SUMMARY:Adult Driving Class
DESCRIPTION:
URL:https://www.southmetrofoundation.org/event/adult-driving-class-3/
LOCATION:South Metro Fire Training Center\, 17801 E. Plaza Dr.\, Parker\, CO\, 80134\, United States
CATEGORIES:Adult Driving
ATTACH;FMTTYPE=image/jpeg:https://www.southmetrofoundation.org/wp-content/uploads/2021/11/Driving-Classes.jpg
END:VEVENT
BEGIN:VEVENT
DTSTART;TZID=America/Denver:20230211T090000
DTEND;TZID=America/Denver:20230211T143000
DTSTAMP:20260424T040306
CREATED:20230105T153231Z
LAST-MODIFIED:20230109T180733Z
UID:10000113-1676106000-1676125800@www.southmetrofoundation.org
SUMMARY:Teen Crash Avoidance Class
DESCRIPTION:
URL:https://www.southmetrofoundation.org/event/teen-crash-avoidance-class-14/
LOCATION:South Metro Fire Training Center\, 17801 E. Plaza Dr.\, Parker\, CO\, 80134\, United States
CATEGORIES:Teen Crash Avoidance Calendar
END:VEVENT
BEGIN:VEVENT
DTSTART;TZID=America/Denver:20230128T083000
DTEND;TZID=America/Denver:20230128T143000
DTSTAMP:20260424T040306
CREATED:20221201T181033Z
LAST-MODIFIED:20221201T181033Z
UID:10000093-1674894600-1674916200@www.southmetrofoundation.org
SUMMARY:Teen Crash Avoidance Class
DESCRIPTION:
URL:https://www.southmetrofoundation.org/event/teen-crash-avoidance-class-13/
LOCATION:South Metro Fire Training Center\, 17801 E. Plaza Dr.\, Parker\, CO\, 80134\, United States
CATEGORIES:Teen Crash Avoidance Calendar
END:VEVENT
BEGIN:VEVENT
DTSTART;TZID=America/Denver:20230114T083000
DTEND;TZID=America/Denver:20230114T143000
DTSTAMP:20260424T040306
CREATED:20221201T180655Z
LAST-MODIFIED:20221201T180655Z
UID:10000092-1673685000-1673706600@www.southmetrofoundation.org
SUMMARY:Teen Crash Avoidance Class
DESCRIPTION:
URL:https://www.southmetrofoundation.org/event/teen-crash-avoidance-class-12/
LOCATION:South Metro Fire Training Center\, 17801 E. Plaza Dr.\, Parker\, CO\, 80134\, United States
CATEGORIES:Teen Crash Avoidance Calendar
END:VEVENT
BEGIN:VEVENT
DTSTART;TZID=America/Denver:20221217T083000
DTEND;TZID=America/Denver:20221217T143000
DTSTAMP:20260424T040306
CREATED:20220908T194728Z
LAST-MODIFIED:20221216T183515Z
UID:10000072-1671265800-1671287400@www.southmetrofoundation.org
SUMMARY:Teen Crash Avoidance Class - 12/17/22
DESCRIPTION:
URL:https://www.southmetrofoundation.org/event/teen-crash-avoidance-class-11/
LOCATION:South Metro Fire Training Center\, 17801 E. Plaza Dr.\, Parker\, CO\, 80134\, United States
CATEGORIES:Teen Crash Avoidance Calendar
END:VEVENT
BEGIN:VEVENT
DTSTART;TZID=America/Denver:20221203T083000
DTEND;TZID=America/Denver:20221203T143000
DTSTAMP:20260424T040306
CREATED:20220908T194415Z
LAST-MODIFIED:20220908T194415Z
UID:10000071-1670056200-1670077800@www.southmetrofoundation.org
SUMMARY:Teen Crash Avoidance Class
DESCRIPTION:
URL:https://www.southmetrofoundation.org/event/teen-crash-avoidance-class-10/
LOCATION:South Metro Fire Training Center\, 17801 E. Plaza Dr.\, Parker\, CO\, 80134\, United States
CATEGORIES:Teen Crash Avoidance Calendar
END:VEVENT
BEGIN:VEVENT
DTSTART;TZID=America/Denver:20221119T083000
DTEND;TZID=America/Denver:20221119T143000
DTSTAMP:20260424T040306
CREATED:20220908T194204Z
LAST-MODIFIED:20220908T194204Z
UID:10000070-1668846600-1668868200@www.southmetrofoundation.org
SUMMARY:Teen Crash Avoidance Class
DESCRIPTION:
URL:https://www.southmetrofoundation.org/event/teen-crash-avoidance-class-9/
LOCATION:South Metro Fire Training Center\, 17801 E. Plaza Dr.\, Parker\, CO\, 80134\, United States
CATEGORIES:Teen Crash Avoidance Calendar
END:VEVENT
BEGIN:VEVENT
DTSTART;TZID=America/Denver:20221112T083000
DTEND;TZID=America/Denver:20221112T143000
DTSTAMP:20260424T040306
CREATED:20220908T193956Z
LAST-MODIFIED:20220908T193956Z
UID:10000069-1668241800-1668263400@www.southmetrofoundation.org
SUMMARY:Teen Crash Avoidance Class
DESCRIPTION:
URL:https://www.southmetrofoundation.org/event/teen-crash-avoidance-class-8/
LOCATION:South Metro Fire Training Center\, 17801 E. Plaza Dr.\, Parker\, CO\, 80134\, United States
CATEGORIES:Teen Crash Avoidance Calendar
END:VEVENT
BEGIN:VEVENT
DTSTART;TZID=America/Denver:20221030T080000
DTEND;TZID=America/Denver:20221030T120000
DTSTAMP:20260424T040306
CREATED:20221019T174643Z
LAST-MODIFIED:20221019T190201Z
UID:10000016-1667116800-1667131200@www.southmetrofoundation.org
SUMMARY:Adult Driving Class
DESCRIPTION:
URL:https://www.southmetrofoundation.org/event/adult-driving-class-2/
LOCATION:South Metro Fire Training Center\, 17801 E. Plaza Dr.\, Parker\, CO\, 80134\, United States
CATEGORIES:Adult Driving
END:VEVENT
BEGIN:VEVENT
DTSTART;TZID=America/Denver:20221029T083000
DTEND;TZID=America/Denver:20221029T143000
DTSTAMP:20260424T040306
CREATED:20220908T193621Z
LAST-MODIFIED:20220908T193700Z
UID:10000068-1667032200-1667053800@www.southmetrofoundation.org
SUMMARY:Teen Crash Avoidance Class
DESCRIPTION:
URL:https://www.southmetrofoundation.org/event/teen-crash-avoidance-class-7/
LOCATION:South Metro Fire Training Center\, 17801 E. Plaza Dr.\, Parker\, CO\, 80134\, United States
CATEGORIES:Teen Crash Avoidance Calendar
END:VEVENT
BEGIN:VEVENT
DTSTART;TZID=America/Denver:20221015T090000
DTEND;TZID=America/Denver:20221015T130000
DTSTAMP:20260424T040306
CREATED:20220908T200943Z
LAST-MODIFIED:20220908T200943Z
UID:10000073-1665824400-1665838800@www.southmetrofoundation.org
SUMMARY:Adult Driving Class
DESCRIPTION:
URL:https://www.southmetrofoundation.org/event/adult-driving-class/
LOCATION:South Metro Fire Training Center\, 17801 E. Plaza Dr.\, Parker\, CO\, 80134\, United States
CATEGORIES:Adult Driving
END:VEVENT
BEGIN:VEVENT
DTSTART;TZID=America/Denver:20221008T083000
DTEND;TZID=America/Denver:20221008T143000
DTSTAMP:20260424T040306
CREATED:20220908T185501Z
LAST-MODIFIED:20220908T185501Z
UID:10000067-1665217800-1665239400@www.southmetrofoundation.org
SUMMARY:Teen Crash Avoidance Class
DESCRIPTION:
URL:https://www.southmetrofoundation.org/event/teen-crash-avoidance-class-6/
LOCATION:South Metro Fire Training Center\, 17801 E. Plaza Dr.\, Parker\, CO\, 80134\, United States
CATEGORIES:Teen Crash Avoidance Calendar
END:VEVENT
BEGIN:VEVENT
DTSTART;TZID=America/Denver:20220924T083000
DTEND;TZID=America/Denver:20220924T143000
DTSTAMP:20260424T040306
CREATED:20220803T160911Z
LAST-MODIFIED:20220803T160911Z
UID:10000053-1664008200-1664029800@www.southmetrofoundation.org
SUMMARY:Teen Crash Avoidance Class
DESCRIPTION:
URL:https://www.southmetrofoundation.org/event/teen-crash-avoidance-class-5/
LOCATION:South Metro Fire Training Center\, 17801 E. Plaza Dr.\, Parker\, CO\, 80134\, United States
CATEGORIES:Teen Crash Avoidance Calendar
END:VEVENT
BEGIN:VEVENT
DTSTART;TZID=America/Denver:20220903T083000
DTEND;TZID=America/Denver:20220903T143000
DTSTAMP:20260424T040306
CREATED:20220803T160511Z
LAST-MODIFIED:20220831T164848Z
UID:10000050-1662193800-1662215400@www.southmetrofoundation.org
SUMMARY:Teen Crash Avoidance Class
DESCRIPTION:
URL:https://www.southmetrofoundation.org/event/teen-crash-avoidance-class-4/
LOCATION:South Metro Fire Training Center\, 17801 E. Plaza Dr.\, Parker\, CO\, 80134\, United States
CATEGORIES:Teen Crash Avoidance Calendar
END:VEVENT
BEGIN:VEVENT
DTSTART;TZID=America/Denver:20220827T083000
DTEND;TZID=America/Denver:20220827T143000
DTSTAMP:20260424T040306
CREATED:20220803T153732Z
LAST-MODIFIED:20220824T185146Z
UID:10000048-1661589000-1661610600@www.southmetrofoundation.org
SUMMARY:Teen Crash Avoidance Class
DESCRIPTION:
URL:https://www.southmetrofoundation.org/event/teen-crash-avoidance-class-3/
LOCATION:South Metro Fire Training Center\, 17801 E. Plaza Dr.\, Parker\, CO\, 80134\, United States
CATEGORIES:Teen Crash Avoidance Calendar
END:VEVENT
BEGIN:VEVENT
DTSTART;TZID=America/Denver:20220820T083000
DTEND;TZID=America/Denver:20220820T143000
DTSTAMP:20260424T040306
CREATED:20220726T091600Z
LAST-MODIFIED:20220729T011812Z
UID:10000036-1660984200-1661005800@www.southmetrofoundation.org
SUMMARY:Teen Crash Avoidance Class
DESCRIPTION:
URL:https://www.southmetrofoundation.org/event/teen-crash-avoidance-class-2/
LOCATION:South Metro Fire Training Center\, 17801 E. Plaza Dr.\, Parker\, CO\, 80134\, United States
CATEGORIES:Teen Crash Avoidance Calendar
END:VEVENT
BEGIN:VEVENT
DTSTART;TZID=America/Denver:20220806T023000
DTEND;TZID=America/Denver:20220806T083000
DTSTAMP:20260424T040306
CREATED:20220726T085827Z
LAST-MODIFIED:20220729T222049Z
UID:10000035-1659753000-1659774600@www.southmetrofoundation.org
SUMMARY:Teen Crash Avoidance Class
DESCRIPTION:
URL:https://www.southmetrofoundation.org/event/teen-crash-avoidance-class/
LOCATION:South Metro Fire Training Center\, 17801 E. Plaza Dr.\, Parker\, CO\, 80134\, United States
CATEGORIES:Teen Crash Avoidance Calendar
END:VEVENT
END:VCALENDAR